BEGIN:VCALENDAR
VERSION:2.0
PRODID:-//Merrimack Valley Massachusetts - ECPv6.15.13//NONSGML v1.0//EN
CALSCALE:GREGORIAN
METHOD:PUBLISH
X-ORIGINAL-URL:https://legacy.merrimackvalley.org
X-WR-CALDESC:Events for Merrimack Valley Massachusetts
REFRESH-INTERVAL;VALUE=DURATION:PT1H
X-Robots-Tag:noindex
X-PUBLISHED-TTL:PT1H
BEGIN:VTIMEZONE
TZID:America/New_York
BEGIN:DAYLIGHT
TZOFFSETFROM:-0500
TZOFFSETTO:-0400
TZNAME:EDT
DTSTART:20210314T070000
END:DAYLIGHT
BEGIN:STANDARD
TZOFFSETFROM:-0400
TZOFFSETTO:-0500
TZNAME:EST
DTSTART:20211107T060000
END:STANDARD
BEGIN:DAYLIGHT
TZOFFSETFROM:-0500
TZOFFSETTO:-0400
TZNAME:EDT
DTSTART:20220313T070000
END:DAYLIGHT
BEGIN:STANDARD
TZOFFSETFROM:-0400
TZOFFSETTO:-0500
TZNAME:EST
DTSTART:20221106T060000
END:STANDARD
BEGIN:DAYLIGHT
TZOFFSETFROM:-0500
TZOFFSETTO:-0400
TZNAME:EDT
DTSTART:20230312T070000
END:DAYLIGHT
BEGIN:STANDARD
TZOFFSETFROM:-0400
TZOFFSETTO:-0500
TZNAME:EST
DTSTART:20231105T060000
END:STANDARD
BEGIN:DAYLIGHT
TZOFFSETFROM:-0500
TZOFFSETTO:-0400
TZNAME:EDT
DTSTART:20240310T070000
END:DAYLIGHT
BEGIN:STANDARD
TZOFFSETFROM:-0400
TZOFFSETTO:-0500
TZNAME:EST
DTSTART:20241103T060000
END:STANDARD
BEGIN:DAYLIGHT
TZOFFSETFROM:-0500
TZOFFSETTO:-0400
TZNAME:EDT
DTSTART:20250309T070000
END:DAYLIGHT
BEGIN:STANDARD
TZOFFSETFROM:-0400
TZOFFSETTO:-0500
TZNAME:EST
DTSTART:20251102T060000
END:STANDARD
END:VTIMEZONE
BEGIN:VEVENT
DTSTART;TZID=America/New_York:20240421T190000
DTEND;TZID=America/New_York:20240421T203000
DTSTAMP:20260415T052017
CREATED:20240403T124512Z
LAST-MODIFIED:20240403T124512Z
UID:10053166-1713726000-1713731400@legacy.merrimackvalley.org
SUMMARY:Common Ground film showing at Luna Theater
DESCRIPTION:A hopeful and uplifting story of the pioneers of the “Regenerative Movement” who produce tremendous quantities of nutritionally dense food and are working to balance the climate – all while bringing our entire ecosystem back to life. The film explores how Americans from different walks of life\, different political backgrounds\, and different parts of the country share one thing in common –the very soil beneath their feet. The film investigates the power of “regenerative” farming systems –from large to small-scale farmers who are the champions of soil health as the key to unlocking more (and healthier) food to feed America and the world. \nCast includes Laura Dern\, Rosario Dawson\, Jason Mamoa\, Woody Harrelson\, Ian Somerhalder\, and Donald Glover. \nTickets: $14 for Premium seating\, $12 for Students/Seniors\, $10 for Barstool seating Tickets on sale: https://lunalowell.com/movies/common-ground/ \nSponsored by 350 of Greater Lowell. Panel discussion to follow film. \n“FASCINATING.” – RogerEbert.com\n“AIMS TO SPARK A CULTURAL AND POLITICAL MOVEMENT.” – Forbes\n“THE KEY TO SAVING OUR PLANET MAY BE IN THE SOIL.” – Film Inquiry\n“NEEDS TO BE SEEN BY EVERYONE.” – Digital Journal \nYouTube Trailer: https://youtu.be/6-M4Hq0MKFA?si=HNW7Q99Mfu1HUrJz
URL:https://legacy.merrimackvalley.org/event/common-ground-film-showing-at-luna-theater/
LOCATION:The Luna Theater\, The Luna Theater\, Mill No 5\, 250 Jackson St 4th floor\, No. 490\, Lowell\, MA\, 01852\, United States
CATEGORIES:Agricultural,Talks and Film
ATTACH;FMTTYPE=image/jpeg:https://legacy.merrimackvalley.org/wp-content/uploads/2024/04/Common-Ground-Film-Theatrical-Poster.jpg
GEO:42.6412734;-71.3127928
X-APPLE-STRUCTURED-LOCATION;VALUE=URI;X-ADDRESS=The Luna Theater The Luna Theater Mill No 5 250 Jackson St 4th floor No. 490 Lowell MA 01852 United States;X-APPLE-RADIUS=500;X-TITLE=The Luna Theater\, Mill No 5\, 250 Jackson St 4th floor\, No. 490:geo:-71.3127928,42.6412734
END:VEVENT
BEGIN:VEVENT
DTSTART;VALUE=DATE:20220319
DTEND;VALUE=DATE:20220320
DTSTAMP:20260415T052017
CREATED:20220120T190859Z
LAST-MODIFIED:20220120T190859Z
UID:10025585-1647648000-1647734399@legacy.merrimackvalley.org
SUMMARY:An Evening with David Amram
DESCRIPTION:Acclaimed composer and jazzman David Amram–now in his 92nd year–will reflect on his days with Kerouac as he recounts them in his book ‘Offbeat: Collaborating with Kerouac.’ He will also show the film ‘Pull My Daisy\,’ in which David appears and Jack Kerouac narrates.
URL:https://legacy.merrimackvalley.org/event/an-evening-with-david-amram/
LOCATION:The Luna Theater\, The Luna Theater\, Mill No 5\, 250 Jackson St 4th floor\, No. 490\, Lowell\, MA\, 01852\, United States
GEO:42.6412734;-71.3127928
X-APPLE-STRUCTURED-LOCATION;VALUE=URI;X-ADDRESS=The Luna Theater The Luna Theater Mill No 5 250 Jackson St 4th floor No. 490 Lowell MA 01852 United States;X-APPLE-RADIUS=500;X-TITLE=The Luna Theater\, Mill No 5\, 250 Jackson St 4th floor\, No. 490:geo:-71.3127928,42.6412734
END:VEVENT
BEGIN:VEVENT
DTSTART;TZID=America/New_York:20220313T140000
DTEND;TZID=America/New_York:20220313T140000
DTSTAMP:20260415T052017
CREATED:20220120T190009Z
LAST-MODIFIED:20220120T190009Z
UID:10025540-1647180000-1647180000@legacy.merrimackvalley.org
SUMMARY:Jack Kerouac’s Road – A Franco-American Odyssey
DESCRIPTION:Jack Kerouac’s Road – A Franco-American Odyssey film screening. \nPart documentary\, part drama\, this 1987 Canadian Film Board production weaves reenactments\, archival film and photographs\, and interviews with French-Canadian and American writers and artists of the 80’s (including Allen Ginsberg and Lawrence Ferlinghetti) to paint a portrait of Lowell’s thoroughly Franco-American novelist and poet.
URL:https://legacy.merrimackvalley.org/event/jack-kerouacs-road-a-franco-american-odyssey/
LOCATION:The Luna Theater\, The Luna Theater\, Mill No 5\, 250 Jackson St 4th floor\, No. 490\, Lowell\, MA\, 01852\, United States
GEO:42.6412734;-71.3127928
X-APPLE-STRUCTURED-LOCATION;VALUE=URI;X-ADDRESS=The Luna Theater The Luna Theater Mill No 5 250 Jackson St 4th floor No. 490 Lowell MA 01852 United States;X-APPLE-RADIUS=500;X-TITLE=The Luna Theater\, Mill No 5\, 250 Jackson St 4th floor\, No. 490:geo:-71.3127928,42.6412734
END:VEVENT
END:VCALENDAR