BEGIN:VCALENDAR
VERSION:2.0
PRODID:-//Merrimack Valley Massachusetts - ECPv6.15.13//NONSGML v1.0//EN
CALSCALE:GREGORIAN
METHOD:PUBLISH
X-WR-CALNAME:Merrimack Valley Massachusetts
X-ORIGINAL-URL:https://legacy.merrimackvalley.org
X-WR-CALDESC:Events for Merrimack Valley Massachusetts
REFRESH-INTERVAL;VALUE=DURATION:PT1H
X-Robots-Tag:noindex
X-PUBLISHED-TTL:PT1H
BEGIN:VTIMEZONE
TZID:America/New_York
BEGIN:DAYLIGHT
TZOFFSETFROM:-0500
TZOFFSETTO:-0400
TZNAME:EDT
DTSTART:20240310T070000
END:DAYLIGHT
BEGIN:STANDARD
TZOFFSETFROM:-0400
TZOFFSETTO:-0500
TZNAME:EST
DTSTART:20241103T060000
END:STANDARD
BEGIN:DAYLIGHT
TZOFFSETFROM:-0500
TZOFFSETTO:-0400
TZNAME:EDT
DTSTART:20250309T070000
END:DAYLIGHT
BEGIN:STANDARD
TZOFFSETFROM:-0400
TZOFFSETTO:-0500
TZNAME:EST
DTSTART:20251102T060000
END:STANDARD
BEGIN:DAYLIGHT
TZOFFSETFROM:-0500
TZOFFSETTO:-0400
TZNAME:EDT
DTSTART:20260308T070000
END:DAYLIGHT
BEGIN:STANDARD
TZOFFSETFROM:-0400
TZOFFSETTO:-0500
TZNAME:EST
DTSTART:20261101T060000
END:STANDARD
END:VTIMEZONE
BEGIN:VEVENT
DTSTART;TZID=America/New_York:20251207T120000
DTEND;TZID=America/New_York:20251207T170000
DTSTAMP:20260418T012942
CREATED:20251208T152955Z
LAST-MODIFIED:20251208T152955Z
UID:10072477-1765108800-1765126800@legacy.merrimackvalley.org
SUMMARY:Porter Mill Holiday Open Studios
DESCRIPTION:Porter Mill Holiday Open Studios \nSaturday\, Dec 6\, 12-6pm Sunday\, Dec 7\,  12-5pm \nExplore four floors of artist spaces\, offering a variety of artwork including painting\, drawing\, ceramics\, photography\, jewelry\, glass work\, poetry\, fashion and more. Shop directly from the artists while learning about their media and techniques. Decorate your own home or use this fantastic opportunity to secure gifts for the holidays. In the lobby\, take in two group exhibitions: “Toys” exploring objects of play and a grid wall featuring “Smol” an exhibit of truly small affordable works of art. Enjoy traditional holiday music (live) on Saturday.The taproom at Coastal Mass Brewing will be in full swing and on Saturday\, you can enjoy your beverages throughout the studio spaces.Park all day for $2 at the MBTA parking garage\, across Rantoul Street from Porter Mill.
URL:https://legacy.merrimackvalley.org/event/porter-mill-holiday-open-studios/
LOCATION:Porter Mill Studios\, 95 Rantoul Street\, Beverly\, MA\, 01915\, United States
CATEGORIES:Free Events
ATTACH;FMTTYPE=image/jpeg:https://legacy.merrimackvalley.org/wp-content/uploads/2025/12/Porter-Mill-Holiday-Open-Studios.jpg
END:VEVENT
END:VCALENDAR