BEGIN:VCALENDAR
VERSION:2.0
PRODID:-//Merrimack Valley Massachusetts - ECPv6.15.13//NONSGML v1.0//EN
CALSCALE:GREGORIAN
METHOD:PUBLISH
X-WR-CALNAME:Merrimack Valley Massachusetts
X-ORIGINAL-URL:https://legacy.merrimackvalley.org
X-WR-CALDESC:Events for Merrimack Valley Massachusetts
REFRESH-INTERVAL;VALUE=DURATION:PT1H
X-Robots-Tag:noindex
X-PUBLISHED-TTL:PT1H
BEGIN:VTIMEZONE
TZID:America/New_York
BEGIN:DAYLIGHT
TZOFFSETFROM:-0500
TZOFFSETTO:-0400
TZNAME:EDT
DTSTART:20220313T070000
END:DAYLIGHT
BEGIN:STANDARD
TZOFFSETFROM:-0400
TZOFFSETTO:-0500
TZNAME:EST
DTSTART:20221106T060000
END:STANDARD
BEGIN:DAYLIGHT
TZOFFSETFROM:-0500
TZOFFSETTO:-0400
TZNAME:EDT
DTSTART:20230312T070000
END:DAYLIGHT
BEGIN:STANDARD
TZOFFSETFROM:-0400
TZOFFSETTO:-0500
TZNAME:EST
DTSTART:20231105T060000
END:STANDARD
BEGIN:DAYLIGHT
TZOFFSETFROM:-0500
TZOFFSETTO:-0400
TZNAME:EDT
DTSTART:20240310T070000
END:DAYLIGHT
BEGIN:STANDARD
TZOFFSETFROM:-0400
TZOFFSETTO:-0500
TZNAME:EST
DTSTART:20241103T060000
END:STANDARD
BEGIN:DAYLIGHT
TZOFFSETFROM:-0500
TZOFFSETTO:-0400
TZNAME:EDT
DTSTART:20250309T070000
END:DAYLIGHT
BEGIN:STANDARD
TZOFFSETFROM:-0400
TZOFFSETTO:-0500
TZNAME:EST
DTSTART:20251102T060000
END:STANDARD
BEGIN:DAYLIGHT
TZOFFSETFROM:-0500
TZOFFSETTO:-0400
TZNAME:EDT
DTSTART:20260308T070000
END:DAYLIGHT
BEGIN:STANDARD
TZOFFSETFROM:-0400
TZOFFSETTO:-0500
TZNAME:EST
DTSTART:20261101T060000
END:STANDARD
BEGIN:DAYLIGHT
TZOFFSETFROM:-0500
TZOFFSETTO:-0400
TZNAME:EDT
DTSTART:20270314T070000
END:DAYLIGHT
BEGIN:STANDARD
TZOFFSETFROM:-0400
TZOFFSETTO:-0500
TZNAME:EST
DTSTART:20271107T060000
END:STANDARD
END:VTIMEZONE
BEGIN:VEVENT
DTSTART;TZID=America/New_York:20260402T180000
DTEND;TZID=America/New_York:20260402T210000
DTSTAMP:20260419T212633
CREATED:20240923T195105Z
LAST-MODIFIED:20240923T203216Z
UID:10057872-1775152800-1775163600@legacy.merrimackvalley.org
SUMMARY:Irish Night at Owen & Ollie’s\, Dracut
DESCRIPTION:Join us at Owen & Ollie’s on the first Thursday of every month for Irish Night! \nEnjoy an evening of live music\, delicious Irish food\, and a chance to win exciting prizes such as gift cards and a hoodie.
URL:https://legacy.merrimackvalley.org/event/irish-night/2026-04-02/
LOCATION:Owen And Ollie’s\, 91 Mill Street\, Dracut\, MA\, United States
CATEGORIES:Food,Live Performances
ATTACH;FMTTYPE=image/jpeg:https://legacy.merrimackvalley.org/wp-content/uploads/2024/09/Irish-Night.jpg
ORGANIZER;CN="Owen & Ollie's Restaurant & Pub":MAILTO:info@owenandollies.com
GEO:42.681711;-71.3506516
X-APPLE-STRUCTURED-LOCATION;VALUE=URI;X-ADDRESS=Owen And Ollie’s 91 Mill Street Dracut MA United States;X-APPLE-RADIUS=500;X-TITLE=91 Mill Street:geo:-71.3506516,42.681711
END:VEVENT
BEGIN:VEVENT
DTSTART;TZID=America/New_York:20260305T180000
DTEND;TZID=America/New_York:20260305T210000
DTSTAMP:20260419T212633
CREATED:20240923T195105Z
LAST-MODIFIED:20240923T203216Z
UID:10057871-1772733600-1772744400@legacy.merrimackvalley.org
SUMMARY:Irish Night at Owen & Ollie’s\, Dracut
DESCRIPTION:Join us at Owen & Ollie’s on the first Thursday of every month for Irish Night! \nEnjoy an evening of live music\, delicious Irish food\, and a chance to win exciting prizes such as gift cards and a hoodie.
URL:https://legacy.merrimackvalley.org/event/irish-night/2026-03-05/
LOCATION:Owen And Ollie’s\, 91 Mill Street\, Dracut\, MA\, United States
CATEGORIES:Food,Live Performances
ATTACH;FMTTYPE=image/jpeg:https://legacy.merrimackvalley.org/wp-content/uploads/2024/09/Irish-Night.jpg
ORGANIZER;CN="Owen & Ollie's Restaurant & Pub":MAILTO:info@owenandollies.com
GEO:42.681711;-71.3506516
X-APPLE-STRUCTURED-LOCATION;VALUE=URI;X-ADDRESS=Owen And Ollie’s 91 Mill Street Dracut MA United States;X-APPLE-RADIUS=500;X-TITLE=91 Mill Street:geo:-71.3506516,42.681711
END:VEVENT
BEGIN:VEVENT
DTSTART;TZID=America/New_York:20260205T180000
DTEND;TZID=America/New_York:20260205T210000
DTSTAMP:20260419T212633
CREATED:20240923T195105Z
LAST-MODIFIED:20240923T203216Z
UID:10057870-1770314400-1770325200@legacy.merrimackvalley.org
SUMMARY:Irish Night at Owen & Ollie’s\, Dracut
DESCRIPTION:Join us at Owen & Ollie’s on the first Thursday of every month for Irish Night! \nEnjoy an evening of live music\, delicious Irish food\, and a chance to win exciting prizes such as gift cards and a hoodie.
URL:https://legacy.merrimackvalley.org/event/irish-night/2026-02-05/
LOCATION:Owen And Ollie’s\, 91 Mill Street\, Dracut\, MA\, United States
CATEGORIES:Food,Live Performances
ATTACH;FMTTYPE=image/jpeg:https://legacy.merrimackvalley.org/wp-content/uploads/2024/09/Irish-Night.jpg
ORGANIZER;CN="Owen & Ollie's Restaurant & Pub":MAILTO:info@owenandollies.com
GEO:42.681711;-71.3506516
X-APPLE-STRUCTURED-LOCATION;VALUE=URI;X-ADDRESS=Owen And Ollie’s 91 Mill Street Dracut MA United States;X-APPLE-RADIUS=500;X-TITLE=91 Mill Street:geo:-71.3506516,42.681711
END:VEVENT
BEGIN:VEVENT
DTSTART;TZID=America/New_York:20260101T180000
DTEND;TZID=America/New_York:20260101T210000
DTSTAMP:20260419T212633
CREATED:20240923T195105Z
LAST-MODIFIED:20240923T203216Z
UID:10057869-1767290400-1767301200@legacy.merrimackvalley.org
SUMMARY:Irish Night at Owen & Ollie’s\, Dracut
DESCRIPTION:Join us at Owen & Ollie’s on the first Thursday of every month for Irish Night! \nEnjoy an evening of live music\, delicious Irish food\, and a chance to win exciting prizes such as gift cards and a hoodie.
URL:https://legacy.merrimackvalley.org/event/irish-night/2026-01-01/
LOCATION:Owen And Ollie’s\, 91 Mill Street\, Dracut\, MA\, United States
CATEGORIES:Food,Live Performances
ATTACH;FMTTYPE=image/jpeg:https://legacy.merrimackvalley.org/wp-content/uploads/2024/09/Irish-Night.jpg
ORGANIZER;CN="Owen & Ollie's Restaurant & Pub":MAILTO:info@owenandollies.com
GEO:42.681711;-71.3506516
X-APPLE-STRUCTURED-LOCATION;VALUE=URI;X-ADDRESS=Owen And Ollie’s 91 Mill Street Dracut MA United States;X-APPLE-RADIUS=500;X-TITLE=91 Mill Street:geo:-71.3506516,42.681711
END:VEVENT
BEGIN:VEVENT
DTSTART;TZID=America/New_York:20251204T180000
DTEND;TZID=America/New_York:20251204T210000
DTSTAMP:20260419T212633
CREATED:20240923T195105Z
LAST-MODIFIED:20240923T203216Z
UID:10057868-1764871200-1764882000@legacy.merrimackvalley.org
SUMMARY:Irish Night at Owen & Ollie’s\, Dracut
DESCRIPTION:Join us at Owen & Ollie’s on the first Thursday of every month for Irish Night! \nEnjoy an evening of live music\, delicious Irish food\, and a chance to win exciting prizes such as gift cards and a hoodie.
URL:https://legacy.merrimackvalley.org/event/irish-night/2025-12-04/
LOCATION:Owen And Ollie’s\, 91 Mill Street\, Dracut\, MA\, United States
CATEGORIES:Food,Live Performances
ATTACH;FMTTYPE=image/jpeg:https://legacy.merrimackvalley.org/wp-content/uploads/2024/09/Irish-Night.jpg
ORGANIZER;CN="Owen & Ollie's Restaurant & Pub":MAILTO:info@owenandollies.com
GEO:42.681711;-71.3506516
X-APPLE-STRUCTURED-LOCATION;VALUE=URI;X-ADDRESS=Owen And Ollie’s 91 Mill Street Dracut MA United States;X-APPLE-RADIUS=500;X-TITLE=91 Mill Street:geo:-71.3506516,42.681711
END:VEVENT
BEGIN:VEVENT
DTSTART;TZID=America/New_York:20251106T180000
DTEND;TZID=America/New_York:20251106T210000
DTSTAMP:20260419T212633
CREATED:20240923T195105Z
LAST-MODIFIED:20240923T203216Z
UID:10057867-1762452000-1762462800@legacy.merrimackvalley.org
SUMMARY:Irish Night at Owen & Ollie’s\, Dracut
DESCRIPTION:Join us at Owen & Ollie’s on the first Thursday of every month for Irish Night! \nEnjoy an evening of live music\, delicious Irish food\, and a chance to win exciting prizes such as gift cards and a hoodie.
URL:https://legacy.merrimackvalley.org/event/irish-night/2025-11-06/
LOCATION:Owen And Ollie’s\, 91 Mill Street\, Dracut\, MA\, United States
CATEGORIES:Food,Live Performances
ATTACH;FMTTYPE=image/jpeg:https://legacy.merrimackvalley.org/wp-content/uploads/2024/09/Irish-Night.jpg
ORGANIZER;CN="Owen & Ollie's Restaurant & Pub":MAILTO:info@owenandollies.com
GEO:42.681711;-71.3506516
X-APPLE-STRUCTURED-LOCATION;VALUE=URI;X-ADDRESS=Owen And Ollie’s 91 Mill Street Dracut MA United States;X-APPLE-RADIUS=500;X-TITLE=91 Mill Street:geo:-71.3506516,42.681711
END:VEVENT
BEGIN:VEVENT
DTSTART;TZID=America/New_York:20251002T180000
DTEND;TZID=America/New_York:20251002T210000
DTSTAMP:20260419T212633
CREATED:20240923T195105Z
LAST-MODIFIED:20240923T203216Z
UID:10057866-1759428000-1759438800@legacy.merrimackvalley.org
SUMMARY:Irish Night at Owen & Ollie’s\, Dracut
DESCRIPTION:Join us at Owen & Ollie’s on the first Thursday of every month for Irish Night! \nEnjoy an evening of live music\, delicious Irish food\, and a chance to win exciting prizes such as gift cards and a hoodie.
URL:https://legacy.merrimackvalley.org/event/irish-night/2025-10-02/
LOCATION:Owen And Ollie’s\, 91 Mill Street\, Dracut\, MA\, United States
CATEGORIES:Food,Live Performances
ATTACH;FMTTYPE=image/jpeg:https://legacy.merrimackvalley.org/wp-content/uploads/2024/09/Irish-Night.jpg
ORGANIZER;CN="Owen & Ollie's Restaurant & Pub":MAILTO:info@owenandollies.com
GEO:42.681711;-71.3506516
X-APPLE-STRUCTURED-LOCATION;VALUE=URI;X-ADDRESS=Owen And Ollie’s 91 Mill Street Dracut MA United States;X-APPLE-RADIUS=500;X-TITLE=91 Mill Street:geo:-71.3506516,42.681711
END:VEVENT
BEGIN:VEVENT
DTSTART;TZID=America/New_York:20250904T180000
DTEND;TZID=America/New_York:20250904T210000
DTSTAMP:20260419T212633
CREATED:20240923T195105Z
LAST-MODIFIED:20240923T203216Z
UID:10057865-1757008800-1757019600@legacy.merrimackvalley.org
SUMMARY:Irish Night at Owen & Ollie’s\, Dracut
DESCRIPTION:Join us at Owen & Ollie’s on the first Thursday of every month for Irish Night! \nEnjoy an evening of live music\, delicious Irish food\, and a chance to win exciting prizes such as gift cards and a hoodie.
URL:https://legacy.merrimackvalley.org/event/irish-night/2025-09-04/
LOCATION:Owen And Ollie’s\, 91 Mill Street\, Dracut\, MA\, United States
CATEGORIES:Food,Live Performances
ATTACH;FMTTYPE=image/jpeg:https://legacy.merrimackvalley.org/wp-content/uploads/2024/09/Irish-Night.jpg
ORGANIZER;CN="Owen & Ollie's Restaurant & Pub":MAILTO:info@owenandollies.com
GEO:42.681711;-71.3506516
X-APPLE-STRUCTURED-LOCATION;VALUE=URI;X-ADDRESS=Owen And Ollie’s 91 Mill Street Dracut MA United States;X-APPLE-RADIUS=500;X-TITLE=91 Mill Street:geo:-71.3506516,42.681711
END:VEVENT
BEGIN:VEVENT
DTSTART;TZID=America/New_York:20250807T180000
DTEND;TZID=America/New_York:20250807T210000
DTSTAMP:20260419T212633
CREATED:20240923T195105Z
LAST-MODIFIED:20240923T203216Z
UID:10057864-1754589600-1754600400@legacy.merrimackvalley.org
SUMMARY:Irish Night at Owen & Ollie’s\, Dracut
DESCRIPTION:Join us at Owen & Ollie’s on the first Thursday of every month for Irish Night! \nEnjoy an evening of live music\, delicious Irish food\, and a chance to win exciting prizes such as gift cards and a hoodie.
URL:https://legacy.merrimackvalley.org/event/irish-night/2025-08-07/
LOCATION:Owen And Ollie’s\, 91 Mill Street\, Dracut\, MA\, United States
CATEGORIES:Food,Live Performances
ATTACH;FMTTYPE=image/jpeg:https://legacy.merrimackvalley.org/wp-content/uploads/2024/09/Irish-Night.jpg
ORGANIZER;CN="Owen & Ollie's Restaurant & Pub":MAILTO:info@owenandollies.com
GEO:42.681711;-71.3506516
X-APPLE-STRUCTURED-LOCATION;VALUE=URI;X-ADDRESS=Owen And Ollie’s 91 Mill Street Dracut MA United States;X-APPLE-RADIUS=500;X-TITLE=91 Mill Street:geo:-71.3506516,42.681711
END:VEVENT
BEGIN:VEVENT
DTSTART;TZID=America/New_York:20250703T180000
DTEND;TZID=America/New_York:20250703T210000
DTSTAMP:20260419T212633
CREATED:20240923T195105Z
LAST-MODIFIED:20240923T203216Z
UID:10057863-1751565600-1751576400@legacy.merrimackvalley.org
SUMMARY:Irish Night at Owen & Ollie’s\, Dracut
DESCRIPTION:Join us at Owen & Ollie’s on the first Thursday of every month for Irish Night! \nEnjoy an evening of live music\, delicious Irish food\, and a chance to win exciting prizes such as gift cards and a hoodie.
URL:https://legacy.merrimackvalley.org/event/irish-night/2025-07-03/
LOCATION:Owen And Ollie’s\, 91 Mill Street\, Dracut\, MA\, United States
CATEGORIES:Food,Live Performances
ATTACH;FMTTYPE=image/jpeg:https://legacy.merrimackvalley.org/wp-content/uploads/2024/09/Irish-Night.jpg
ORGANIZER;CN="Owen & Ollie's Restaurant & Pub":MAILTO:info@owenandollies.com
GEO:42.681711;-71.3506516
X-APPLE-STRUCTURED-LOCATION;VALUE=URI;X-ADDRESS=Owen And Ollie’s 91 Mill Street Dracut MA United States;X-APPLE-RADIUS=500;X-TITLE=91 Mill Street:geo:-71.3506516,42.681711
END:VEVENT
BEGIN:VEVENT
DTSTART;TZID=America/New_York:20250605T180000
DTEND;TZID=America/New_York:20250605T210000
DTSTAMP:20260419T212633
CREATED:20240923T195105Z
LAST-MODIFIED:20240923T203216Z
UID:10057862-1749146400-1749157200@legacy.merrimackvalley.org
SUMMARY:Irish Night at Owen & Ollie’s\, Dracut
DESCRIPTION:Join us at Owen & Ollie’s on the first Thursday of every month for Irish Night! \nEnjoy an evening of live music\, delicious Irish food\, and a chance to win exciting prizes such as gift cards and a hoodie.
URL:https://legacy.merrimackvalley.org/event/irish-night/2025-06-05/
LOCATION:Owen And Ollie’s\, 91 Mill Street\, Dracut\, MA\, United States
CATEGORIES:Food,Live Performances
ATTACH;FMTTYPE=image/jpeg:https://legacy.merrimackvalley.org/wp-content/uploads/2024/09/Irish-Night.jpg
ORGANIZER;CN="Owen & Ollie's Restaurant & Pub":MAILTO:info@owenandollies.com
GEO:42.681711;-71.3506516
X-APPLE-STRUCTURED-LOCATION;VALUE=URI;X-ADDRESS=Owen And Ollie’s 91 Mill Street Dracut MA United States;X-APPLE-RADIUS=500;X-TITLE=91 Mill Street:geo:-71.3506516,42.681711
END:VEVENT
BEGIN:VEVENT
DTSTART;TZID=America/New_York:20250501T180000
DTEND;TZID=America/New_York:20250501T210000
DTSTAMP:20260419T212633
CREATED:20240923T195105Z
LAST-MODIFIED:20240923T203216Z
UID:10057861-1746122400-1746133200@legacy.merrimackvalley.org
SUMMARY:Irish Night at Owen & Ollie’s\, Dracut
DESCRIPTION:Join us at Owen & Ollie’s on the first Thursday of every month for Irish Night! \nEnjoy an evening of live music\, delicious Irish food\, and a chance to win exciting prizes such as gift cards and a hoodie.
URL:https://legacy.merrimackvalley.org/event/irish-night/2025-05-01/
LOCATION:Owen And Ollie’s\, 91 Mill Street\, Dracut\, MA\, United States
CATEGORIES:Food,Live Performances
ATTACH;FMTTYPE=image/jpeg:https://legacy.merrimackvalley.org/wp-content/uploads/2024/09/Irish-Night.jpg
ORGANIZER;CN="Owen & Ollie's Restaurant & Pub":MAILTO:info@owenandollies.com
GEO:42.681711;-71.3506516
X-APPLE-STRUCTURED-LOCATION;VALUE=URI;X-ADDRESS=Owen And Ollie’s 91 Mill Street Dracut MA United States;X-APPLE-RADIUS=500;X-TITLE=91 Mill Street:geo:-71.3506516,42.681711
END:VEVENT
BEGIN:VEVENT
DTSTART;TZID=America/New_York:20250403T180000
DTEND;TZID=America/New_York:20250403T210000
DTSTAMP:20260419T212633
CREATED:20240923T195105Z
LAST-MODIFIED:20240923T203216Z
UID:10057860-1743703200-1743714000@legacy.merrimackvalley.org
SUMMARY:Irish Night at Owen & Ollie’s\, Dracut
DESCRIPTION:Join us at Owen & Ollie’s on the first Thursday of every month for Irish Night! \nEnjoy an evening of live music\, delicious Irish food\, and a chance to win exciting prizes such as gift cards and a hoodie.
URL:https://legacy.merrimackvalley.org/event/irish-night/2025-04-03/
LOCATION:Owen And Ollie’s\, 91 Mill Street\, Dracut\, MA\, United States
CATEGORIES:Food,Live Performances
ATTACH;FMTTYPE=image/jpeg:https://legacy.merrimackvalley.org/wp-content/uploads/2024/09/Irish-Night.jpg
ORGANIZER;CN="Owen & Ollie's Restaurant & Pub":MAILTO:info@owenandollies.com
GEO:42.681711;-71.3506516
X-APPLE-STRUCTURED-LOCATION;VALUE=URI;X-ADDRESS=Owen And Ollie’s 91 Mill Street Dracut MA United States;X-APPLE-RADIUS=500;X-TITLE=91 Mill Street:geo:-71.3506516,42.681711
END:VEVENT
BEGIN:VEVENT
DTSTART;TZID=America/New_York:20250306T180000
DTEND;TZID=America/New_York:20250306T210000
DTSTAMP:20260419T212633
CREATED:20240923T195105Z
LAST-MODIFIED:20240923T203216Z
UID:10057859-1741284000-1741294800@legacy.merrimackvalley.org
SUMMARY:Irish Night at Owen & Ollie’s\, Dracut
DESCRIPTION:Join us at Owen & Ollie’s on the first Thursday of every month for Irish Night! \nEnjoy an evening of live music\, delicious Irish food\, and a chance to win exciting prizes such as gift cards and a hoodie.
URL:https://legacy.merrimackvalley.org/event/irish-night/2025-03-06/
LOCATION:Owen And Ollie’s\, 91 Mill Street\, Dracut\, MA\, United States
CATEGORIES:Food,Live Performances
ATTACH;FMTTYPE=image/jpeg:https://legacy.merrimackvalley.org/wp-content/uploads/2024/09/Irish-Night.jpg
ORGANIZER;CN="Owen & Ollie's Restaurant & Pub":MAILTO:info@owenandollies.com
GEO:42.681711;-71.3506516
X-APPLE-STRUCTURED-LOCATION;VALUE=URI;X-ADDRESS=Owen And Ollie’s 91 Mill Street Dracut MA United States;X-APPLE-RADIUS=500;X-TITLE=91 Mill Street:geo:-71.3506516,42.681711
END:VEVENT
BEGIN:VEVENT
DTSTART;TZID=America/New_York:20250206T180000
DTEND;TZID=America/New_York:20250206T210000
DTSTAMP:20260419T212633
CREATED:20240923T195105Z
LAST-MODIFIED:20240923T203216Z
UID:10057858-1738864800-1738875600@legacy.merrimackvalley.org
SUMMARY:Irish Night at Owen & Ollie’s\, Dracut
DESCRIPTION:Join us at Owen & Ollie’s on the first Thursday of every month for Irish Night! \nEnjoy an evening of live music\, delicious Irish food\, and a chance to win exciting prizes such as gift cards and a hoodie.
URL:https://legacy.merrimackvalley.org/event/irish-night/2025-02-06/
LOCATION:Owen And Ollie’s\, 91 Mill Street\, Dracut\, MA\, United States
CATEGORIES:Food,Live Performances
ATTACH;FMTTYPE=image/jpeg:https://legacy.merrimackvalley.org/wp-content/uploads/2024/09/Irish-Night.jpg
ORGANIZER;CN="Owen & Ollie's Restaurant & Pub":MAILTO:info@owenandollies.com
GEO:42.681711;-71.3506516
X-APPLE-STRUCTURED-LOCATION;VALUE=URI;X-ADDRESS=Owen And Ollie’s 91 Mill Street Dracut MA United States;X-APPLE-RADIUS=500;X-TITLE=91 Mill Street:geo:-71.3506516,42.681711
END:VEVENT
BEGIN:VEVENT
DTSTART;TZID=America/New_York:20250102T180000
DTEND;TZID=America/New_York:20250102T210000
DTSTAMP:20260419T212633
CREATED:20240923T195105Z
LAST-MODIFIED:20240923T203216Z
UID:10057857-1735840800-1735851600@legacy.merrimackvalley.org
SUMMARY:Irish Night at Owen & Ollie’s\, Dracut
DESCRIPTION:Join us at Owen & Ollie’s on the first Thursday of every month for Irish Night! \nEnjoy an evening of live music\, delicious Irish food\, and a chance to win exciting prizes such as gift cards and a hoodie.
URL:https://legacy.merrimackvalley.org/event/irish-night/2025-01-02/
LOCATION:Owen And Ollie’s\, 91 Mill Street\, Dracut\, MA\, United States
CATEGORIES:Food,Live Performances
ATTACH;FMTTYPE=image/jpeg:https://legacy.merrimackvalley.org/wp-content/uploads/2024/09/Irish-Night.jpg
ORGANIZER;CN="Owen & Ollie's Restaurant & Pub":MAILTO:info@owenandollies.com
GEO:42.681711;-71.3506516
X-APPLE-STRUCTURED-LOCATION;VALUE=URI;X-ADDRESS=Owen And Ollie’s 91 Mill Street Dracut MA United States;X-APPLE-RADIUS=500;X-TITLE=91 Mill Street:geo:-71.3506516,42.681711
END:VEVENT
BEGIN:VEVENT
DTSTART;TZID=America/New_York:20241205T180000
DTEND;TZID=America/New_York:20241205T210000
DTSTAMP:20260419T212633
CREATED:20240923T195105Z
LAST-MODIFIED:20240923T203216Z
UID:10057856-1733421600-1733432400@legacy.merrimackvalley.org
SUMMARY:Irish Night at Owen & Ollie’s\, Dracut
DESCRIPTION:Join us at Owen & Ollie’s on the first Thursday of every month for Irish Night! \nEnjoy an evening of live music\, delicious Irish food\, and a chance to win exciting prizes such as gift cards and a hoodie.
URL:https://legacy.merrimackvalley.org/event/irish-night/2024-12-05/
LOCATION:Owen And Ollie’s\, 91 Mill Street\, Dracut\, MA\, United States
CATEGORIES:Food,Live Performances
ATTACH;FMTTYPE=image/jpeg:https://legacy.merrimackvalley.org/wp-content/uploads/2024/09/Irish-Night.jpg
ORGANIZER;CN="Owen & Ollie's Restaurant & Pub":MAILTO:info@owenandollies.com
GEO:42.681711;-71.3506516
X-APPLE-STRUCTURED-LOCATION;VALUE=URI;X-ADDRESS=Owen And Ollie’s 91 Mill Street Dracut MA United States;X-APPLE-RADIUS=500;X-TITLE=91 Mill Street:geo:-71.3506516,42.681711
END:VEVENT
BEGIN:VEVENT
DTSTART;TZID=America/New_York:20241107T180000
DTEND;TZID=America/New_York:20241107T210000
DTSTAMP:20260419T212633
CREATED:20240923T195105Z
LAST-MODIFIED:20240923T203216Z
UID:10057855-1731002400-1731013200@legacy.merrimackvalley.org
SUMMARY:Irish Night at Owen & Ollie’s\, Dracut
DESCRIPTION:Join us at Owen & Ollie’s on the first Thursday of every month for Irish Night! \nEnjoy an evening of live music\, delicious Irish food\, and a chance to win exciting prizes such as gift cards and a hoodie.
URL:https://legacy.merrimackvalley.org/event/irish-night/2024-11-07/
LOCATION:Owen And Ollie’s\, 91 Mill Street\, Dracut\, MA\, United States
CATEGORIES:Food,Live Performances
ATTACH;FMTTYPE=image/jpeg:https://legacy.merrimackvalley.org/wp-content/uploads/2024/09/Irish-Night.jpg
ORGANIZER;CN="Owen & Ollie's Restaurant & Pub":MAILTO:info@owenandollies.com
GEO:42.681711;-71.3506516
X-APPLE-STRUCTURED-LOCATION;VALUE=URI;X-ADDRESS=Owen And Ollie’s 91 Mill Street Dracut MA United States;X-APPLE-RADIUS=500;X-TITLE=91 Mill Street:geo:-71.3506516,42.681711
END:VEVENT
BEGIN:VEVENT
DTSTART;TZID=America/New_York:20241023T190000
DTEND;TZID=America/New_York:20241023T210000
DTSTAMP:20260419T212633
CREATED:20241021T143847Z
LAST-MODIFIED:20241021T143847Z
UID:10057961-1729710000-1729717200@legacy.merrimackvalley.org
SUMMARY:Paint Night at Owen & Ollies
DESCRIPTION:Goodbye to summer – Hello to fall! Decoupage Pumpkins and shells. A guided class and all supplies are included. To reserve call 772-302-6926. Must be 12 years and older.
URL:https://legacy.merrimackvalley.org/event/paint-night-at-owen-ollies/
LOCATION:Owen And Ollie’s\, 91 Mill Street\, Dracut\, MA\, United States
CATEGORIES:Arts & Culture,Kids & Family
ATTACH;FMTTYPE=image/png:https://legacy.merrimackvalley.org/wp-content/uploads/2024/10/Screenshot-2024-10-21-093405.png
ORGANIZER;CN="Owen & Ollie's Restaurant & Pub":MAILTO:info@owenandollies.com
GEO:42.681711;-71.3506516
X-APPLE-STRUCTURED-LOCATION;VALUE=URI;X-ADDRESS=Owen And Ollie’s 91 Mill Street Dracut MA United States;X-APPLE-RADIUS=500;X-TITLE=91 Mill Street:geo:-71.3506516,42.681711
END:VEVENT
BEGIN:VEVENT
DTSTART;TZID=America/New_York:20241003T180000
DTEND;TZID=America/New_York:20241003T210000
DTSTAMP:20260419T212633
CREATED:20240923T195105Z
LAST-MODIFIED:20240923T203216Z
UID:10057854-1727978400-1727989200@legacy.merrimackvalley.org
SUMMARY:Irish Night at Owen & Ollie’s\, Dracut
DESCRIPTION:Join us at Owen & Ollie’s on the first Thursday of every month for Irish Night! \nEnjoy an evening of live music\, delicious Irish food\, and a chance to win exciting prizes such as gift cards and a hoodie.
URL:https://legacy.merrimackvalley.org/event/irish-night/2024-10-03/
LOCATION:Owen And Ollie’s\, 91 Mill Street\, Dracut\, MA\, United States
CATEGORIES:Food,Live Performances
ATTACH;FMTTYPE=image/jpeg:https://legacy.merrimackvalley.org/wp-content/uploads/2024/09/Irish-Night.jpg
ORGANIZER;CN="Owen & Ollie's Restaurant & Pub":MAILTO:info@owenandollies.com
GEO:42.681711;-71.3506516
X-APPLE-STRUCTURED-LOCATION;VALUE=URI;X-ADDRESS=Owen And Ollie’s 91 Mill Street Dracut MA United States;X-APPLE-RADIUS=500;X-TITLE=91 Mill Street:geo:-71.3506516,42.681711
END:VEVENT
BEGIN:VEVENT
DTSTART;TZID=America/New_York:20240512T100000
DTEND;TZID=America/New_York:20240512T213000
DTSTAMP:20260419T212633
CREATED:20240510T165640Z
LAST-MODIFIED:20240510T165640Z
UID:10055402-1715508000-1715549400@legacy.merrimackvalley.org
SUMMARY:Mother's Day
DESCRIPTION:Mother’s Day Brunch with Flower Bar and Mimosa Bar. Live Music later in afternoon.
URL:https://legacy.merrimackvalley.org/event/mothers-day/
LOCATION:Owen And Ollie’s\, 91 Mill Street\, Dracut\, MA\, United States
CATEGORIES:Annual & Special,Featured
ATTACH;FMTTYPE=image/jpeg:https://legacy.merrimackvalley.org/wp-content/uploads/2024/05/cute-happy-mothers-day-greeting-card-illustration-with-heart-shape-bouqet-with-various-floral-flower-doodles-in-simple-hand-drawn-childish-style-mother-day-bright-design-template-vector.jpg
GEO:42.681711;-71.3506516
X-APPLE-STRUCTURED-LOCATION;VALUE=URI;X-ADDRESS=Owen And Ollie’s 91 Mill Street Dracut MA United States;X-APPLE-RADIUS=500;X-TITLE=91 Mill Street:geo:-71.3506516,42.681711
END:VEVENT
BEGIN:VEVENT
DTSTART;TZID=America/New_York:20240317T180000
DTEND;TZID=America/New_York:20240317T220000
DTSTAMP:20260419T212633
CREATED:20240306T173459Z
LAST-MODIFIED:20240312T191955Z
UID:10050810-1710698400-1710712800@legacy.merrimackvalley.org
SUMMARY:St. Patrick’s Day 4 Day Celebration
DESCRIPTION:Get your Irish on at our 4 day St. Patrick’s Day celebration. We will have Live Music\, Irish Drink and Food Specials\, Irish Dancers and Bagpipers.
URL:https://legacy.merrimackvalley.org/event/st-patricks-day-4-day-celebration/2024-03-17/
LOCATION:Owen And Ollie’s\, 91 Mill Street\, Dracut\, MA\, United States
ATTACH;FMTTYPE=image/jpeg:https://legacy.merrimackvalley.org/wp-content/uploads/2024/03/O-N-O-LOGO.jpg
GEO:42.681711;-71.3506516
X-APPLE-STRUCTURED-LOCATION;VALUE=URI;X-ADDRESS=Owen And Ollie’s 91 Mill Street Dracut MA United States;X-APPLE-RADIUS=500;X-TITLE=91 Mill Street:geo:-71.3506516,42.681711
END:VEVENT
BEGIN:VEVENT
DTSTART;TZID=America/New_York:20240316T180000
DTEND;TZID=America/New_York:20240316T220000
DTSTAMP:20260419T212633
CREATED:20240306T173459Z
LAST-MODIFIED:20240312T191955Z
UID:10050809-1710612000-1710626400@legacy.merrimackvalley.org
SUMMARY:St. Patrick’s Day 4 Day Celebration
DESCRIPTION:Get your Irish on at our 4 day St. Patrick’s Day celebration. We will have Live Music\, Irish Drink and Food Specials\, Irish Dancers and Bagpipers.
URL:https://legacy.merrimackvalley.org/event/st-patricks-day-4-day-celebration/2024-03-16/
LOCATION:Owen And Ollie’s\, 91 Mill Street\, Dracut\, MA\, United States
ATTACH;FMTTYPE=image/jpeg:https://legacy.merrimackvalley.org/wp-content/uploads/2024/03/O-N-O-LOGO.jpg
GEO:42.681711;-71.3506516
X-APPLE-STRUCTURED-LOCATION;VALUE=URI;X-ADDRESS=Owen And Ollie’s 91 Mill Street Dracut MA United States;X-APPLE-RADIUS=500;X-TITLE=91 Mill Street:geo:-71.3506516,42.681711
END:VEVENT
BEGIN:VEVENT
DTSTART;TZID=America/New_York:20240315T180000
DTEND;TZID=America/New_York:20240315T220000
DTSTAMP:20260419T212633
CREATED:20240306T173459Z
LAST-MODIFIED:20240312T191955Z
UID:10050808-1710525600-1710540000@legacy.merrimackvalley.org
SUMMARY:St. Patrick’s Day 4 Day Celebration
DESCRIPTION:Get your Irish on at our 4 day St. Patrick’s Day celebration. We will have Live Music\, Irish Drink and Food Specials\, Irish Dancers and Bagpipers.
URL:https://legacy.merrimackvalley.org/event/st-patricks-day-4-day-celebration/2024-03-15/
LOCATION:Owen And Ollie’s\, 91 Mill Street\, Dracut\, MA\, United States
ATTACH;FMTTYPE=image/jpeg:https://legacy.merrimackvalley.org/wp-content/uploads/2024/03/O-N-O-LOGO.jpg
GEO:42.681711;-71.3506516
X-APPLE-STRUCTURED-LOCATION;VALUE=URI;X-ADDRESS=Owen And Ollie’s 91 Mill Street Dracut MA United States;X-APPLE-RADIUS=500;X-TITLE=91 Mill Street:geo:-71.3506516,42.681711
END:VEVENT
BEGIN:VEVENT
DTSTART;TZID=America/New_York:20240314T180000
DTEND;TZID=America/New_York:20240314T220000
DTSTAMP:20260419T212633
CREATED:20240306T173459Z
LAST-MODIFIED:20240312T191955Z
UID:10050807-1710439200-1710453600@legacy.merrimackvalley.org
SUMMARY:St. Patrick’s Day 4 Day Celebration
DESCRIPTION:Get your Irish on at our 4 day St. Patrick’s Day celebration. We will have Live Music\, Irish Drink and Food Specials\, Irish Dancers and Bagpipers.
URL:https://legacy.merrimackvalley.org/event/st-patricks-day-4-day-celebration/2024-03-14/
LOCATION:Owen And Ollie’s\, 91 Mill Street\, Dracut\, MA\, United States
ATTACH;FMTTYPE=image/jpeg:https://legacy.merrimackvalley.org/wp-content/uploads/2024/03/O-N-O-LOGO.jpg
GEO:42.681711;-71.3506516
X-APPLE-STRUCTURED-LOCATION;VALUE=URI;X-ADDRESS=Owen And Ollie’s 91 Mill Street Dracut MA United States;X-APPLE-RADIUS=500;X-TITLE=91 Mill Street:geo:-71.3506516,42.681711
END:VEVENT
BEGIN:VEVENT
DTSTART;TZID=America/New_York:20230317T110000
DTEND;TZID=America/New_York:20230317T210000
DTSTAMP:20260419T212633
CREATED:20230313T183528Z
LAST-MODIFIED:20230313T183712Z
UID:10026027-1679050800-1679086800@legacy.merrimackvalley.org
SUMMARY:St. Patrick’s Day Owen and Ollie’s
DESCRIPTION:Special Menu Offered \nSt. Patty’s day flyer 2023 \n 
URL:https://legacy.merrimackvalley.org/event/st-patricks-day-owen-and-ollies/
LOCATION:Owen And Ollie’s\, 91 Mill Street\, Dracut\, MA\, United States
ATTACH;FMTTYPE=image/jpeg:https://legacy.merrimackvalley.org/wp-content/uploads/2021/10/Owen-and-Ollies-St-Patricks-Day.jpg
GEO:42.681711;-71.3506516
X-APPLE-STRUCTURED-LOCATION;VALUE=URI;X-ADDRESS=Owen And Ollie’s 91 Mill Street Dracut MA United States;X-APPLE-RADIUS=500;X-TITLE=91 Mill Street:geo:-71.3506516,42.681711
END:VEVENT
END:VCALENDAR