BEGIN:VCALENDAR
VERSION:2.0
PRODID:-//Merrimack Valley Massachusetts - ECPv6.15.13//NONSGML v1.0//EN
CALSCALE:GREGORIAN
METHOD:PUBLISH
X-ORIGINAL-URL:https://legacy.merrimackvalley.org
X-WR-CALDESC:Events for Merrimack Valley Massachusetts
REFRESH-INTERVAL;VALUE=DURATION:PT1H
X-Robots-Tag:noindex
X-PUBLISHED-TTL:PT1H
BEGIN:VTIMEZONE
TZID:America/New_York
BEGIN:DAYLIGHT
TZOFFSETFROM:-0500
TZOFFSETTO:-0400
TZNAME:EDT
DTSTART:20240310T070000
END:DAYLIGHT
BEGIN:STANDARD
TZOFFSETFROM:-0400
TZOFFSETTO:-0500
TZNAME:EST
DTSTART:20241103T060000
END:STANDARD
BEGIN:DAYLIGHT
TZOFFSETFROM:-0500
TZOFFSETTO:-0400
TZNAME:EDT
DTSTART:20250309T070000
END:DAYLIGHT
BEGIN:STANDARD
TZOFFSETFROM:-0400
TZOFFSETTO:-0500
TZNAME:EST
DTSTART:20251102T060000
END:STANDARD
BEGIN:DAYLIGHT
TZOFFSETFROM:-0500
TZOFFSETTO:-0400
TZNAME:EDT
DTSTART:20260308T070000
END:DAYLIGHT
BEGIN:STANDARD
TZOFFSETFROM:-0400
TZOFFSETTO:-0500
TZNAME:EST
DTSTART:20261101T060000
END:STANDARD
END:VTIMEZONE
BEGIN:VEVENT
DTSTART;TZID=America/New_York:20251021T120000
DTEND;TZID=America/New_York:20251021T130000
DTSTAMP:20260421T001048
CREATED:20251017T020942Z
LAST-MODIFIED:20251017T020942Z
UID:10070296-1761048000-1761051600@legacy.merrimackvalley.org
SUMMARY:ROXTalks: Economic Mobility in Communities of Color — Healing trauma to unlock economic opportunity
DESCRIPTION:Children’s Services of Roxbury (CSR) is thrilled to welcome the renowned Reverend Liz Walker as a featured guest in its ROXTalks series. On Tuesday\, Oct. 21\, from 12 to 1 p.m.\, CSR President and CEO Sandra M. McCroom and Rev. Walker will explore the connections between trauma and economic mobility through a virtual community conversation. All are welcome to join this free event by registering at http://bit.ly/4o3I2LG. \nAt a time when communities of color are reeling from trauma and economic hardship\, this episode of CSR’s ROXTalks series is particularly well-timed and especially vital. McCroom and Walker will lead a conversation that reveals how healing trauma can unlock economic opportunity for historically marginalized communities. The conversation will highlight the importance of community healing and care\, shared stories\, and relational support in building stronger\, more resilient neighborhoods.
URL:https://legacy.merrimackvalley.org/event/roxtalks-economic-mobility-in-communities-of-color-healing-trauma-to-unlock-economic-opportunity/
LOCATION:online\, United States
CATEGORIES:Free Events,Talks and Film
ATTACH;FMTTYPE=image/jpeg:https://legacy.merrimackvalley.org/wp-content/uploads/2025/10/ROXTalks-10.21.25-Flyer.jpg
GEO:38.7945952;-106.5348379
END:VEVENT
END:VCALENDAR