BEGIN:VCALENDAR
VERSION:2.0
PRODID:-//Merrimack Valley Massachusetts - ECPv6.15.13//NONSGML v1.0//EN
CALSCALE:GREGORIAN
METHOD:PUBLISH
X-WR-CALNAME:Merrimack Valley Massachusetts
X-ORIGINAL-URL:https://legacy.merrimackvalley.org
X-WR-CALDESC:Events for Merrimack Valley Massachusetts
REFRESH-INTERVAL;VALUE=DURATION:PT1H
X-Robots-Tag:noindex
X-PUBLISHED-TTL:PT1H
BEGIN:VTIMEZONE
TZID:America/New_York
BEGIN:DAYLIGHT
TZOFFSETFROM:-0500
TZOFFSETTO:-0400
TZNAME:EDT
DTSTART:20220313T070000
END:DAYLIGHT
BEGIN:STANDARD
TZOFFSETFROM:-0400
TZOFFSETTO:-0500
TZNAME:EST
DTSTART:20221106T060000
END:STANDARD
BEGIN:DAYLIGHT
TZOFFSETFROM:-0500
TZOFFSETTO:-0400
TZNAME:EDT
DTSTART:20230312T070000
END:DAYLIGHT
BEGIN:STANDARD
TZOFFSETFROM:-0400
TZOFFSETTO:-0500
TZNAME:EST
DTSTART:20231105T060000
END:STANDARD
BEGIN:DAYLIGHT
TZOFFSETFROM:-0500
TZOFFSETTO:-0400
TZNAME:EDT
DTSTART:20240310T070000
END:DAYLIGHT
BEGIN:STANDARD
TZOFFSETFROM:-0400
TZOFFSETTO:-0500
TZNAME:EST
DTSTART:20241103T060000
END:STANDARD
BEGIN:DAYLIGHT
TZOFFSETFROM:-0500
TZOFFSETTO:-0400
TZNAME:EDT
DTSTART:20250309T070000
END:DAYLIGHT
BEGIN:STANDARD
TZOFFSETFROM:-0400
TZOFFSETTO:-0500
TZNAME:EST
DTSTART:20251102T060000
END:STANDARD
BEGIN:DAYLIGHT
TZOFFSETFROM:-0500
TZOFFSETTO:-0400
TZNAME:EDT
DTSTART:20260308T070000
END:DAYLIGHT
BEGIN:STANDARD
TZOFFSETFROM:-0400
TZOFFSETTO:-0500
TZNAME:EST
DTSTART:20261101T060000
END:STANDARD
END:VTIMEZONE
BEGIN:VEVENT
DTSTART;TZID=America/New_York:20251108T080000
DTEND;TZID=America/New_York:20251108T170000
DTSTAMP:20260420T142947
CREATED:20250724T132919Z
LAST-MODIFIED:20250724T132919Z
UID:10068459-1762588800-1762621200@legacy.merrimackvalley.org
SUMMARY:The Santa Experience – A Magical Holiday Portrait Session
DESCRIPTION:📍 Luciana Calvin Photography Studio\, Chelmsford MA\n📅 Two Saturdays Only – November 2025\n🎟 Limited Spots Available \nStep into a storybook Christmas with The Santa Experience—a one-of-a-kind holiday portrait session designed to capture the wonder of childhood and create heirloom artwork your family will treasure forever. \nThis isn’t your typical mall Santa. Your child will enjoy a private visit with Santa in a beautifully styled holiday set\, with time to interact\, share wish lists\, and enjoy sweet moments—no rushed lines or forced smiles. \n✨ Each session includes:\n• A personalized experience with Santa\n• A beautifully designed holiday set\n• Access to heirloom-quality artwork and albums\n• A complimentary gift for each child\n• $100 product credit when you book during Christmas in July (through July 31) \nPerfect for families who want more than just a snapshot—The Santa Experience brings the magic of the season to life in the most heartwarming way. \n🎄 Booking & details: https://santa-experience.com
URL:https://legacy.merrimackvalley.org/event/the-santa-experience-a-magical-holiday-portrait-session-2/2025-11-08/
LOCATION:Luciana Calvin Photography Studio\, 21 Central Square\, Chelmsford\, MA\, 01824\, United States
CATEGORIES:Kids & Family
ATTACH;FMTTYPE=image/jpeg:https://legacy.merrimackvalley.org/wp-content/uploads/2025/07/Booking-page2025-1.jpg
ORGANIZER;CN="Luciana Calvin Photography":MAILTO:lcalvin@lucianacalvin.com
GEO:42.5961081;-71.3522182
X-APPLE-STRUCTURED-LOCATION;VALUE=URI;X-ADDRESS=Luciana Calvin Photography Studio 21 Central Square Chelmsford MA 01824 United States;X-APPLE-RADIUS=500;X-TITLE=21 Central Square:geo:-71.3522182,42.5961081
END:VEVENT
BEGIN:VEVENT
DTSTART;VALUE=DATE:20251108
DTEND;VALUE=DATE:20251109
DTSTAMP:20260420T142947
CREATED:20250724T132321Z
LAST-MODIFIED:20250724T132321Z
UID:10068457-1762588800-1762621200@legacy.merrimackvalley.org
SUMMARY:The Santa Experience – A Magical Holiday Portrait Session
DESCRIPTION:📍 Luciana Calvin Photography Studio\, Chelmsford MA\n📅 Two Saturdays Only – November 2025\n🎟 Limited Spots Available \nStep into a storybook Christmas with The Santa Experience—a one-of-a-kind holiday portrait session designed to capture the wonder of childhood and create heirloom artwork your family will treasure forever. \nThis isn’t your typical mall Santa. Your child will enjoy a private visit with Santa in a beautifully styled holiday set\, with time to interact\, share wish lists\, and enjoy sweet moments—no rushed lines or forced smiles. \n✨ Each session includes:\n• A personalized experience with Santa\n• A beautifully designed holiday set\n• Access to heirloom-quality artwork and albums\n• A complimentary gift for each child\n• $100 product credit when you book during Christmas in July (through July 31) \nPerfect for families who want more than just a snapshot—The Santa Experience brings the magic of the season to life in the most heartwarming way. \n🎄 Booking & details: https://santa-experience.com
URL:https://legacy.merrimackvalley.org/event/the-santa-experience-a-magical-holiday-portrait-session/2025-11-08/
LOCATION:Luciana Calvin Photography Studio\, 21 Central Square\, Chelmsford\, MA\, 01824\, United States
CATEGORIES:Kids & Family
ATTACH;FMTTYPE=image/jpeg:https://legacy.merrimackvalley.org/wp-content/uploads/2025/07/Booking-page2025.jpg
ORGANIZER;CN="Luciana Calvin Photography":MAILTO:lcalvin@lucianacalvin.com
GEO:42.5961081;-71.3522182
X-APPLE-STRUCTURED-LOCATION;VALUE=URI;X-ADDRESS=Luciana Calvin Photography Studio 21 Central Square Chelmsford MA 01824 United States;X-APPLE-RADIUS=500;X-TITLE=21 Central Square:geo:-71.3522182,42.5961081
END:VEVENT
BEGIN:VEVENT
DTSTART;TZID=America/New_York:20251101T080000
DTEND;TZID=America/New_York:20251101T170000
DTSTAMP:20260420T142947
CREATED:20250724T132919Z
LAST-MODIFIED:20250724T132919Z
UID:10068458-1761984000-1762016400@legacy.merrimackvalley.org
SUMMARY:The Santa Experience – A Magical Holiday Portrait Session
DESCRIPTION:📍 Luciana Calvin Photography Studio\, Chelmsford MA\n📅 Two Saturdays Only – November 2025\n🎟 Limited Spots Available \nStep into a storybook Christmas with The Santa Experience—a one-of-a-kind holiday portrait session designed to capture the wonder of childhood and create heirloom artwork your family will treasure forever. \nThis isn’t your typical mall Santa. Your child will enjoy a private visit with Santa in a beautifully styled holiday set\, with time to interact\, share wish lists\, and enjoy sweet moments—no rushed lines or forced smiles. \n✨ Each session includes:\n• A personalized experience with Santa\n• A beautifully designed holiday set\n• Access to heirloom-quality artwork and albums\n• A complimentary gift for each child\n• $100 product credit when you book during Christmas in July (through July 31) \nPerfect for families who want more than just a snapshot—The Santa Experience brings the magic of the season to life in the most heartwarming way. \n🎄 Booking & details: https://santa-experience.com
URL:https://legacy.merrimackvalley.org/event/the-santa-experience-a-magical-holiday-portrait-session-2/2025-11-01/
LOCATION:Luciana Calvin Photography Studio\, 21 Central Square\, Chelmsford\, MA\, 01824\, United States
CATEGORIES:Kids & Family
ATTACH;FMTTYPE=image/jpeg:https://legacy.merrimackvalley.org/wp-content/uploads/2025/07/Booking-page2025-1.jpg
ORGANIZER;CN="Luciana Calvin Photography":MAILTO:lcalvin@lucianacalvin.com
GEO:42.5961081;-71.3522182
X-APPLE-STRUCTURED-LOCATION;VALUE=URI;X-ADDRESS=Luciana Calvin Photography Studio 21 Central Square Chelmsford MA 01824 United States;X-APPLE-RADIUS=500;X-TITLE=21 Central Square:geo:-71.3522182,42.5961081
END:VEVENT
BEGIN:VEVENT
DTSTART;VALUE=DATE:20251101
DTEND;VALUE=DATE:20251102
DTSTAMP:20260420T142947
CREATED:20250724T132321Z
LAST-MODIFIED:20250724T132321Z
UID:10068456-1761955200-1762041599@legacy.merrimackvalley.org
SUMMARY:The Santa Experience – A Magical Holiday Portrait Session
DESCRIPTION:📍 Luciana Calvin Photography Studio\, Chelmsford MA\n📅 Two Saturdays Only – November 2025\n🎟 Limited Spots Available \nStep into a storybook Christmas with The Santa Experience—a one-of-a-kind holiday portrait session designed to capture the wonder of childhood and create heirloom artwork your family will treasure forever. \nThis isn’t your typical mall Santa. Your child will enjoy a private visit with Santa in a beautifully styled holiday set\, with time to interact\, share wish lists\, and enjoy sweet moments—no rushed lines or forced smiles. \n✨ Each session includes:\n• A personalized experience with Santa\n• A beautifully designed holiday set\n• Access to heirloom-quality artwork and albums\n• A complimentary gift for each child\n• $100 product credit when you book during Christmas in July (through July 31) \nPerfect for families who want more than just a snapshot—The Santa Experience brings the magic of the season to life in the most heartwarming way. \n🎄 Booking & details: https://santa-experience.com
URL:https://legacy.merrimackvalley.org/event/the-santa-experience-a-magical-holiday-portrait-session/2025-11-01/
LOCATION:Luciana Calvin Photography Studio\, 21 Central Square\, Chelmsford\, MA\, 01824\, United States
CATEGORIES:Kids & Family
ATTACH;FMTTYPE=image/jpeg:https://legacy.merrimackvalley.org/wp-content/uploads/2025/07/Booking-page2025.jpg
ORGANIZER;CN="Luciana Calvin Photography":MAILTO:lcalvin@lucianacalvin.com
GEO:42.5961081;-71.3522182
X-APPLE-STRUCTURED-LOCATION;VALUE=URI;X-ADDRESS=Luciana Calvin Photography Studio 21 Central Square Chelmsford MA 01824 United States;X-APPLE-RADIUS=500;X-TITLE=21 Central Square:geo:-71.3522182,42.5961081
END:VEVENT
BEGIN:VEVENT
DTSTART;TZID=America/New_York:20250412T090000
DTEND;TZID=America/New_York:20250412T170000
DTSTAMP:20260420T142947
CREATED:20250328T022229Z
LAST-MODIFIED:20250328T022229Z
UID:10062794-1744448400-1744477200@legacy.merrimackvalley.org
SUMMARY:🌸 Springtime Magic: Easter Mini Sessions Are Here! 🐣✨
DESCRIPTION:Capture the joy of spring and the sweetness of childhood with our limited-edition Easter Mini Sessions! \n🌷 These short + sweet sessions are designed just for busy moms who want gorgeous portraits of their little ones—without the stress. Think: blooming florals\, soft pastels\, and a light\, joyful setup perfect for spring decor. \n👩‍👧 Ideal for young children and siblings\n🖼️ Stunning images that are wall-art worthy\n⏱️ 20-minute session — easy + fun\n📍Held at our cozy Chelmsford studio \nSpots are limited and fill quickly—don’t miss your chance to create timeless spring memories!
URL:https://legacy.merrimackvalley.org/event/%f0%9f%8c%b8-springtime-magic-easter-mini-sessions-are-here-%f0%9f%90%a3%e2%9c%a8/
LOCATION:Luciana Calvin Photography Studio\, 21 Central Square\, Chelmsford\, MA\, 01824\, United States
CATEGORIES:Kids & Family
ATTACH;FMTTYPE=image/jpeg:https://legacy.merrimackvalley.org/wp-content/uploads/2025/03/2025Easter-promo.jpg
ORGANIZER;CN="Luciana Calvin Photography":MAILTO:lcalvin@lucianacalvin.com
GEO:42.5961081;-71.3522182
X-APPLE-STRUCTURED-LOCATION;VALUE=URI;X-ADDRESS=Luciana Calvin Photography Studio 21 Central Square Chelmsford MA 01824 United States;X-APPLE-RADIUS=500;X-TITLE=21 Central Square:geo:-71.3522182,42.5961081
END:VEVENT
BEGIN:VEVENT
DTSTART;TZID=America/New_York:20241102T090000
DTEND;TZID=America/New_York:20241102T170000
DTSTAMP:20260420T142947
CREATED:20241014T172758Z
LAST-MODIFIED:20241014T172758Z
UID:10057949-1730538000-1730566800@legacy.merrimackvalley.org
SUMMARY:The Santa Experience
DESCRIPTION:A Santa Visit unlike any Santa visit your child has ever experienced!! \nFrom the first glimpse of Santa to finding their name on his nice list\, children are transported into Santa’s Magic world. \nDuring your visit\, the kids will explore Santa’s workshop\, help him make toys and even plan his trip around the globe. \nThe Santa Experience creates memories that will last a lifetime. Our photographers will capture each moment for you to enjoy forever.\nTreasure these memories in beautiful photos or create a storybook featuring your child’s visit.
URL:https://legacy.merrimackvalley.org/event/the-santa-experience/
LOCATION:Luciana Calvin Photography Studio\, 21 Central Square\, Chelmsford\, MA\, 01824\, United States
CATEGORIES:Annual & Special,Kids & Family
ATTACH;FMTTYPE=image/jpeg:https://legacy.merrimackvalley.org/wp-content/uploads/2024/10/Album.jpg
ORGANIZER;CN="Luciana Calvin Photography":MAILTO:lcalvin@lucianacalvin.com
GEO:42.5961081;-71.3522182
X-APPLE-STRUCTURED-LOCATION;VALUE=URI;X-ADDRESS=Luciana Calvin Photography Studio 21 Central Square Chelmsford MA 01824 United States;X-APPLE-RADIUS=500;X-TITLE=21 Central Square:geo:-71.3522182,42.5961081
END:VEVENT
BEGIN:VEVENT
DTSTART;TZID=America/New_York:20240623T100000
DTEND;TZID=America/New_York:20240623T140000
DTSTAMP:20260420T142947
CREATED:20240620T165521Z
LAST-MODIFIED:20240620T165521Z
UID:10056906-1719136800-1719151200@legacy.merrimackvalley.org
SUMMARY:2024 Secret Garden Fairy Portrait Experience
DESCRIPTION:We are so excited to welcome your little ones to a whimsical portrait experience. This experience is exclusive to kids 3 and older. \nYou will have access to our stunning garden set\, wings\, colorful wardrobe and flower crowns.\nIncludes one 8×10 or two 5×7 (same pose) deluxe prints.\nA small gift to take home.\nAll portraits and custom books are sold separately. Booking fee is non-refundable.
URL:https://legacy.merrimackvalley.org/event/2024-secret-garden-fairy-portrait-experience/
LOCATION:Luciana Calvin Photography Studio\, 21 Central Square\, Chelmsford\, MA\, 01824\, United States
CATEGORIES:Kids & Family
ATTACH;FMTTYPE=image/jpeg:https://legacy.merrimackvalley.org/wp-content/uploads/2024/06/20230415_Mika_009.jpg
ORGANIZER;CN="Luciana Calvin Photography":MAILTO:lcalvin@lucianacalvin.com
GEO:42.5961081;-71.3522182
X-APPLE-STRUCTURED-LOCATION;VALUE=URI;X-ADDRESS=Luciana Calvin Photography Studio 21 Central Square Chelmsford MA 01824 United States;X-APPLE-RADIUS=500;X-TITLE=21 Central Square:geo:-71.3522182,42.5961081
END:VEVENT
BEGIN:VEVENT
DTSTART;VALUE=DATE:20231111
DTEND;VALUE=DATE:20231112
DTSTAMP:20260420T142947
CREATED:20230907T154112Z
LAST-MODIFIED:20231101T144150Z
UID:10035349-1699693200-1699722000@legacy.merrimackvalley.org
SUMMARY:Santa Experience
DESCRIPTION:A Santa Visit unlike any Santa visit your child has ever experienced!! \nFrom the first glimpse of Santa to finding their name on his nice list\, children are transported into Santa’s Magic world. \nDuring your visit\, the kids will explore Santa’s workshop\, help him make toys and even plan his trip around the globe. \nThe Santa Experience creates memories that will last a lifetime. Our photographers will capture each moment for you to enjoy forever.\nTreasure these memories in beautiful photos or create a storybook featuring your child’s visit.
URL:https://legacy.merrimackvalley.org/event/santa-experience/2023-11-11/
LOCATION:Luciana Calvin Photography Studio\, 21 Central Square\, Chelmsford\, MA\, 01824\, United States
CATEGORIES:Annual & Special,Kids & Family
ORGANIZER;CN="Luciana Calvin Photography":MAILTO:lcalvin@lucianacalvin.com
GEO:42.5961081;-71.3522182
X-APPLE-STRUCTURED-LOCATION;VALUE=URI;X-ADDRESS=Luciana Calvin Photography Studio 21 Central Square Chelmsford MA 01824 United States;X-APPLE-RADIUS=500;X-TITLE=21 Central Square:geo:-71.3522182,42.5961081
END:VEVENT
BEGIN:VEVENT
DTSTART;VALUE=DATE:20231104
DTEND;VALUE=DATE:20231105
DTSTAMP:20260420T142947
CREATED:20230907T154112Z
LAST-MODIFIED:20231101T144150Z
UID:10035348-1699088400-1699117200@legacy.merrimackvalley.org
SUMMARY:Santa Experience
DESCRIPTION:A Santa Visit unlike any Santa visit your child has ever experienced!! \nFrom the first glimpse of Santa to finding their name on his nice list\, children are transported into Santa’s Magic world. \nDuring your visit\, the kids will explore Santa’s workshop\, help him make toys and even plan his trip around the globe. \nThe Santa Experience creates memories that will last a lifetime. Our photographers will capture each moment for you to enjoy forever.\nTreasure these memories in beautiful photos or create a storybook featuring your child’s visit.
URL:https://legacy.merrimackvalley.org/event/santa-experience/2023-11-04/
LOCATION:Luciana Calvin Photography Studio\, 21 Central Square\, Chelmsford\, MA\, 01824\, United States
CATEGORIES:Annual & Special,Kids & Family
ORGANIZER;CN="Luciana Calvin Photography":MAILTO:lcalvin@lucianacalvin.com
GEO:42.5961081;-71.3522182
X-APPLE-STRUCTURED-LOCATION;VALUE=URI;X-ADDRESS=Luciana Calvin Photography Studio 21 Central Square Chelmsford MA 01824 United States;X-APPLE-RADIUS=500;X-TITLE=21 Central Square:geo:-71.3522182,42.5961081
END:VEVENT
BEGIN:VEVENT
DTSTART;VALUE=DATE:20231021
DTEND;VALUE=DATE:20231022
DTSTAMP:20260420T142947
CREATED:20230907T154112Z
LAST-MODIFIED:20231101T144150Z
UID:10035347-1697846400-1697932799@legacy.merrimackvalley.org
SUMMARY:Santa Experience
DESCRIPTION:A Santa Visit unlike any Santa visit your child has ever experienced!! \nFrom the first glimpse of Santa to finding their name on his nice list\, children are transported into Santa’s Magic world. \nDuring your visit\, the kids will explore Santa’s workshop\, help him make toys and even plan his trip around the globe. \nThe Santa Experience creates memories that will last a lifetime. Our photographers will capture each moment for you to enjoy forever.\nTreasure these memories in beautiful photos or create a storybook featuring your child’s visit.
URL:https://legacy.merrimackvalley.org/event/santa-experience/2023-10-21/
LOCATION:Luciana Calvin Photography Studio\, 21 Central Square\, Chelmsford\, MA\, 01824\, United States
CATEGORIES:Annual & Special,Kids & Family
ORGANIZER;CN="Luciana Calvin Photography":MAILTO:lcalvin@lucianacalvin.com
GEO:42.5961081;-71.3522182
X-APPLE-STRUCTURED-LOCATION;VALUE=URI;X-ADDRESS=Luciana Calvin Photography Studio 21 Central Square Chelmsford MA 01824 United States;X-APPLE-RADIUS=500;X-TITLE=21 Central Square:geo:-71.3522182,42.5961081
END:VEVENT
END:VCALENDAR