BEGIN:VCALENDAR
VERSION:2.0
PRODID:-//Merrimack Valley Massachusetts - ECPv6.15.13//NONSGML v1.0//EN
CALSCALE:GREGORIAN
METHOD:PUBLISH
X-WR-CALNAME:Merrimack Valley Massachusetts
X-ORIGINAL-URL:https://legacy.merrimackvalley.org
X-WR-CALDESC:Events for Merrimack Valley Massachusetts
REFRESH-INTERVAL;VALUE=DURATION:PT1H
X-Robots-Tag:noindex
X-PUBLISHED-TTL:PT1H
BEGIN:VTIMEZONE
TZID:America/New_York
BEGIN:DAYLIGHT
TZOFFSETFROM:-0500
TZOFFSETTO:-0400
TZNAME:EDT
DTSTART:20230312T070000
END:DAYLIGHT
BEGIN:STANDARD
TZOFFSETFROM:-0400
TZOFFSETTO:-0500
TZNAME:EST
DTSTART:20231105T060000
END:STANDARD
BEGIN:DAYLIGHT
TZOFFSETFROM:-0500
TZOFFSETTO:-0400
TZNAME:EDT
DTSTART:20240310T070000
END:DAYLIGHT
BEGIN:STANDARD
TZOFFSETFROM:-0400
TZOFFSETTO:-0500
TZNAME:EST
DTSTART:20241103T060000
END:STANDARD
BEGIN:DAYLIGHT
TZOFFSETFROM:-0500
TZOFFSETTO:-0400
TZNAME:EDT
DTSTART:20250309T070000
END:DAYLIGHT
BEGIN:STANDARD
TZOFFSETFROM:-0400
TZOFFSETTO:-0500
TZNAME:EST
DTSTART:20251102T060000
END:STANDARD
BEGIN:DAYLIGHT
TZOFFSETFROM:-0500
TZOFFSETTO:-0400
TZNAME:EDT
DTSTART:20260308T070000
END:DAYLIGHT
BEGIN:STANDARD
TZOFFSETFROM:-0400
TZOFFSETTO:-0500
TZNAME:EST
DTSTART:20261101T060000
END:STANDARD
END:VTIMEZONE
BEGIN:VEVENT
DTSTART;TZID=America/New_York:20251016T170000
DTEND;TZID=America/New_York:20251016T193000
DTSTAMP:20260414T170916
CREATED:20250910T221518Z
LAST-MODIFIED:20250910T221518Z
UID:10069512-1760634000-1760643000@legacy.merrimackvalley.org
SUMMARY:CBA Annual Meeting 2025
DESCRIPTION:Join CBA’s Annual Meeting for an evening of food\, music\, raffles\, and community celebration. The theme this year is “Impacting Generations Through Collective Action: We Welcome You!” Together\, we will honor the Acre’s diverse cultures and the impact of collective action across generations. There will be a brief business meeting and election of new officers. This free community-planned event is open to all!\nRSVP to info@cbacre.org or call 978-452-7523. \nÚnase a la Reunión Anual de la CBA para disfrutar de una noche de comida\, música\, rifas y celebración comunitaria. Tema del evento: “Impactando Generaciones Mediante la Acción Colectiv: Te Damos La Bienvenida.” Juntos\, honraremos la diversidad cultural de Acre y el impacto de la acción colectiva intergeneracional. Habrá una breve reunión de negocios y la elección de la nueva directiva. ¡Este evento es comunitario gratuito está abierto a todos! \nRSVP: info@cbacre.org o llamar 978-452-7523
URL:https://legacy.merrimackvalley.org/event/cba-annual-meeting-2025/
LOCATION:Lowell Senior Center\, Lowell Senior Center\, 276 Broadway St\, Lowell\, MA\, 01854\, United States
ATTACH;FMTTYPE=image/jpeg:https://legacy.merrimackvalley.org/wp-content/uploads/2025/09/2025-Annual-Meeting-Invite-English.jpg
ORGANIZER;CN="Coalition for a Better Acred":MAILTO:info@cbacre.org
GEO:42.6438288;-71.3193421
X-APPLE-STRUCTURED-LOCATION;VALUE=URI;X-ADDRESS=Lowell Senior Center Lowell Senior Center 276 Broadway St Lowell MA 01854 United States;X-APPLE-RADIUS=500;X-TITLE=Lowell Senior Center\, 276 Broadway St:geo:-71.3193421,42.6438288
END:VEVENT
BEGIN:VEVENT
DTSTART;TZID=America/New_York:20250924T173000
DTEND;TZID=America/New_York:20250924T190000
DTSTAMP:20260414T170916
CREATED:20250910T221421Z
LAST-MODIFIED:20250910T221421Z
UID:10069513-1758735000-1758740400@legacy.merrimackvalley.org
SUMMARY:September C.H.O.P. (Community Health Outreach Program) Dinner
DESCRIPTION:Join Coalition for a Better Acre for our September CHOP Dinner on Wednesday\, September 24th at 5:30 PM at the Lowell Senior Center\, 276 Broadway Street\, Lowell.\nThis month’s theme is “Fall Festival”\, featuring fresh produce\, festive decorations\, and live music to celebrate the season. Dinner will be a delicious soul food meal prepared by CTI’s YouthBuild program. \nCome share a meal\, connect with neighbors\, and enjoy a night of community and celebration! \nLocation: Lowell Senior Center\nContact: Dolores Sierra dolores.sierra@cbacre.org\n351-353-3335 \nÚnase a Coalition for a Better Acre para nuestra Cena CHOP de septiembre el miércoles\, 24 de septiembre a las 5:30 PM en el Lowell Senior Center\, 276 Broadway Street\, Lowell. \nEl tema de este mes es Festival de Otoño\, con productos frescos\, decoraciones festivas y música en vivo para celebrar la temporada. La cena será una deliciosa comida soul preparada por el programa YouthBuild de CTI. \n¡Venga a compartir una comida\, conectarse con sus vecinos y disfrutar de una noche de comunidad y celebración! \nUbicación: Lowell Senior CenterContacto: Dolores Sierra dolores.sierra@cbacre.org 351-353-3335
URL:https://legacy.merrimackvalley.org/event/september-c-h-o-p-community-health-outreach-program-dinner/
LOCATION:Lowell Senior Center\, Lowell Senior Center\, 276 Broadway St\, Lowell\, MA\, 01854\, United States
ATTACH;FMTTYPE=image/jpeg:https://legacy.merrimackvalley.org/wp-content/uploads/2025/09/CHOP-Sept-2025_English-scaled.jpg
ORGANIZER;CN="Coalition for a Better Acred":MAILTO:info@cbacre.org
GEO:42.6438288;-71.3193421
X-APPLE-STRUCTURED-LOCATION;VALUE=URI;X-ADDRESS=Lowell Senior Center Lowell Senior Center 276 Broadway St Lowell MA 01854 United States;X-APPLE-RADIUS=500;X-TITLE=Lowell Senior Center\, 276 Broadway St:geo:-71.3193421,42.6438288
END:VEVENT
BEGIN:VEVENT
DTSTART;TZID=America/New_York:20240420T090000
DTEND;TZID=America/New_York:20240420T130000
DTSTAMP:20260414T170916
CREATED:20240401T133215Z
LAST-MODIFIED:20240401T133215Z
UID:10052845-1713603600-1713618000@legacy.merrimackvalley.org
SUMMARY:Khmer New Year at the Lowell Senior Center
DESCRIPTION:All Ages • No Registration Required • Hosted by the Cambodian Mutual Assistance Association\nLocation: Lowell Senior Center\, 276 Broadway St\, Lowell\nJoin the Cambodian Mutual Assistance Association for another year of celebrating Khmer New Year. The event will feature delicious Khmer food\, beautiful traditional outfits\, and live performances of Cambodian folk dance.
URL:https://legacy.merrimackvalley.org/event/khmer-new-year-at-the-lowell-senior-center/
LOCATION:Lowell Senior Center\, Lowell Senior Center\, 276 Broadway St\, Lowell\, MA\, 01854\, United States
CATEGORIES:Arts & Culture,Kids & Family
GEO:42.6438288;-71.3193421
X-APPLE-STRUCTURED-LOCATION;VALUE=URI;X-ADDRESS=Lowell Senior Center Lowell Senior Center 276 Broadway St Lowell MA 01854 United States;X-APPLE-RADIUS=500;X-TITLE=Lowell Senior Center\, 276 Broadway St:geo:-71.3193421,42.6438288
END:VEVENT
BEGIN:VEVENT
DTSTART;TZID=America/New_York:20240420T080000
DTEND;TZID=America/New_York:20240420T170000
DTSTAMP:20260414T170916
CREATED:20240401T133144Z
LAST-MODIFIED:20240417T145138Z
UID:10052846-1713600000-1713632400@legacy.merrimackvalley.org
SUMMARY:Khmer New Year Parade
DESCRIPTION:All Ages • No Registration Required • Hosted by the Cambodian Mutual Assistance Association\nLocation: Lowell Highlands\nCome out and celebrate Khmer New Year by enjoying the parade from Lowell Senior Center to Clemente Park. The parade can also be livestreamed on the Cambodian Mutual Assistance Association’s website.
URL:https://legacy.merrimackvalley.org/event/khmer-new-year-parade/
LOCATION:Lowell Senior Center\, Lowell Senior Center\, 276 Broadway St\, Lowell\, MA\, 01854\, United States
CATEGORIES:Arts & Culture,Kids & Family,Live Performances
GEO:42.6438288;-71.3193421
X-APPLE-STRUCTURED-LOCATION;VALUE=URI;X-ADDRESS=Lowell Senior Center Lowell Senior Center 276 Broadway St Lowell MA 01854 United States;X-APPLE-RADIUS=500;X-TITLE=Lowell Senior Center\, 276 Broadway St:geo:-71.3193421,42.6438288
END:VEVENT
END:VCALENDAR