BEGIN:VCALENDAR
VERSION:2.0
PRODID:-//Merrimack Valley Massachusetts - ECPv6.15.13//NONSGML v1.0//EN
CALSCALE:GREGORIAN
METHOD:PUBLISH
X-WR-CALNAME:Merrimack Valley Massachusetts
X-ORIGINAL-URL:https://legacy.merrimackvalley.org
X-WR-CALDESC:Events for Merrimack Valley Massachusetts
REFRESH-INTERVAL;VALUE=DURATION:PT1H
X-Robots-Tag:noindex
X-PUBLISHED-TTL:PT1H
BEGIN:VTIMEZONE
TZID:America/New_York
BEGIN:DAYLIGHT
TZOFFSETFROM:-0500
TZOFFSETTO:-0400
TZNAME:EDT
DTSTART:20240310T070000
END:DAYLIGHT
BEGIN:STANDARD
TZOFFSETFROM:-0400
TZOFFSETTO:-0500
TZNAME:EST
DTSTART:20241103T060000
END:STANDARD
BEGIN:DAYLIGHT
TZOFFSETFROM:-0500
TZOFFSETTO:-0400
TZNAME:EDT
DTSTART:20250309T070000
END:DAYLIGHT
BEGIN:STANDARD
TZOFFSETFROM:-0400
TZOFFSETTO:-0500
TZNAME:EST
DTSTART:20251102T060000
END:STANDARD
BEGIN:DAYLIGHT
TZOFFSETFROM:-0500
TZOFFSETTO:-0400
TZNAME:EDT
DTSTART:20260308T070000
END:DAYLIGHT
BEGIN:STANDARD
TZOFFSETFROM:-0400
TZOFFSETTO:-0500
TZNAME:EST
DTSTART:20261101T060000
END:STANDARD
END:VTIMEZONE
BEGIN:VEVENT
DTSTART;TZID=America/New_York:20250415T170000
DTEND;TZID=America/New_York:20250415T190000
DTSTAMP:20260422T082121
CREATED:20250314T190547Z
LAST-MODIFIED:20250314T190547Z
UID:10062785-1744736400-1744743600@legacy.merrimackvalley.org
SUMMARY:April Networking Open House - Lord Hobo Woburn
DESCRIPTION:Come join us for a fun evening of networking at Lord Hobo Brewing Company! Connect with professionals in a relaxed atmosphere while enjoying delicious craft beers. Whether you’re looking to make new business contacts or simply unwind after a long day\, this event is the perfect opportunity to meet like-minded individuals. Don’t miss out on this chance to expand your network and have a great time!
URL:https://legacy.merrimackvalley.org/event/april-networking-open-house-lord-hobo-woburn/
LOCATION:Lord Hobo\, 5 Draper Street\, Woburn\, MA\, 01801\, United States
ATTACH;FMTTYPE=image/png:https://legacy.merrimackvalley.org/wp-content/uploads/2025/03/lord-hobo-logo.png
GEO:42.4760037;-71.1289764
X-APPLE-STRUCTURED-LOCATION;VALUE=URI;X-ADDRESS=Lord Hobo 5 Draper Street Woburn MA 01801 United States;X-APPLE-RADIUS=500;X-TITLE=5 Draper Street:geo:-71.1289764,42.4760037
END:VEVENT
END:VCALENDAR