BEGIN:VCALENDAR
VERSION:2.0
PRODID:-//Merrimack Valley Massachusetts - ECPv6.15.13//NONSGML v1.0//EN
CALSCALE:GREGORIAN
METHOD:PUBLISH
X-ORIGINAL-URL:https://legacy.merrimackvalley.org
X-WR-CALDESC:Events for Merrimack Valley Massachusetts
REFRESH-INTERVAL;VALUE=DURATION:PT1H
X-Robots-Tag:noindex
X-PUBLISHED-TTL:PT1H
BEGIN:VTIMEZONE
TZID:America/New_York
BEGIN:DAYLIGHT
TZOFFSETFROM:-0500
TZOFFSETTO:-0400
TZNAME:EDT
DTSTART:20230312T070000
END:DAYLIGHT
BEGIN:STANDARD
TZOFFSETFROM:-0400
TZOFFSETTO:-0500
TZNAME:EST
DTSTART:20231105T060000
END:STANDARD
BEGIN:DAYLIGHT
TZOFFSETFROM:-0500
TZOFFSETTO:-0400
TZNAME:EDT
DTSTART:20240310T070000
END:DAYLIGHT
BEGIN:STANDARD
TZOFFSETFROM:-0400
TZOFFSETTO:-0500
TZNAME:EST
DTSTART:20241103T060000
END:STANDARD
BEGIN:DAYLIGHT
TZOFFSETFROM:-0500
TZOFFSETTO:-0400
TZNAME:EDT
DTSTART:20250309T070000
END:DAYLIGHT
BEGIN:STANDARD
TZOFFSETFROM:-0400
TZOFFSETTO:-0500
TZNAME:EST
DTSTART:20251102T060000
END:STANDARD
END:VTIMEZONE
BEGIN:VEVENT
DTSTART;TZID=America/New_York:20240402T090000
DTEND;TZID=America/New_York:20240402T163000
DTSTAMP:20260420T181232
CREATED:20240306T142547Z
LAST-MODIFIED:20240306T142547Z
UID:10050806-1712048400-1712075400@legacy.merrimackvalley.org
SUMMARY:2024 Governor's Conference on Travel & Tourism
DESCRIPTION:Join us for a full day of industry networking and learning\, featuring remarks from Governor Maura Healey and Lt. Governor Kim Driscoll. \nThe Massachusetts Office of Travel & Tourism (MOTT) presents the 2024 Governor’s Conference on Travel & Tourism\, an all-day gathering to bring together industry experts\, government officials\, and hospitality professionals. Join us in person on April 2\, 2024\, at 9:00 AM for dynamic and relevant panels\, networking opportunities\, and a chance to dive into the latest topics impacting travel and tourism in Massachusetts. \nHighlights will include remarks from Governor Healey and Lt. Governor Driscoll\, the presentation of the Massachusetts Tourism Awards\, and announcements regarding Massachusetts 250th and the upcoming Massachusetts domestic marketing campaign. Continental breakfast\, lunch\, and refreshments will be provided. Join Team Massachusetts for the first Governor’s Conference on Travel & Tourism in nearly a decade. If you’re in the industry\, you won’t want to miss this event! \nIf you’re interested in participating in this conference as an exhibitor\, please fill out this interest form and someone will be in touch with more details. \nIndividuals with disabilities are encouraged to attend MOTT events. If you require an accommodation(s) to fully participate in this event\, please share your requirements in the registration form. For additional support\, please contact Elisabeth@discoverasg.com. Advance notice is necessary to arrange for some accessibility needs.
URL:https://legacy.merrimackvalley.org/event/2024-governors-conference-on-travel-tourism/
LOCATION:Hilton Boston Logan Airport\, One Hotel Drive\, Boston\, 02128\, United States
CATEGORIES:Annual & Special
ATTACH;FMTTYPE=image/jpeg:https://legacy.merrimackvalley.org/wp-content/uploads/2024/03/https___cdn.evbuc_.com_images_706580259_1692825787653_1_original.jpeg
GEO:42.3673923;-71.0244582
X-APPLE-STRUCTURED-LOCATION;VALUE=URI;X-ADDRESS=Hilton Boston Logan Airport One Hotel Drive Boston 02128 United States;X-APPLE-RADIUS=500;X-TITLE=One Hotel Drive:geo:-71.0244582,42.3673923
END:VEVENT
END:VCALENDAR