BEGIN:VCALENDAR
VERSION:2.0
PRODID:-//Merrimack Valley Massachusetts - ECPv6.15.13//NONSGML v1.0//EN
CALSCALE:GREGORIAN
METHOD:PUBLISH
X-WR-CALNAME:Merrimack Valley Massachusetts
X-ORIGINAL-URL:https://legacy.merrimackvalley.org
X-WR-CALDESC:Events for Merrimack Valley Massachusetts
REFRESH-INTERVAL;VALUE=DURATION:PT1H
X-Robots-Tag:noindex
X-PUBLISHED-TTL:PT1H
BEGIN:VTIMEZONE
TZID:America/New_York
BEGIN:DAYLIGHT
TZOFFSETFROM:-0500
TZOFFSETTO:-0400
TZNAME:EDT
DTSTART:20220313T070000
END:DAYLIGHT
BEGIN:STANDARD
TZOFFSETFROM:-0400
TZOFFSETTO:-0500
TZNAME:EST
DTSTART:20221106T060000
END:STANDARD
BEGIN:DAYLIGHT
TZOFFSETFROM:-0500
TZOFFSETTO:-0400
TZNAME:EDT
DTSTART:20230312T070000
END:DAYLIGHT
BEGIN:STANDARD
TZOFFSETFROM:-0400
TZOFFSETTO:-0500
TZNAME:EST
DTSTART:20231105T060000
END:STANDARD
BEGIN:DAYLIGHT
TZOFFSETFROM:-0500
TZOFFSETTO:-0400
TZNAME:EDT
DTSTART:20240310T070000
END:DAYLIGHT
BEGIN:STANDARD
TZOFFSETFROM:-0400
TZOFFSETTO:-0500
TZNAME:EST
DTSTART:20241103T060000
END:STANDARD
BEGIN:DAYLIGHT
TZOFFSETFROM:-0500
TZOFFSETTO:-0400
TZNAME:EDT
DTSTART:20250309T070000
END:DAYLIGHT
BEGIN:STANDARD
TZOFFSETFROM:-0400
TZOFFSETTO:-0500
TZNAME:EST
DTSTART:20251102T060000
END:STANDARD
BEGIN:DAYLIGHT
TZOFFSETFROM:-0500
TZOFFSETTO:-0400
TZNAME:EDT
DTSTART:20260308T070000
END:DAYLIGHT
BEGIN:STANDARD
TZOFFSETFROM:-0400
TZOFFSETTO:-0500
TZNAME:EST
DTSTART:20261101T060000
END:STANDARD
END:VTIMEZONE
BEGIN:VEVENT
DTSTART;TZID=America/New_York:20250928T100000
DTEND;TZID=America/New_York:20250928T170000
DTSTAMP:20260421T074354
CREATED:20250929T143918Z
LAST-MODIFIED:20250929T143918Z
UID:10069848-1759053600-1759078800@legacy.merrimackvalley.org
SUMMARY:National Alpaca Farm Days
DESCRIPTION:Join us for National Alpaca Farm Days this weekend at Harvard Alpaca Ranch! Celebrate our 9th anniversary with extra tours\, baby alpacas\, and fiber demonstrations. Enjoy live music and delicious food while supporting our farm. Don’t miss out on exclusive rewards for our loyal customers! Sign up now for a tour slot (www.harvardalpacaranch.com) and help us keep our alpacas healthy and happy!
URL:https://legacy.merrimackvalley.org/event/national-alpaca-farm-days-3/2025-09-28/
LOCATION:Harvard Alpaca Ranch\, 58 Old Mill Road\, Harvard\, MA\, 01451\, United States
CATEGORIES:Agricultural,Fairs & Festivals
ATTACH;FMTTYPE=image/jpeg:https://legacy.merrimackvalley.org/wp-content/uploads/2025/09/PXL_20250527_181153557.PORTRAIT2-1-scaled.jpg
ORGANIZER;CN="Harvard Alpaca Ranch":MAILTO:harvardalpacas@gmail.com
GEO:42.536035;-71.5868837
X-APPLE-STRUCTURED-LOCATION;VALUE=URI;X-ADDRESS=Harvard Alpaca Ranch 58 Old Mill Road Harvard MA 01451 United States;X-APPLE-RADIUS=500;X-TITLE=58 Old Mill Road:geo:-71.5868837,42.536035
END:VEVENT
BEGIN:VEVENT
DTSTART;TZID=America/New_York:20250927T100000
DTEND;TZID=America/New_York:20250927T170000
DTSTAMP:20260421T074354
CREATED:20250929T143918Z
LAST-MODIFIED:20250929T143918Z
UID:10069847-1758967200-1758992400@legacy.merrimackvalley.org
SUMMARY:National Alpaca Farm Days
DESCRIPTION:Join us for National Alpaca Farm Days this weekend at Harvard Alpaca Ranch! Celebrate our 9th anniversary with extra tours\, baby alpacas\, and fiber demonstrations. Enjoy live music and delicious food while supporting our farm. Don’t miss out on exclusive rewards for our loyal customers! Sign up now for a tour slot (www.harvardalpacaranch.com) and help us keep our alpacas healthy and happy!
URL:https://legacy.merrimackvalley.org/event/national-alpaca-farm-days-3/2025-09-27/
LOCATION:Harvard Alpaca Ranch\, 58 Old Mill Road\, Harvard\, MA\, 01451\, United States
CATEGORIES:Agricultural,Fairs & Festivals
ATTACH;FMTTYPE=image/jpeg:https://legacy.merrimackvalley.org/wp-content/uploads/2025/09/PXL_20250527_181153557.PORTRAIT2-1-scaled.jpg
ORGANIZER;CN="Harvard Alpaca Ranch":MAILTO:harvardalpacas@gmail.com
GEO:42.536035;-71.5868837
X-APPLE-STRUCTURED-LOCATION;VALUE=URI;X-ADDRESS=Harvard Alpaca Ranch 58 Old Mill Road Harvard MA 01451 United States;X-APPLE-RADIUS=500;X-TITLE=58 Old Mill Road:geo:-71.5868837,42.536035
END:VEVENT
BEGIN:VEVENT
DTSTART;TZID=America/New_York:20240928T100000
DTEND;TZID=America/New_York:20240929T170000
DTSTAMP:20260421T074354
CREATED:20240920T131407Z
LAST-MODIFIED:20240920T131443Z
UID:10057472-1727517600-1727629200@legacy.merrimackvalley.org
SUMMARY:National Alpaca Farm Days
DESCRIPTION:Join us in celebrating our eighth anniversary at National Alpaca Farm Days. In addition to hosting tours of the farm all day on Saturday and Sunday\, we are very excited to once again welcome The Fat Rooster food truck to the farm. We will have live music and a mini farmers market on Saturday and fiber art demonstrations on both days. We will be welcoming Lost Shoe Brewery on Sunday for a beer garden at the Ranch. We will also have kids activities\, special sales\, and giveaways all weekend. Come out and help us celebrate our wonderful herd of 34 alpacas!! Please book ahead if you want to take a tour (https://harvard-alpaca-ranch.square.site/s/appointments) . Otherwise\, just drop in! No charge to enter but donations are encouraged! THIS IS A RAIN OR SHINE EVENT – We will have tents and various building to take cover in\, as needed.
URL:https://legacy.merrimackvalley.org/event/national-alpaca-farm-days-2/
LOCATION:Harvard Alpaca Ranch\, 58 Old Mill Road\, Harvard\, MA\, 01451\, United States
CATEGORIES:Agricultural,Annual & Special,Free Events,Kids & Family,Outdoors
ATTACH;FMTTYPE=image/jpeg:https://legacy.merrimackvalley.org/wp-content/uploads/2024/09/NAFD.jpg
ORGANIZER;CN="Harvard Alpaca Ranch":MAILTO:harvardalpacas@gmail.com
GEO:42.536035;-71.5868837
X-APPLE-STRUCTURED-LOCATION;VALUE=URI;X-ADDRESS=Harvard Alpaca Ranch 58 Old Mill Road Harvard MA 01451 United States;X-APPLE-RADIUS=500;X-TITLE=58 Old Mill Road:geo:-71.5868837,42.536035
END:VEVENT
BEGIN:VEVENT
DTSTART;TZID=America/New_York:20230924T100000
DTEND;TZID=America/New_York:20230924T170000
DTSTAMP:20260421T074354
CREATED:20230913T201024Z
LAST-MODIFIED:20230914T141537Z
UID:10038057-1695549600-1695574800@legacy.merrimackvalley.org
SUMMARY:National Alpaca Farm Days
DESCRIPTION:Join Harvard Alpaca Ranch in celebrating seven years as a farm business at National Alpaca Farm Days. We will be offering tours of the farm\, fiber demonstrations\, kids activities\, and special sales and offers in the Alpaca Shop. We are especially excited to welcome The Fat Rooster Food Truck and local singer/songwriter\, Sara Rice to the Ranch. Please check our website for updated information on the activities schedule. \nThis is a free event although we do appreciate donations to support the Ranch. Reservations are needed to participate in a Farm Tour. Make your reservation here: \nhttps://squareup.com/appointments/book/3363e64f-3aef-40de-9f1e-006219e38c98/8VBYZVCBJW0XE/services
URL:https://legacy.merrimackvalley.org/event/national-alpaca-farm-days/2023-09-24/
LOCATION:Harvard Alpaca Ranch\, 58 Old Mill Road\, Harvard\, MA\, 01451\, United States
CATEGORIES:Annual & Special
GEO:42.536035;-71.5868837
X-APPLE-STRUCTURED-LOCATION;VALUE=URI;X-ADDRESS=Harvard Alpaca Ranch 58 Old Mill Road Harvard MA 01451 United States;X-APPLE-RADIUS=500;X-TITLE=58 Old Mill Road:geo:-71.5868837,42.536035
END:VEVENT
BEGIN:VEVENT
DTSTART;TZID=America/New_York:20230923T100000
DTEND;TZID=America/New_York:20230923T170000
DTSTAMP:20260421T074354
CREATED:20230913T201024Z
LAST-MODIFIED:20230914T141537Z
UID:10038056-1695463200-1695488400@legacy.merrimackvalley.org
SUMMARY:National Alpaca Farm Days
DESCRIPTION:Join Harvard Alpaca Ranch in celebrating seven years as a farm business at National Alpaca Farm Days. We will be offering tours of the farm\, fiber demonstrations\, kids activities\, and special sales and offers in the Alpaca Shop. We are especially excited to welcome The Fat Rooster Food Truck and local singer/songwriter\, Sara Rice to the Ranch. Please check our website for updated information on the activities schedule. \nThis is a free event although we do appreciate donations to support the Ranch. Reservations are needed to participate in a Farm Tour. Make your reservation here: \nhttps://squareup.com/appointments/book/3363e64f-3aef-40de-9f1e-006219e38c98/8VBYZVCBJW0XE/services
URL:https://legacy.merrimackvalley.org/event/national-alpaca-farm-days/2023-09-23/
LOCATION:Harvard Alpaca Ranch\, 58 Old Mill Road\, Harvard\, MA\, 01451\, United States
CATEGORIES:Annual & Special
GEO:42.536035;-71.5868837
X-APPLE-STRUCTURED-LOCATION;VALUE=URI;X-ADDRESS=Harvard Alpaca Ranch 58 Old Mill Road Harvard MA 01451 United States;X-APPLE-RADIUS=500;X-TITLE=58 Old Mill Road:geo:-71.5868837,42.536035
END:VEVENT
END:VCALENDAR