BEGIN:VCALENDAR
VERSION:2.0
PRODID:-//Merrimack Valley Massachusetts - ECPv6.15.13//NONSGML v1.0//EN
CALSCALE:GREGORIAN
METHOD:PUBLISH
X-ORIGINAL-URL:https://legacy.merrimackvalley.org
X-WR-CALDESC:Events for Merrimack Valley Massachusetts
REFRESH-INTERVAL;VALUE=DURATION:PT1H
X-Robots-Tag:noindex
X-PUBLISHED-TTL:PT1H
BEGIN:VTIMEZONE
TZID:America/New_York
BEGIN:DAYLIGHT
TZOFFSETFROM:-0500
TZOFFSETTO:-0400
TZNAME:EDT
DTSTART:20250309T070000
END:DAYLIGHT
BEGIN:STANDARD
TZOFFSETFROM:-0400
TZOFFSETTO:-0500
TZNAME:EST
DTSTART:20251102T060000
END:STANDARD
BEGIN:DAYLIGHT
TZOFFSETFROM:-0500
TZOFFSETTO:-0400
TZNAME:EDT
DTSTART:20260308T070000
END:DAYLIGHT
BEGIN:STANDARD
TZOFFSETFROM:-0400
TZOFFSETTO:-0500
TZNAME:EST
DTSTART:20261101T060000
END:STANDARD
BEGIN:DAYLIGHT
TZOFFSETFROM:-0500
TZOFFSETTO:-0400
TZNAME:EDT
DTSTART:20270314T070000
END:DAYLIGHT
BEGIN:STANDARD
TZOFFSETFROM:-0400
TZOFFSETTO:-0500
TZNAME:EST
DTSTART:20271107T060000
END:STANDARD
END:VTIMEZONE
BEGIN:VTIMEZONE
TZID:Europe/Madrid
BEGIN:DAYLIGHT
TZOFFSETFROM:+0100
TZOFFSETTO:+0200
TZNAME:CEST
DTSTART:20250330T010000
END:DAYLIGHT
BEGIN:STANDARD
TZOFFSETFROM:+0200
TZOFFSETTO:+0100
TZNAME:CET
DTSTART:20251026T010000
END:STANDARD
BEGIN:DAYLIGHT
TZOFFSETFROM:+0100
TZOFFSETTO:+0200
TZNAME:CEST
DTSTART:20260329T010000
END:DAYLIGHT
BEGIN:STANDARD
TZOFFSETFROM:+0200
TZOFFSETTO:+0100
TZNAME:CET
DTSTART:20261025T010000
END:STANDARD
BEGIN:DAYLIGHT
TZOFFSETFROM:+0100
TZOFFSETTO:+0200
TZNAME:CEST
DTSTART:20270328T010000
END:DAYLIGHT
BEGIN:STANDARD
TZOFFSETFROM:+0200
TZOFFSETTO:+0100
TZNAME:CET
DTSTART:20271031T010000
END:STANDARD
END:VTIMEZONE
BEGIN:VEVENT
DTSTART;TZID=America/New_York:20260509T080000
DTEND;TZID=America/New_York:20260509T170000
DTSTAMP:20260419T195503
CREATED:20250828T152117Z
LAST-MODIFIED:20250828T152117Z
UID:10069256-1778313600-1778346000@legacy.merrimackvalley.org
SUMMARY:Doors Open Lowell
DESCRIPTION:Lowell was the first city in the United States to launch this prestigious event dedicated to preservation\, architecture\, and design which is presented as part of the community’s National Preservation Month activities.  Each May you can explore many of Lowell’s historic buildings\, from residential lofts to churches to rehabilitated mills and everything in between.  Doors Open Lowell is completely FREE with no registration or tickets required. \nLowell is known nationally and internationally for its preservation-based economic development efforts.  Nearly $1 billion has been invested in the Downtown Lowell Historic District with nearly 98% of 5.2 million square feet of mill space having been rehabilitated.  Preservation sets the stage for much of the city’s economic development\, tourism\, and cultural efforts and Doors Open Lowell is an opportunity to catch a glimpse of that success.
URL:https://legacy.merrimackvalley.org/event/doors-open-lowell-3/
LOCATION:Greater Merrimack Valley Convention and Visitors Bureau\, Greater Merrimack Valley Convention and Visitors Bureau\, 115 Merrimack St\, Lowell\, MA\, 01852\, United States
CATEGORIES:Annual & Special
ATTACH;FMTTYPE=image/jpeg:https://legacy.merrimackvalley.org/wp-content/uploads/2025/08/DoorsOpenLowell2025.jpg
ORGANIZER;CN="Mosaic Lowell":MAILTO:info@mosaiclowell.org
GEO:42.6540975;-71.3272538
X-APPLE-STRUCTURED-LOCATION;VALUE=URI;X-ADDRESS=Greater Merrimack Valley Convention and Visitors Bureau Greater Merrimack Valley Convention and Visitors Bureau 115 Merrimack St Lowell MA 01852 United States;X-APPLE-RADIUS=500;X-TITLE=Greater Merrimack Valley Convention and Visitors Bureau\, 115 Merrimack St:geo:-71.3272538,42.6540975
END:VEVENT
BEGIN:VEVENT
DTSTART;TZID=Europe/Madrid:20260528T093000
DTEND;TZID=Europe/Madrid:20260530T183000
DTSTAMP:20260419T195503
CREATED:20251007T141059Z
LAST-MODIFIED:20251007T141059Z
UID:10070125-1779960600-1780165800@legacy.merrimackvalley.org
SUMMARY:Global summit on Civil\, Structural and Environmental Engineering.
DESCRIPTION:CIVIL2026 will serve as a dynamic platform to explore the latest breakthroughs\, emerging technologies\, and future directions\,bringing together experts\, innovators\, and thought leaders from academia\, industry\, and research to share insights\, foster collaboration\, and explore the latest trends and innovations across civil\, structural\, and environmental engineering.
URL:https://legacy.merrimackvalley.org/event/global-summit-on-civil-structural-and-environmental-engineering/
LOCATION:Greater Merrimack Valley Convention and Visitors Bureau\, Greater Merrimack Valley Convention and Visitors Bureau\, 115 Merrimack St\, Lowell\, MA\, 01852\, United States
ATTACH;FMTTYPE=image/jpeg:https://legacy.merrimackvalley.org/wp-content/uploads/2025/10/civil-Logo.jpg
GEO:42.6540975;-71.3272538
X-APPLE-STRUCTURED-LOCATION;VALUE=URI;X-ADDRESS=Greater Merrimack Valley Convention and Visitors Bureau Greater Merrimack Valley Convention and Visitors Bureau 115 Merrimack St Lowell MA 01852 United States;X-APPLE-RADIUS=500;X-TITLE=Greater Merrimack Valley Convention and Visitors Bureau\, 115 Merrimack St:geo:-71.3272538,42.6540975
END:VEVENT
END:VCALENDAR