BEGIN:VCALENDAR
VERSION:2.0
PRODID:-//Merrimack Valley Massachusetts - ECPv6.15.13//NONSGML v1.0//EN
CALSCALE:GREGORIAN
METHOD:PUBLISH
X-WR-CALNAME:Merrimack Valley Massachusetts
X-ORIGINAL-URL:https://legacy.merrimackvalley.org
X-WR-CALDESC:Events for Merrimack Valley Massachusetts
REFRESH-INTERVAL;VALUE=DURATION:PT1H
X-Robots-Tag:noindex
X-PUBLISHED-TTL:PT1H
BEGIN:VTIMEZONE
TZID:America/New_York
BEGIN:DAYLIGHT
TZOFFSETFROM:-0500
TZOFFSETTO:-0400
TZNAME:EDT
DTSTART:20230312T070000
END:DAYLIGHT
BEGIN:STANDARD
TZOFFSETFROM:-0400
TZOFFSETTO:-0500
TZNAME:EST
DTSTART:20231105T060000
END:STANDARD
BEGIN:DAYLIGHT
TZOFFSETFROM:-0500
TZOFFSETTO:-0400
TZNAME:EDT
DTSTART:20240310T070000
END:DAYLIGHT
BEGIN:STANDARD
TZOFFSETFROM:-0400
TZOFFSETTO:-0500
TZNAME:EST
DTSTART:20241103T060000
END:STANDARD
BEGIN:DAYLIGHT
TZOFFSETFROM:-0500
TZOFFSETTO:-0400
TZNAME:EDT
DTSTART:20250309T070000
END:DAYLIGHT
BEGIN:STANDARD
TZOFFSETFROM:-0400
TZOFFSETTO:-0500
TZNAME:EST
DTSTART:20251102T060000
END:STANDARD
END:VTIMEZONE
BEGIN:VEVENT
DTSTART;TZID=America/New_York:20240928T090000
DTEND;TZID=America/New_York:20240928T120000
DTSTAMP:20260421T063343
CREATED:20240829T205014Z
LAST-MODIFIED:20240829T205014Z
UID:10057190-1727514000-1727524800@legacy.merrimackvalley.org
SUMMARY:Public Lands Day Clean Up 2024
DESCRIPTION:Join Lowell National Historical Park for the annual Public Lands Day Clean-up! Volunteer to clean up along trails and riverbanks and help clear invasive plants and brush. Supplies including gloves are provided – we request that you please wear appropriate closed-toe shoes and clothes you don’t mind getting a little dirty. \nVolunteers can plan to meet at the Concord River Green Way (Parking is at the Davidson St. open lot\, across the street from Lowell Memorial Auditorium off East Merrimack St.) \nThe National Park Service will be partnering with Lowell Parks and Conservation Trust\, Lowell Canalwaters Cleaners\, and Lowell Litter Krewe to clean along the Concord River Greenway in honor of Public Lands Day. \n“National Public Lands Day is more than a clean-up—it’s a chance to connect with new communities\, an event that creates kinship among those working together for a common goal\, and an opportunity to use America’s public lands for education\, recreation\, and overall physical and mental health. The theme for this year’s celebration is National Public Lands Day: Together for Tomorrow. Let’s join forces for a common goal\, stewarding America’s natural resources for future generations to enjoy. Be a part of this impactful day and help make a difference in our public lands!” -NPS
URL:https://legacy.merrimackvalley.org/event/public-lands-day-clean-up-2024/
LOCATION:Concord River Greenway (Davidson St.)\, 51 Davidson Street\, Lowell\, MA\, 01852\, United States
CATEGORIES:Free Events,Outdoors
ATTACH;FMTTYPE=image/jpeg:https://legacy.merrimackvalley.org/wp-content/uploads/2024/08/Public-Lands-Day-Cleanup.jpg
ORGANIZER;CN="Lowell National Historical Park":MAILTO:phil_lupsiewicz@nps.gov
GEO:42.6438864;-71.3053079
X-APPLE-STRUCTURED-LOCATION;VALUE=URI;X-ADDRESS=Concord River Greenway (Davidson St.) 51 Davidson Street Lowell MA 01852 United States;X-APPLE-RADIUS=500;X-TITLE=51 Davidson Street:geo:-71.3053079,42.6438864
END:VEVENT
END:VCALENDAR