BEGIN:VCALENDAR
VERSION:2.0
PRODID:-//Merrimack Valley Massachusetts - ECPv6.15.13//NONSGML v1.0//EN
CALSCALE:GREGORIAN
METHOD:PUBLISH
X-WR-CALNAME:Merrimack Valley Massachusetts
X-ORIGINAL-URL:https://legacy.merrimackvalley.org
X-WR-CALDESC:Events for Merrimack Valley Massachusetts
REFRESH-INTERVAL;VALUE=DURATION:PT1H
X-Robots-Tag:noindex
X-PUBLISHED-TTL:PT1H
BEGIN:VTIMEZONE
TZID:America/New_York
BEGIN:DAYLIGHT
TZOFFSETFROM:-0500
TZOFFSETTO:-0400
TZNAME:EDT
DTSTART:20230312T070000
END:DAYLIGHT
BEGIN:STANDARD
TZOFFSETFROM:-0400
TZOFFSETTO:-0500
TZNAME:EST
DTSTART:20231105T060000
END:STANDARD
BEGIN:DAYLIGHT
TZOFFSETFROM:-0500
TZOFFSETTO:-0400
TZNAME:EDT
DTSTART:20240310T070000
END:DAYLIGHT
BEGIN:STANDARD
TZOFFSETFROM:-0400
TZOFFSETTO:-0500
TZNAME:EST
DTSTART:20241103T060000
END:STANDARD
BEGIN:DAYLIGHT
TZOFFSETFROM:-0500
TZOFFSETTO:-0400
TZNAME:EDT
DTSTART:20250309T070000
END:DAYLIGHT
BEGIN:STANDARD
TZOFFSETFROM:-0400
TZOFFSETTO:-0500
TZNAME:EST
DTSTART:20251102T060000
END:STANDARD
BEGIN:DAYLIGHT
TZOFFSETFROM:-0500
TZOFFSETTO:-0400
TZNAME:EDT
DTSTART:20260308T070000
END:DAYLIGHT
BEGIN:STANDARD
TZOFFSETFROM:-0400
TZOFFSETTO:-0500
TZNAME:EST
DTSTART:20261101T060000
END:STANDARD
END:VTIMEZONE
BEGIN:VEVENT
DTSTART;TZID=America/New_York:20251129T110000
DTEND;TZID=America/New_York:20251129T190000
DTSTAMP:20260420T041128
CREATED:20251118T162655Z
LAST-MODIFIED:20251118T162655Z
UID:10071710-1764414000-1764442800@legacy.merrimackvalley.org
SUMMARY:City of Lights- Lowell
DESCRIPTION:FESTIVAL FUN\nCity of Lights is a family event with something for everyone. Main attractions include the Holiday Parade\, Photos with Santa\, a holiday movie screening at the Donahue Family Academic Arts Center and the annual hot chocolate and storefront decorating contests (vote for your favorite!). \nPARADE\nThe annual City of Lights parade welcomes the holiday season with the arrival of Mr. and Mrs. Claus to light JFK Plaza and the Wannalancit smokestack. The City of Lights parade steps off from Jackson Street\, turns left onto Central Street\, and continues onto Merrimack Street.\nWhether you catch the parade as it starts\, or you prefer to watch the end\, the City of Lights parade is sure to entertain all ages.
URL:https://legacy.merrimackvalley.org/event/city-of-lights-lowell/
LOCATION:City of Lowell\, Lowell\, Massachusetts\, United States
ATTACH;FMTTYPE=image/jpeg:https://legacy.merrimackvalley.org/wp-content/uploads/2025/11/CityofLights-Lowell-2025.jpg
ORGANIZER;CN="City of Lowell%2C Office of Cultural Affairs and Special Events":MAILTO:case@lowellma.gov
GEO:42.6334247;-71.3161718
END:VEVENT
BEGIN:VEVENT
DTSTART;TZID=America/New_York:20251025T120000
DTEND;TZID=America/New_York:20251025T180000
DTSTAMP:20260420T041128
CREATED:20251017T151436Z
LAST-MODIFIED:20251017T151436Z
UID:10070316-1761393600-1761415200@legacy.merrimackvalley.org
SUMMARY:Lowell's Free MonsterBash & Fall Fest
DESCRIPTION:Get your Halloween costumes ready \nExplore the not-too-spooky haunted house produced by the Kiwanis Club of Greater Lowell at Lowell City Hall\, and trick or treat through downtown Lowell. Local organizations will be hanging out on JFK Plaza with kid’s activities and candy at the Neighborhood Haunt! \nAfter getting your candy haul and checking out the haunted house\, stop by Rockland Trust parking lot on Merrimack Street for free carnival rides\, food trucks\, and live music. \nSaturday\, October 25\, 12:00-6:00PM\n12:00PM-3:00PM \nHaunted House at Lowell City Hall \n375 Merrimack Street\, Lowell MA 01852 \nCity Hall transforms into a not-too-scary haunted house\, produced by the Kiwanis Club of Greater Lowell. \nNOTE: the line for the Haunted House closes at 2:45PM \nTrick or Treating through Downtown Lowell \nLook for a pumpkin painted on the sidewalk in front of participating trick or treat locations throughout Downtown Lowell. Make sure to bring your own bag for treats! \nCheck out the trick or treat map below for more info- or stop by the Like Lowell tent on JFK Plaza for a paper copy! \n1:00PM-6:00PM \nLive music\, free carnival rides\, food trucks\, and beer garden at Rockland Trust Parking Lot \n222 Merrimack Street\, Lowell MA 01852 \nEat\, drink\, and be scary! Enjoy live music and a bite while your little ones ride free carnival rides.
URL:https://legacy.merrimackvalley.org/event/lowells-free-monsterbash-fall-fest/
LOCATION:City of Lowell\, Lowell\, Massachusetts\, United States
ATTACH;FMTTYPE=image/jpeg:https://legacy.merrimackvalley.org/wp-content/uploads/2025/10/MonsterBash-281-scaled.jpg
ORGANIZER;CN="City of Lowell%2C Office of Cultural Affairs and Special Events":MAILTO:case@lowellma.gov
GEO:42.6334247;-71.3161718
END:VEVENT
BEGIN:VEVENT
DTSTART;TZID=America/New_York:20250221T184500
DTEND;TZID=America/New_York:20250222T211500
DTSTAMP:20260420T041128
CREATED:20240917T185514Z
LAST-MODIFIED:20241016T181023Z
UID:10057467-1740163500-1740258900@legacy.merrimackvalley.org
SUMMARY:Lowell Winterfest 2025
DESCRIPTION:One of Lowell’s most beloved annual traditions\, Lowell Winterfest is a can’t-miss weekend festival that showcases some of the best the city has to offer. You can shake off those winter blues and experience a memorable and epic festival right in downtown Lowell. From local food to live entertainment to shopping\, there’s no shortage of exciting things to do at Lowell Winterfest 2025! Events Schedule will be available soon.
URL:https://legacy.merrimackvalley.org/event/lowell-winterfest-2025/
LOCATION:City of Lowell\, Lowell\, Massachusetts\, United States
CATEGORIES:Fairs & Festivals,Kids & Family
ATTACH;FMTTYPE=image/png:https://legacy.merrimackvalley.org/wp-content/uploads/2024/09/Screenshot-2024-09-17-144006.png
ORGANIZER;CN="City of Lowell%2C Office of Cultural Affairs and Special Events":MAILTO:case@lowellma.gov
GEO:42.6334247;-71.3161718
END:VEVENT
BEGIN:VEVENT
DTSTART;TZID=America/New_York:20241130T120000
DTEND;TZID=America/New_York:20241201T200000
DTSTAMP:20260420T041128
CREATED:20241029T152036Z
LAST-MODIFIED:20241029T152754Z
UID:10060444-1732968000-1733083200@legacy.merrimackvalley.org
SUMMARY:Yuletide Market
DESCRIPTION:This year\, don’t miss the Yuletide Market—a brand-new addition to the City of Lights celebration\, hosted by DIY Lowell! 🎄🎁 Stroll through a festive marketplace filled with unique\, handmade gifts\, local art\, and seasonal treats perfect for your holiday shopping. \nMark your calendars and explore the magic at the Yuletide Market—where creativity and community come together to make the season brighter. \nLearn more: yuletidemarket.org \nSaturday\, Nov 30 Noon – 8 pm\nSunday\, Dec 1 Noon – 4 pm \n  \nFor more details on the City of Lights celebration\, please visit: https://www.lowellcityoflights.org/
URL:https://legacy.merrimackvalley.org/event/yuletide-market/
LOCATION:City of Lowell\, Lowell\, Massachusetts\, United States
CATEGORIES:Annual & Special,Fairs & Festivals,Kids & Family
ATTACH;FMTTYPE=image/png:https://legacy.merrimackvalley.org/wp-content/uploads/2024/10/Screenshot-2024-10-29-at-11.22.21 AM.png
ORGANIZER;CN="City of Lowell%2C Office of Cultural Affairs and Special Events":MAILTO:case@lowellma.gov
GEO:42.6334247;-71.3161718
END:VEVENT
BEGIN:VEVENT
DTSTART;VALUE=DATE:20241130
DTEND;VALUE=DATE:20241201
DTSTAMP:20260420T041128
CREATED:20240917T185632Z
LAST-MODIFIED:20241029T151629Z
UID:10057468-1732924800-1733011199@legacy.merrimackvalley.org
SUMMARY:City of Lights 2024 - Lowell
DESCRIPTION:Join The Holiday-Themed Festivities! \nCity of Lights in downtown Lowell on Saturday\, November 30 is a family event with something for everyone! Main attractions include the Holiday Parade\, photos with Santa\, a holiday movie screening at the Donahue Family Academic Arts Center\, a festive concert\, and the annual hot chocolate and window decorating contests (vote for your favorite!) At 4:30 p.m.\, the parade commences from Jackson Street and ends at City Hall\, where Santa Claus will make his first appearance of the season and will throw the switch to light City Hall. \nThis year\, don’t miss the YuleTide Market—a brand-new addition to the City of Lights celebration\, hosted by DIY Lowell! 🎄🎁 Stroll through a festive marketplace filled with unique\, handmade gifts\, local art\, and seasonal treats perfect for your holiday shopping. \nMark your calendars and explore the magic at the YuleTide Market—where creativity and community come together to make the season brighter. \nLearn more: yuletidemarket.org \nFor more details\, please visit: https://www.lowellcityoflights.org/
URL:https://legacy.merrimackvalley.org/event/city-of-lights-2024-lowell/
LOCATION:City of Lowell\, Lowell\, Massachusetts\, United States
CATEGORIES:Annual & Special,Fairs & Festivals,Free Events,Kids & Family
ATTACH;FMTTYPE=image/jpeg:https://legacy.merrimackvalley.org/wp-content/uploads/2024/09/image001.jpg
ORGANIZER;CN="City of Lowell%2C Office of Cultural Affairs and Special Events":MAILTO:case@lowellma.gov
GEO:42.6334247;-71.3161718
END:VEVENT
END:VCALENDAR