BEGIN:VCALENDAR
VERSION:2.0
PRODID:-//Merrimack Valley Massachusetts - ECPv6.15.13//NONSGML v1.0//EN
CALSCALE:GREGORIAN
METHOD:PUBLISH
X-ORIGINAL-URL:https://legacy.merrimackvalley.org
X-WR-CALDESC:Events for Merrimack Valley Massachusetts
REFRESH-INTERVAL;VALUE=DURATION:PT1H
X-Robots-Tag:noindex
X-PUBLISHED-TTL:PT1H
BEGIN:VTIMEZONE
TZID:America/New_York
BEGIN:DAYLIGHT
TZOFFSETFROM:-0500
TZOFFSETTO:-0400
TZNAME:EDT
DTSTART:20220313T070000
END:DAYLIGHT
BEGIN:STANDARD
TZOFFSETFROM:-0400
TZOFFSETTO:-0500
TZNAME:EST
DTSTART:20221106T060000
END:STANDARD
BEGIN:DAYLIGHT
TZOFFSETFROM:-0500
TZOFFSETTO:-0400
TZNAME:EDT
DTSTART:20230312T070000
END:DAYLIGHT
BEGIN:STANDARD
TZOFFSETFROM:-0400
TZOFFSETTO:-0500
TZNAME:EST
DTSTART:20231105T060000
END:STANDARD
BEGIN:DAYLIGHT
TZOFFSETFROM:-0500
TZOFFSETTO:-0400
TZNAME:EDT
DTSTART:20240310T070000
END:DAYLIGHT
BEGIN:STANDARD
TZOFFSETFROM:-0400
TZOFFSETTO:-0500
TZNAME:EST
DTSTART:20241103T060000
END:STANDARD
BEGIN:DAYLIGHT
TZOFFSETFROM:-0500
TZOFFSETTO:-0400
TZNAME:EDT
DTSTART:20250309T070000
END:DAYLIGHT
BEGIN:STANDARD
TZOFFSETFROM:-0400
TZOFFSETTO:-0500
TZNAME:EST
DTSTART:20251102T060000
END:STANDARD
END:VTIMEZONE
BEGIN:VEVENT
DTSTART;TZID=America/New_York:20241225T170000
DTEND;TZID=America/New_York:20241225T200000
DTSTAMP:20260420T094018
CREATED:20241220T135231Z
LAST-MODIFIED:20241220T135231Z
UID:10062273-1735146000-1735156800@legacy.merrimackvalley.org
SUMMARY:Have a Jolly Christmas Dinner at PINO at Chateau Merrimack Resort & Spa
DESCRIPTION:RSVP by December 22nd
URL:https://legacy.merrimackvalley.org/event/have-a-jolly-christmas-dinner-at-pino-at-chateau-merrimack-resort-spa/
LOCATION:Chateau Merrimack\, 160 Pawtucket Boulevard\, Tyngsborough\, MA\, 01879\, United States
CATEGORIES:Culinary Tourism
ATTACH;FMTTYPE=image/jpeg:https://legacy.merrimackvalley.org/wp-content/uploads/2024/12/Pino.jpg
GEO:42.6592493;-71.3962847
X-APPLE-STRUCTURED-LOCATION;VALUE=URI;X-ADDRESS=Chateau Merrimack 160 Pawtucket Boulevard Tyngsborough MA 01879 United States;X-APPLE-RADIUS=500;X-TITLE=160 Pawtucket Boulevard:geo:-71.3962847,42.6592493
END:VEVENT
BEGIN:VEVENT
DTSTART;TZID=America/New_York:20230514T110000
DTEND;TZID=America/New_York:20230514T133000
DTSTAMP:20260420T094018
CREATED:20230504T182457Z
LAST-MODIFIED:20230504T182927Z
UID:10027151-1684062000-1684071000@legacy.merrimackvalley.org
SUMMARY:Mother's Day Brunch at the Chateau Merrimack
DESCRIPTION:Mother’s Day Brunch at the Chateau Merrimack in Tyngsboro\, MA.
URL:https://legacy.merrimackvalley.org/event/mothers-day-brunch-at-the-chateau-merrimack/
LOCATION:Chateau Merrimack\, 160 Pawtucket Boulevard\, Tyngsborough\, MA\, 01879\, United States
CATEGORIES:Annual & Special,Culinary Tourism
GEO:42.6592493;-71.3962847
X-APPLE-STRUCTURED-LOCATION;VALUE=URI;X-ADDRESS=Chateau Merrimack 160 Pawtucket Boulevard Tyngsborough MA 01879 United States;X-APPLE-RADIUS=500;X-TITLE=160 Pawtucket Boulevard:geo:-71.3962847,42.6592493
END:VEVENT
BEGIN:VEVENT
DTSTART;TZID=America/New_York:20230506T160000
DTEND;TZID=America/New_York:20230506T190000
DTSTAMP:20260420T094018
CREATED:20230504T182306Z
LAST-MODIFIED:20230504T182306Z
UID:10027150-1683388800-1683399600@legacy.merrimackvalley.org
SUMMARY:Kentucky Derby at The Chateau
DESCRIPTION:Chateau Merrimack proudly presents our first annual Kentucky Derby Party!!
URL:https://legacy.merrimackvalley.org/event/kentucky-derby-at-the-chateau/
LOCATION:Chateau Merrimack\, 160 Pawtucket Boulevard\, Tyngsborough\, MA\, 01879\, United States
CATEGORIES:Annual & Special
GEO:42.6592493;-71.3962847
X-APPLE-STRUCTURED-LOCATION;VALUE=URI;X-ADDRESS=Chateau Merrimack 160 Pawtucket Boulevard Tyngsborough MA 01879 United States;X-APPLE-RADIUS=500;X-TITLE=160 Pawtucket Boulevard:geo:-71.3962847,42.6592493
END:VEVENT
END:VCALENDAR