BEGIN:VCALENDAR
VERSION:2.0
PRODID:-//Merrimack Valley Massachusetts - ECPv6.15.13//NONSGML v1.0//EN
CALSCALE:GREGORIAN
METHOD:PUBLISH
X-WR-CALNAME:Merrimack Valley Massachusetts
X-ORIGINAL-URL:https://legacy.merrimackvalley.org
X-WR-CALDESC:Events for Merrimack Valley Massachusetts
REFRESH-INTERVAL;VALUE=DURATION:PT1H
X-Robots-Tag:noindex
X-PUBLISHED-TTL:PT1H
BEGIN:VTIMEZONE
TZID:America/New_York
BEGIN:DAYLIGHT
TZOFFSETFROM:-0500
TZOFFSETTO:-0400
TZNAME:EDT
DTSTART:20220313T070000
END:DAYLIGHT
BEGIN:STANDARD
TZOFFSETFROM:-0400
TZOFFSETTO:-0500
TZNAME:EST
DTSTART:20221106T060000
END:STANDARD
BEGIN:DAYLIGHT
TZOFFSETFROM:-0500
TZOFFSETTO:-0400
TZNAME:EDT
DTSTART:20230312T070000
END:DAYLIGHT
BEGIN:STANDARD
TZOFFSETFROM:-0400
TZOFFSETTO:-0500
TZNAME:EST
DTSTART:20231105T060000
END:STANDARD
BEGIN:DAYLIGHT
TZOFFSETFROM:-0500
TZOFFSETTO:-0400
TZNAME:EDT
DTSTART:20240310T070000
END:DAYLIGHT
BEGIN:STANDARD
TZOFFSETFROM:-0400
TZOFFSETTO:-0500
TZNAME:EST
DTSTART:20241103T060000
END:STANDARD
END:VTIMEZONE
BEGIN:VEVENT
DTSTART;TZID=America/New_York:20230928T163000
DTEND;TZID=America/New_York:20230928T203000
DTSTAMP:20260420T193323
CREATED:20230808T192928Z
LAST-MODIFIED:20230808T192928Z
UID:10032928-1695918600-1695933000@legacy.merrimackvalley.org
SUMMARY:Town Center Beer Garden & Local Business Fest Thursdays
DESCRIPTION:Beginning Thursday\, September 7\, various New England-based breweries will be on location serving their\nspecialty beverages along with a variety of non-alcohol options from 4:30pm-8:30pm. \nBurlington’s Town Center independent restaurants will also be on-site offering signature food dishes every\nThursday\, including Hala Eats!\, Pizza Works\, Rosa Mexicano\, True North Coffee\, Al Maidah\, Sausage Guy\,\nViet Citron & School House Ice Cream. \nPeople are encouraged to purchase food\, snacks from the businesses along the Cambridge Street corridor\,\nand enjoy them at Community Corner pocket park. The breweries will rotate each Thursday: \n9/7 Zero Gravity\n9/14 Lord Hobo\n9/21 Lawson’s Finest Liquid\n9/28 Mighty Squirrel \nAn estimated 1\,200 people participated in last year’s family and dog-friendly events which featured a\ndifferent Massachusetts brewery each week. \nTown Center Beer Garden & Local Business Thursdays is part of Burlington’s “placemaking” effort which\nis a people-centered approach to the planning\, design\, and use of public spaces. Through a collaborative\nprocess\, do-able improvements are identified and implemented that bring immediate benefits to the people\nwho use these spaces. \nCommunity Corner pocket park is an installation that converted vehicle parking spaces at 184 Cambridge\nStreet into a playful public space with green turf. In 2022\, Mary Leach’s “Community Corner” entry was chosen as the winning name in the Name the Park contest. Building upon the success of the 2022 Beer Garden Thursdays and the 2021 Beer Garden & Business Open House event\, this weekly Thursday night program in September is expected to once again increase foot traffic and business activity in Burlington’s Town Center. \nEvent Information: \nCommunity Beer Garden Thursdays \nWhen: Thursdays – September 7\, 14\, 21 & 28 \nLocation: “Community Corner” Pocket Park in Burlington Town Center\, 202 Cambridge Street (beside\nColdwell Banker Realty) \nTime: 4:30pm – 8:30pm
URL:https://legacy.merrimackvalley.org/event/town-center-beer-garden-local-business-fest-thursdays/2023-09-28/
LOCATION:Burlington Town Commons\, 202 Cambridge St\, Burlington\, MA\, 01803\, United States
CATEGORIES:Fairs & Festivals,Free Events,Outdoors
GEO:42.5119527;-71.2009435
X-APPLE-STRUCTURED-LOCATION;VALUE=URI;X-ADDRESS=Burlington Town Commons 202 Cambridge St Burlington MA 01803 United States;X-APPLE-RADIUS=500;X-TITLE=202 Cambridge St:geo:-71.2009435,42.5119527
END:VEVENT
BEGIN:VEVENT
DTSTART;TZID=America/New_York:20230921T163000
DTEND;TZID=America/New_York:20230921T203000
DTSTAMP:20260420T193323
CREATED:20230808T192928Z
LAST-MODIFIED:20230808T192928Z
UID:10032927-1695313800-1695328200@legacy.merrimackvalley.org
SUMMARY:Town Center Beer Garden & Local Business Fest Thursdays
DESCRIPTION:Beginning Thursday\, September 7\, various New England-based breweries will be on location serving their\nspecialty beverages along with a variety of non-alcohol options from 4:30pm-8:30pm. \nBurlington’s Town Center independent restaurants will also be on-site offering signature food dishes every\nThursday\, including Hala Eats!\, Pizza Works\, Rosa Mexicano\, True North Coffee\, Al Maidah\, Sausage Guy\,\nViet Citron & School House Ice Cream. \nPeople are encouraged to purchase food\, snacks from the businesses along the Cambridge Street corridor\,\nand enjoy them at Community Corner pocket park. The breweries will rotate each Thursday: \n9/7 Zero Gravity\n9/14 Lord Hobo\n9/21 Lawson’s Finest Liquid\n9/28 Mighty Squirrel \nAn estimated 1\,200 people participated in last year’s family and dog-friendly events which featured a\ndifferent Massachusetts brewery each week. \nTown Center Beer Garden & Local Business Thursdays is part of Burlington’s “placemaking” effort which\nis a people-centered approach to the planning\, design\, and use of public spaces. Through a collaborative\nprocess\, do-able improvements are identified and implemented that bring immediate benefits to the people\nwho use these spaces. \nCommunity Corner pocket park is an installation that converted vehicle parking spaces at 184 Cambridge\nStreet into a playful public space with green turf. In 2022\, Mary Leach’s “Community Corner” entry was chosen as the winning name in the Name the Park contest. Building upon the success of the 2022 Beer Garden Thursdays and the 2021 Beer Garden & Business Open House event\, this weekly Thursday night program in September is expected to once again increase foot traffic and business activity in Burlington’s Town Center. \nEvent Information: \nCommunity Beer Garden Thursdays \nWhen: Thursdays – September 7\, 14\, 21 & 28 \nLocation: “Community Corner” Pocket Park in Burlington Town Center\, 202 Cambridge Street (beside\nColdwell Banker Realty) \nTime: 4:30pm – 8:30pm
URL:https://legacy.merrimackvalley.org/event/town-center-beer-garden-local-business-fest-thursdays/2023-09-21/
LOCATION:Burlington Town Commons\, 202 Cambridge St\, Burlington\, MA\, 01803\, United States
CATEGORIES:Fairs & Festivals,Free Events,Outdoors
GEO:42.5119527;-71.2009435
X-APPLE-STRUCTURED-LOCATION;VALUE=URI;X-ADDRESS=Burlington Town Commons 202 Cambridge St Burlington MA 01803 United States;X-APPLE-RADIUS=500;X-TITLE=202 Cambridge St:geo:-71.2009435,42.5119527
END:VEVENT
BEGIN:VEVENT
DTSTART;TZID=America/New_York:20230914T163000
DTEND;TZID=America/New_York:20230914T203000
DTSTAMP:20260420T193323
CREATED:20230808T192928Z
LAST-MODIFIED:20230808T192928Z
UID:10032926-1694709000-1694723400@legacy.merrimackvalley.org
SUMMARY:Town Center Beer Garden & Local Business Fest Thursdays
DESCRIPTION:Beginning Thursday\, September 7\, various New England-based breweries will be on location serving their\nspecialty beverages along with a variety of non-alcohol options from 4:30pm-8:30pm. \nBurlington’s Town Center independent restaurants will also be on-site offering signature food dishes every\nThursday\, including Hala Eats!\, Pizza Works\, Rosa Mexicano\, True North Coffee\, Al Maidah\, Sausage Guy\,\nViet Citron & School House Ice Cream. \nPeople are encouraged to purchase food\, snacks from the businesses along the Cambridge Street corridor\,\nand enjoy them at Community Corner pocket park. The breweries will rotate each Thursday: \n9/7 Zero Gravity\n9/14 Lord Hobo\n9/21 Lawson’s Finest Liquid\n9/28 Mighty Squirrel \nAn estimated 1\,200 people participated in last year’s family and dog-friendly events which featured a\ndifferent Massachusetts brewery each week. \nTown Center Beer Garden & Local Business Thursdays is part of Burlington’s “placemaking” effort which\nis a people-centered approach to the planning\, design\, and use of public spaces. Through a collaborative\nprocess\, do-able improvements are identified and implemented that bring immediate benefits to the people\nwho use these spaces. \nCommunity Corner pocket park is an installation that converted vehicle parking spaces at 184 Cambridge\nStreet into a playful public space with green turf. In 2022\, Mary Leach’s “Community Corner” entry was chosen as the winning name in the Name the Park contest. Building upon the success of the 2022 Beer Garden Thursdays and the 2021 Beer Garden & Business Open House event\, this weekly Thursday night program in September is expected to once again increase foot traffic and business activity in Burlington’s Town Center. \nEvent Information: \nCommunity Beer Garden Thursdays \nWhen: Thursdays – September 7\, 14\, 21 & 28 \nLocation: “Community Corner” Pocket Park in Burlington Town Center\, 202 Cambridge Street (beside\nColdwell Banker Realty) \nTime: 4:30pm – 8:30pm
URL:https://legacy.merrimackvalley.org/event/town-center-beer-garden-local-business-fest-thursdays/2023-09-14/
LOCATION:Burlington Town Commons\, 202 Cambridge St\, Burlington\, MA\, 01803\, United States
CATEGORIES:Fairs & Festivals,Free Events,Outdoors
GEO:42.5119527;-71.2009435
X-APPLE-STRUCTURED-LOCATION;VALUE=URI;X-ADDRESS=Burlington Town Commons 202 Cambridge St Burlington MA 01803 United States;X-APPLE-RADIUS=500;X-TITLE=202 Cambridge St:geo:-71.2009435,42.5119527
END:VEVENT
BEGIN:VEVENT
DTSTART;TZID=America/New_York:20230907T163000
DTEND;TZID=America/New_York:20230907T203000
DTSTAMP:20260420T193323
CREATED:20230808T192928Z
LAST-MODIFIED:20230808T192928Z
UID:10032925-1694104200-1694118600@legacy.merrimackvalley.org
SUMMARY:Town Center Beer Garden & Local Business Fest Thursdays
DESCRIPTION:Beginning Thursday\, September 7\, various New England-based breweries will be on location serving their\nspecialty beverages along with a variety of non-alcohol options from 4:30pm-8:30pm. \nBurlington’s Town Center independent restaurants will also be on-site offering signature food dishes every\nThursday\, including Hala Eats!\, Pizza Works\, Rosa Mexicano\, True North Coffee\, Al Maidah\, Sausage Guy\,\nViet Citron & School House Ice Cream. \nPeople are encouraged to purchase food\, snacks from the businesses along the Cambridge Street corridor\,\nand enjoy them at Community Corner pocket park. The breweries will rotate each Thursday: \n9/7 Zero Gravity\n9/14 Lord Hobo\n9/21 Lawson’s Finest Liquid\n9/28 Mighty Squirrel \nAn estimated 1\,200 people participated in last year’s family and dog-friendly events which featured a\ndifferent Massachusetts brewery each week. \nTown Center Beer Garden & Local Business Thursdays is part of Burlington’s “placemaking” effort which\nis a people-centered approach to the planning\, design\, and use of public spaces. Through a collaborative\nprocess\, do-able improvements are identified and implemented that bring immediate benefits to the people\nwho use these spaces. \nCommunity Corner pocket park is an installation that converted vehicle parking spaces at 184 Cambridge\nStreet into a playful public space with green turf. In 2022\, Mary Leach’s “Community Corner” entry was chosen as the winning name in the Name the Park contest. Building upon the success of the 2022 Beer Garden Thursdays and the 2021 Beer Garden & Business Open House event\, this weekly Thursday night program in September is expected to once again increase foot traffic and business activity in Burlington’s Town Center. \nEvent Information: \nCommunity Beer Garden Thursdays \nWhen: Thursdays – September 7\, 14\, 21 & 28 \nLocation: “Community Corner” Pocket Park in Burlington Town Center\, 202 Cambridge Street (beside\nColdwell Banker Realty) \nTime: 4:30pm – 8:30pm
URL:https://legacy.merrimackvalley.org/event/town-center-beer-garden-local-business-fest-thursdays/2023-09-07/
LOCATION:Burlington Town Commons\, 202 Cambridge St\, Burlington\, MA\, 01803\, United States
CATEGORIES:Fairs & Festivals,Free Events,Outdoors
GEO:42.5119527;-71.2009435
X-APPLE-STRUCTURED-LOCATION;VALUE=URI;X-ADDRESS=Burlington Town Commons 202 Cambridge St Burlington MA 01803 United States;X-APPLE-RADIUS=500;X-TITLE=202 Cambridge St:geo:-71.2009435,42.5119527
END:VEVENT
END:VCALENDAR