BEGIN:VCALENDAR
VERSION:2.0
PRODID:-//Merrimack Valley Massachusetts - ECPv6.15.13//NONSGML v1.0//EN
CALSCALE:GREGORIAN
METHOD:PUBLISH
X-WR-CALNAME:Merrimack Valley Massachusetts
X-ORIGINAL-URL:https://legacy.merrimackvalley.org
X-WR-CALDESC:Events for Merrimack Valley Massachusetts
REFRESH-INTERVAL;VALUE=DURATION:PT1H
X-Robots-Tag:noindex
X-PUBLISHED-TTL:PT1H
BEGIN:VTIMEZONE
TZID:America/New_York
BEGIN:DAYLIGHT
TZOFFSETFROM:-0500
TZOFFSETTO:-0400
TZNAME:EDT
DTSTART:20240310T070000
END:DAYLIGHT
BEGIN:STANDARD
TZOFFSETFROM:-0400
TZOFFSETTO:-0500
TZNAME:EST
DTSTART:20241103T060000
END:STANDARD
BEGIN:DAYLIGHT
TZOFFSETFROM:-0500
TZOFFSETTO:-0400
TZNAME:EDT
DTSTART:20250309T070000
END:DAYLIGHT
BEGIN:STANDARD
TZOFFSETFROM:-0400
TZOFFSETTO:-0500
TZNAME:EST
DTSTART:20251102T060000
END:STANDARD
BEGIN:DAYLIGHT
TZOFFSETFROM:-0500
TZOFFSETTO:-0400
TZNAME:EDT
DTSTART:20260308T070000
END:DAYLIGHT
BEGIN:STANDARD
TZOFFSETFROM:-0400
TZOFFSETTO:-0500
TZNAME:EST
DTSTART:20261101T060000
END:STANDARD
END:VTIMEZONE
BEGIN:VEVENT
DTSTART;TZID=America/New_York:20250508T173000
DTEND;TZID=America/New_York:20250508T213000
DTSTAMP:20260422T115924
CREATED:20250307T133656Z
LAST-MODIFIED:20250307T133656Z
UID:10062751-1746725400-1746739800@legacy.merrimackvalley.org
SUMMARY:27th Annual Rotary Club of Andover Citizens Who Care Gala
DESCRIPTION:The Rotary Club of Andover will celebrate its annual Citizens Who Care & Educator of the Year (CWC-EOY) Gala on Thursday\, May 8th\, 2025 at the Andover Country Club. This prestigious event\, which begins at 5:30 pm\, honors individuals who have demonstrated exceptional volunteerism and have made significant contributions to the local community. \nSince 1996\, the CWC-EOY program has recognized unsung heroes whose dedication to service embodies the spirit of volunteerism. The 2025 honorees include: Ellen Arvidson\, Ajita Bhat\, Donald Cooper\, Mary Beth Ellis & Eric Olson – The Sidney Mae Olson Rainbow Fund\, Amy Janovsky\, Martha Mahoney\, Susan K. McCready\, Shawna M. McCloskey & Kristine A. Arakelian\, Mark Morgan\, and Buzz Stapczynski. The 2025 Educator of the Year is Julie Diehl\, and Student of the Year is Sofia Duran-Clark. \nThe CWC-EOY Gala is the Rotary Club’s signature event and a key fundraiser. It attracts a wide range of attendees\, including families and friends of the honorees\, Rotary members\, town officials such as the Select Board\, town manager\, and state representatives\, as well as volunteers from various community organizations. The event is unique in its ability to bring together such a diverse group that plays an integral role in shaping Andover’s future. \nTickets for the gala are available on the Rotary Club of Andover’s website at https://rotaryandover.org
URL:https://legacy.merrimackvalley.org/event/27th-annual-rotary-club-of-andover-citizens-who-care-gala/
LOCATION:Andover Country Club\, Andover Country Club\, 60 Canterbury St #2825\, Andover\, MA\, 01810\, United States
ATTACH;FMTTYPE=image/jpeg:https://legacy.merrimackvalley.org/wp-content/uploads/2025/03/CWC-EOY-Logo.jpg
ORGANIZER;CN="Rotary Club of Andover":MAILTO:dikiesel@gmail.com
GEO:42.672686;-71.166872
X-APPLE-STRUCTURED-LOCATION;VALUE=URI;X-ADDRESS=Andover Country Club Andover Country Club 60 Canterbury St #2825 Andover MA 01810 United States;X-APPLE-RADIUS=500;X-TITLE=Andover Country Club\, 60 Canterbury St #2825:geo:-71.166872,42.672686
END:VEVENT
END:VCALENDAR