BEGIN:VCALENDAR
VERSION:2.0
PRODID:-//Merrimack Valley Massachusetts - ECPv6.15.13//NONSGML v1.0//EN
CALSCALE:GREGORIAN
METHOD:PUBLISH
X-WR-CALNAME:Merrimack Valley Massachusetts
X-ORIGINAL-URL:https://legacy.merrimackvalley.org
X-WR-CALDESC:Events for Merrimack Valley Massachusetts
REFRESH-INTERVAL;VALUE=DURATION:PT1H
X-Robots-Tag:noindex
X-PUBLISHED-TTL:PT1H
BEGIN:VTIMEZONE
TZID:America/New_York
BEGIN:DAYLIGHT
TZOFFSETFROM:-0500
TZOFFSETTO:-0400
TZNAME:EDT
DTSTART:20230312T070000
END:DAYLIGHT
BEGIN:STANDARD
TZOFFSETFROM:-0400
TZOFFSETTO:-0500
TZNAME:EST
DTSTART:20231105T060000
END:STANDARD
BEGIN:DAYLIGHT
TZOFFSETFROM:-0500
TZOFFSETTO:-0400
TZNAME:EDT
DTSTART:20240310T070000
END:DAYLIGHT
BEGIN:STANDARD
TZOFFSETFROM:-0400
TZOFFSETTO:-0500
TZNAME:EST
DTSTART:20241103T060000
END:STANDARD
BEGIN:DAYLIGHT
TZOFFSETFROM:-0500
TZOFFSETTO:-0400
TZNAME:EDT
DTSTART:20250309T070000
END:DAYLIGHT
BEGIN:STANDARD
TZOFFSETFROM:-0400
TZOFFSETTO:-0500
TZNAME:EST
DTSTART:20251102T060000
END:STANDARD
BEGIN:DAYLIGHT
TZOFFSETFROM:-0500
TZOFFSETTO:-0400
TZNAME:EDT
DTSTART:20260308T070000
END:DAYLIGHT
BEGIN:STANDARD
TZOFFSETFROM:-0400
TZOFFSETTO:-0500
TZNAME:EST
DTSTART:20261101T060000
END:STANDARD
END:VTIMEZONE
BEGIN:VEVENT
DTSTART;TZID=America/New_York:20250331T190000
DTEND;TZID=America/New_York:20250331T203000
DTSTAMP:20260420T141824
CREATED:20250205T201240Z
LAST-MODIFIED:20250205T201240Z
UID:10062649-1743447600-1743453000@legacy.merrimackvalley.org
SUMMARY:"Spies and Military Intelligence" with John Bell
DESCRIPTION:Acton Town Hall\, Room 204 from 7-8:30 PM \nSpies and Military Intelligence with John Bell Book Cover \nNoted author and historian J. L. Bell will discuss the key role of military intelligence and spies before the momentous battle at Concord and how the Colonials also effectively disseminated news of the outcome. Besides his writing\, John maintains the Boston 1775 blog\, boston1775.blogspot.com/ which offers daily helpings of history\, analysis\, and unabashed gossip about Revolutionary New England.
URL:https://legacy.merrimackvalley.org/event/spies-and-military-intelligence-with-john-bell/
LOCATION:Acton Town Hall\, 472 Main Street\, Acton\, MA\, 01720\, United States
CATEGORIES:Featured,Free Events,Historical,Lecture
ATTACH;FMTTYPE=image/jpeg:https://legacy.merrimackvalley.org/wp-content/uploads/2025/02/March-31.jpg
ORGANIZER;CN="Acton 250 Committee":MAILTO:acton250@acton-ma.gov
GEO:42.4861656;-71.4336006
X-APPLE-STRUCTURED-LOCATION;VALUE=URI;X-ADDRESS=Acton Town Hall 472 Main Street Acton MA 01720 United States;X-APPLE-RADIUS=500;X-TITLE=472 Main Street:geo:-71.4336006,42.4861656
END:VEVENT
BEGIN:VEVENT
DTSTART;TZID=America/New_York:20250306T190000
DTEND;TZID=America/New_York:20250306T203000
DTSTAMP:20260420T141824
CREATED:20250205T191508Z
LAST-MODIFIED:20250205T191508Z
UID:10062637-1741287600-1741293000@legacy.merrimackvalley.org
SUMMARY:"A Sculpture Speaks for Her Statues" with Meredith Bergmann
DESCRIPTION:Acton Town Hall\, Room 204 from 7-8:30 PM\nA sculpture speaks for her statues image \nNationally renowned sculptor and Acton resident Meredith Bergmann produced inspiring monuments to many great Americans. Her artistic process includes learning about each figure as she creates the bronze statue. Phillis Wheatley (c. 1753 – December 5\, 1784)\, whose bronze statue appears in the Boston Women’s Memorial in Boston\, is one such monument. She is considered the first African American author of a published book of poetry. Come learn about Phillis and Meredith’s other subjects.
URL:https://legacy.merrimackvalley.org/event/a-sculpture-speaks-for-her-statues-with-meredith-bergmann/
LOCATION:Acton Town Hall\, 472 Main Street\, Acton\, MA\, 01720\, United States
CATEGORIES:Free Events,Historical,MA250
ATTACH;FMTTYPE=image/jpeg:https://legacy.merrimackvalley.org/wp-content/uploads/2025/02/March-6.jpg
ORGANIZER;CN="Acton 250 Committee":MAILTO:acton250@acton-ma.gov
GEO:42.4861656;-71.4336006
X-APPLE-STRUCTURED-LOCATION;VALUE=URI;X-ADDRESS=Acton Town Hall 472 Main Street Acton MA 01720 United States;X-APPLE-RADIUS=500;X-TITLE=472 Main Street:geo:-71.4336006,42.4861656
END:VEVENT
BEGIN:VEVENT
DTSTART;TZID=America/New_York:20250129T190000
DTEND;TZID=America/New_York:20250129T203000
DTSTAMP:20260420T141824
CREATED:20250122T165032Z
LAST-MODIFIED:20250122T165032Z
UID:10062587-1738177200-1738182600@legacy.merrimackvalley.org
SUMMARY:Bullet Strikes from the First Day of the American Revolution
DESCRIPTION:The Acton 250 Committee presents Joel Bohy\, a historic arms & militaria specialist at Blackstone Valley Auctions and Estates. Joel will discuss the arms and ammunition used by both British and provincial forces on April 19\, 1775\, as well as the battle damage that remain. Using modern shooting incident reconstruction\, archaeology\, live fire studies\, and new research\, we can shed new light on the heavy fighting along the route of the British retreat back to Boston. \nJoel Bohy is a historic arms & militaria specialist at Blackstone Valley Auctions and Estates and a frequent appraiser of arms & militaria on the PBS series Antiques Roadshow. He is an active member of the American Society of Arms Collectors\, the Company of Military Historians\, The Colonial Society of Massachusetts\, an instructor for Advanced Metal Detecting for the Archaeologist\, and an advisory board member of American Veterans Archaeological Recovery. \nRemote Participation: You can watch live at Acton TV http://tinyurl.com/Acton-TV. Recordings will be available at Acton TV https://actontv.org/ and on our website https://www.actonma.gov/250 where you’ll find all programming information and a link to our commemorative store. \nSponsored by the Acton Lions Club
URL:https://legacy.merrimackvalley.org/event/bullet-strikes-from-the-first-day-of-the-american-revolution/
LOCATION:Acton Town Hall\, 472 Main Street\, Acton\, MA\, 01720\, United States
CATEGORIES:Free Events,Historical,Lecture,MA250,Talks and Film
ATTACH;FMTTYPE=image/jpeg:https://legacy.merrimackvalley.org/wp-content/uploads/2025/01/Acton-250Small.jpg
ORGANIZER;CN="Acton 250 Committee":MAILTO:acton250@acton-ma.gov
GEO:42.4861656;-71.4336006
X-APPLE-STRUCTURED-LOCATION;VALUE=URI;X-ADDRESS=Acton Town Hall 472 Main Street Acton MA 01720 United States;X-APPLE-RADIUS=500;X-TITLE=472 Main Street:geo:-71.4336006,42.4861656
END:VEVENT
BEGIN:VEVENT
DTSTART;TZID=America/New_York:20240625T160000
DTEND;TZID=America/New_York:20240625T180000
DTSTAMP:20260420T141824
CREATED:20240614T132628Z
LAST-MODIFIED:20240614T132644Z
UID:10056895-1719331200-1719338400@legacy.merrimackvalley.org
SUMMARY:Public Contracting Event
DESCRIPTION:State Representative Dan Sena\, the Town of Acton\, 495MW Partnership\, the Operational Services Division\, and the MA Supplier Diversity Office are hosting an event for local businesses to learn about working with the Commonwealth of Massachusetts. This networking event\, supported by the Middlesex West Chamber of Commerce\, will include light refreshments. \nAttending the event provides an opportunity to meet with an OSD Strategic Sourcing Manager to discuss upcoming Statewide Contract opportunities. You can also speak with representatives from the state’s Supplier Diversity Office to learn about expanding your business opportunities as a certified diverse and/or small business. Additionally\, there will be representatives from the Chamber of Commerce available to discuss programs and strategies to market your business effectively.
URL:https://legacy.merrimackvalley.org/event/public-contracting-event/
LOCATION:Acton Town Hall\, 472 Main Street\, Acton\, MA\, 01720\, United States
CATEGORIES:Featured
ORGANIZER;CN="Town of Acton":MAILTO:recreation@actonma.gov
GEO:42.4861656;-71.4336006
X-APPLE-STRUCTURED-LOCATION;VALUE=URI;X-ADDRESS=Acton Town Hall 472 Main Street Acton MA 01720 United States;X-APPLE-RADIUS=500;X-TITLE=472 Main Street:geo:-71.4336006,42.4861656
END:VEVENT
BEGIN:VEVENT
DTSTART;TZID=America/New_York:20240529T190000
DTEND;TZID=America/New_York:20240529T203000
DTSTAMP:20260420T141824
CREATED:20240520T122229Z
LAST-MODIFIED:20240520T122229Z
UID:10055998-1717009200-1717014600@legacy.merrimackvalley.org
SUMMARY:The Acton 250 Lecture Series presents:  The Empire Strikes Back\,  and Resistance Becomes Revolution with Prof. Robert Allison
DESCRIPTION:Last September Professor Bob Allison inaugurated the Acton 250 Lectures Series with an account of the Boston Tea Party of 1773 and the pivotal events that sparked the American Revolution. He returns to explain the critical changes occurring in the year 1774 when the Crown’s response solidified the colonial opposition. Register at https://tinyurl.com/AllisonMay29. Remote Participation: You can participate in the Q&A using ZOOM http://tinyurl.com/Acton250-ZOOM or watch live at Acton TV http://tinyurl.com/Acton-TV. This is the fifth lecture in the Acton 250 Series. \nProf. Allison is renowned for his expertise in American colonial history\, and the political\, social\, and economic factors that converged in the 18th century\, leading to Massachusetts’ significant role in the creation of the American nation. He has taught history at Suffolk University since 1992 upon receiving his doctorate at Harvard University. He chairs Revolution 250\, a consortium of organizations planning commemorations of the Revolution’s 250th anniversary and is a life-trustee of the USS Constitution Museum. \nPlease see https://www.actonma.gov/250 for more programming information and don’t forget our Acton250 store at https://tinyurl.com/ACTON250STORE. Recordings will be on our website and ActonTV (http://tinyurl.com/Acton-TV) shortly after. Generously supported by the Acton Lions Club.
URL:https://legacy.merrimackvalley.org/event/the-acton-250-lecture-series-presents-the-empire-strikes-back-and-resistance-becomes-revolution-with-prof-robert-allison/
LOCATION:Acton Town Hall\, 472 Main Street\, Acton\, MA\, 01720\, United States
CATEGORIES:Free Events,Historical,Lecture
ATTACH;FMTTYPE=image/jpeg:https://legacy.merrimackvalley.org/wp-content/uploads/2024/05/Acton-250Small.jpg
GEO:42.4861656;-71.4336006
X-APPLE-STRUCTURED-LOCATION;VALUE=URI;X-ADDRESS=Acton Town Hall 472 Main Street Acton MA 01720 United States;X-APPLE-RADIUS=500;X-TITLE=472 Main Street:geo:-71.4336006,42.4861656
END:VEVENT
BEGIN:VEVENT
DTSTART;TZID=America/New_York:20240402T190000
DTEND;TZID=America/New_York:20240402T210000
DTSTAMP:20260420T141824
CREATED:20240325T165816Z
LAST-MODIFIED:20240325T165816Z
UID:10052620-1712084400-1712091600@legacy.merrimackvalley.org
SUMMARY:Countdown to April 19th\, 1775: The Gathering Storm
DESCRIPTION:Noted historian and author J. L. Bell will be speaking on Tuesday\, April 2 at 7:00 PM in\nRoom 204\, Acton Town Hall\, 472 Main Street\, Acton\, MA. Please register for the talk at:\nhttp://tinyurl.com/APR-02-Bell\, or use the QR code above. Remote Participation: You\ncan participate in the Q&amp;A using ZOOM http://tinyurl.com/Acton250-ZOOM or watch\nlive at Acton TV http://tinyurl.com/Acton-TV. \nContext: As the year 1774 began\, Massachusetts politicians worried about how the\nroyal government in London would respond to the Boston Tea Party. The force of that\nreaction became clear in the return of troops to Boston\, the Coercive Acts\, and the\nMassachusetts Government Act. In late summer the province’s people rebelled by\nshutting down government functions in rural counties\, seizing weapons in ports\, and\nelecting their own legislature. The engine of that resistance was a little-understood\ninstitution: the colonial militia. By fall\, it was clear that the new royal governor had no\nleverage outside Boston. This talk traces the end of British power in most of\nMassachusetts even before the war began. \nJ. L. Bell has explored the end of British royal government in Massachusetts by\nfollowing the contest for artillery pieces in his acclaimed book\, The Road to Concord:\nHow Four Stolen Cannon Ignited the Revolutionary War. He also maintains the Boston\n1775 blog\, which offers daily helpings of history\, analysis\, and unabashed gossip about\nRevolutionary New England. \nWe will post a recording shortly after on the Acton 250 website. This is the fourth\nlecture in a series commissioned by the Acton 250 Committee. Please visit the Acton 250 website\nhttps://www.actonma.gov/250 for all event programming. \nGenerously supported by the Acton Lions Club.
URL:https://legacy.merrimackvalley.org/event/countdown-to-april-19th-1775-the-gathering-storm/
LOCATION:Acton Town Hall\, 472 Main Street\, Acton\, MA\, 01720\, United States
CATEGORIES:Annual & Special,Historical
ATTACH;FMTTYPE=image/jpeg:https://legacy.merrimackvalley.org/wp-content/uploads/2024/03/Document.jpeg
ORGANIZER;CN="Town of Acton":MAILTO:recreation@actonma.gov
GEO:42.4861656;-71.4336006
X-APPLE-STRUCTURED-LOCATION;VALUE=URI;X-ADDRESS=Acton Town Hall 472 Main Street Acton MA 01720 United States;X-APPLE-RADIUS=500;X-TITLE=472 Main Street:geo:-71.4336006,42.4861656
END:VEVENT
END:VCALENDAR