BEGIN:VCALENDAR
VERSION:2.0
PRODID:-//Merrimack Valley Massachusetts - ECPv6.15.13//NONSGML v1.0//EN
CALSCALE:GREGORIAN
METHOD:PUBLISH
X-WR-CALNAME:Merrimack Valley Massachusetts
X-ORIGINAL-URL:https://legacy.merrimackvalley.org
X-WR-CALDESC:Events for Merrimack Valley Massachusetts
REFRESH-INTERVAL;VALUE=DURATION:PT1H
X-Robots-Tag:noindex
X-PUBLISHED-TTL:PT1H
BEGIN:VTIMEZONE
TZID:America/New_York
BEGIN:DAYLIGHT
TZOFFSETFROM:-0500
TZOFFSETTO:-0400
TZNAME:EDT
DTSTART:20230312T070000
END:DAYLIGHT
BEGIN:STANDARD
TZOFFSETFROM:-0400
TZOFFSETTO:-0500
TZNAME:EST
DTSTART:20231105T060000
END:STANDARD
BEGIN:DAYLIGHT
TZOFFSETFROM:-0500
TZOFFSETTO:-0400
TZNAME:EDT
DTSTART:20240310T070000
END:DAYLIGHT
BEGIN:STANDARD
TZOFFSETFROM:-0400
TZOFFSETTO:-0500
TZNAME:EST
DTSTART:20241103T060000
END:STANDARD
BEGIN:DAYLIGHT
TZOFFSETFROM:-0500
TZOFFSETTO:-0400
TZNAME:EDT
DTSTART:20250309T070000
END:DAYLIGHT
BEGIN:STANDARD
TZOFFSETFROM:-0400
TZOFFSETTO:-0500
TZNAME:EST
DTSTART:20251102T060000
END:STANDARD
END:VTIMEZONE
BEGIN:VEVENT
DTSTART;TZID=America/New_York:20241112T190000
DTEND;TZID=America/New_York:20241112T203000
DTSTAMP:20260414T141550
CREATED:20241111T134349Z
LAST-MODIFIED:20241111T134349Z
UID:10060560-1731438000-1731443400@legacy.merrimackvalley.org
SUMMARY:Acton 250 Committee presents: One for the Revolutionary Road: Taverns and the American Revolution
DESCRIPTION:Northeastern University Professor Malcolm F. Purinton discusses the role of the tavern in local society as the colonies headed into the American Revolution. There were few places more important in colonial and revolutionary America than local community taverns that played witness to local\, regional\, and national events in American history. Decisions made in these cozy environments had important and far-reaching consequences ranging from protest planning to actions such as the Boston Tea Party. \nRecordings will be on our website and ActonTV https://actontv.org/on-demand/education shortly after the event. Please see https://www.actonma.gov/250 for all programming and don’t forget our commemorative store https://tinyurl.com/ACTON250STORE!\nGenerously supported by the Acton Lions Club and Acton Memorial Library.
URL:https://legacy.merrimackvalley.org/event/acton-250-committee-presents-one-for-the-revolutionary-road-taverns-and-the-american-revolution/
LOCATION:Acton Memorial Library\, 486 Main Street\, Acton\, MA\, 01720
CATEGORIES:Historical,Talks and Film
ATTACH;FMTTYPE=image/jpeg:https://legacy.merrimackvalley.org/wp-content/uploads/2024/11/Malcolm-Purinton.jpg
ORGANIZER;CN="Acton 250 Committee":MAILTO:acton250@acton-ma.gov
GEO:42.4898559;-71.4279474
X-APPLE-STRUCTURED-LOCATION;VALUE=URI;X-ADDRESS=Acton Memorial Library 486 Main Street Acton MA 01720;X-APPLE-RADIUS=500;X-TITLE=486 Main Street:geo:-71.4279474,42.4898559
END:VEVENT
BEGIN:VEVENT
DTSTART;TZID=America/New_York:20240610T190000
DTEND;TZID=America/New_York:20240610T203000
DTSTAMP:20260414T141550
CREATED:20240531T132413Z
LAST-MODIFIED:20240531T132413Z
UID:10056849-1718046000-1718051400@legacy.merrimackvalley.org
SUMMARY:Still Here: Houses of Our Patriots
DESCRIPTION:The second event in the Acton 250 series “Still Here: Houses of Our Patriots” will be a presentation about the Nathaniel Edwards House\, 328 Pope Road\, on Monday\, June 10 at 7PM. at the Acton Memorial Library\, 486 Main St Acton\, MA 01720. The speaker will be the house’s co-owner\, David Hardt\, who has done extensive research on this mid-18th century center-chimney building. For more information and to register: https://tinyurl.com/HardtHouse to attend in person or via Zoom: https://tinyurl.com/Acton250-ZOOM. Please find all Acton 250 programming at http://www.actonma.gov/250.
URL:https://legacy.merrimackvalley.org/event/still-here-houses-of-our-patriots/
LOCATION:Acton Memorial Library\, 486 Main Street\, Acton\, MA\, 01720
CATEGORIES:Concord 250,Talks and Film
ATTACH;FMTTYPE=image/png:https://legacy.merrimackvalley.org/wp-content/uploads/2024/05/Hardt-Home.png
ORGANIZER;CN="Acton 250 Committee":MAILTO:acton250@acton-ma.gov
GEO:42.4898559;-71.4279474
X-APPLE-STRUCTURED-LOCATION;VALUE=URI;X-ADDRESS=Acton Memorial Library 486 Main Street Acton MA 01720;X-APPLE-RADIUS=500;X-TITLE=486 Main Street:geo:-71.4279474,42.4898559
END:VEVENT
BEGIN:VEVENT
DTSTART;TZID=America/New_York:20240412T140000
DTEND;TZID=America/New_York:20240412T160000
DTSTAMP:20260414T141550
CREATED:20240325T170248Z
LAST-MODIFIED:20240325T172432Z
UID:10052622-1712930400-1712937600@legacy.merrimackvalley.org
SUMMARY:Acton Center Walking Tours - Friday\, April 12th
DESCRIPTION:Please meet Amy Cole at the Acton Memorial Library parking lot at 1:50 PM.  The walk is free\, but registration is required and capped at 20 attendees for each walk.  Registration links:  \n\nSaturday\, April 6th : http://tinyurl.com/APR-6-Cole \nFriday\, April 12th: http://tinyurl.com/APR-12-Cole  \n\nPatriots’ Day is coming soon! Get in the spirit by taking a nice walk while learning about some important Acton history. Because of the popularity of these offerings last year\, extra Acton Center tours have been scheduled with tour leader Amy Cole. Since its founding in 1735\, Acton has shown courage in protecting its liberties\, as demonstrated in leading the first engagement in the fight for independence.  Walking Acton’s historic civic center\, you will learn about the people\, places and practices that shaped the town’s history and our nation’s as well. Topics will include Native American history\, the role of the church\, the importance of Captain Isaac Davis and the Acton Minutemen\, nearby historic buildings\, memorials and more. The mile walk will take a little less than two hours. 
URL:https://legacy.merrimackvalley.org/event/acton-center-walking-tours-friday-april-12th/
LOCATION:Acton Memorial Library\, 486 Main Street\, Acton\, MA\, 01720
CATEGORIES:Free Events,Historical,Outdoors
ATTACH;FMTTYPE=image/jpeg:https://legacy.merrimackvalley.org/wp-content/uploads/2024/03/Document.jpeg
ORGANIZER;CN="Town of Acton":MAILTO:recreation@actonma.gov
GEO:42.4898559;-71.4279474
X-APPLE-STRUCTURED-LOCATION;VALUE=URI;X-ADDRESS=Acton Memorial Library 486 Main Street Acton MA 01720;X-APPLE-RADIUS=500;X-TITLE=486 Main Street:geo:-71.4279474,42.4898559
END:VEVENT
BEGIN:VEVENT
DTSTART;TZID=America/New_York:20240406T140000
DTEND;TZID=America/New_York:20240406T160000
DTSTAMP:20260414T141550
CREATED:20240325T170110Z
LAST-MODIFIED:20240325T172433Z
UID:10052621-1712412000-1712419200@legacy.merrimackvalley.org
SUMMARY:Acton Center Walking Tours - Saturday\, April 6
DESCRIPTION:Please meet Amy Cole at the Acton Memorial Library parking lot at 1:50 PM.  The walk is free\, but registration is required and capped at 20 attendees for each walk.  Registration links:  \n\nSaturday\, April 6th : http://tinyurl.com/APR-6-Cole \nFriday\, April 12th: http://tinyurl.com/APR-12-Cole  \n\nPatriots’ Day is coming soon! Get in the spirit by taking a nice walk while learning about some important Acton history. Because of the popularity of these offerings last year\, extra Acton Center tours have been scheduled with tour leader Amy Cole. Since its founding in 1735\, Acton has shown courage in protecting its liberties\, as demonstrated in leading the first engagement in the fight for independence.  Walking Acton’s historic civic center\, you will learn about the people\, places and practices that shaped the town’s history and our nation’s as well. Topics will include Native American history\, the role of the church\, the importance of Captain Isaac Davis and the Acton Minutemen\, nearby historic buildings\, memorials and more. The mile walk will take a little less than two hours. 
URL:https://legacy.merrimackvalley.org/event/acton-center-walking-tours-saturday-april-6/
LOCATION:Acton Memorial Library\, 486 Main Street\, Acton\, MA\, 01720
CATEGORIES:Free Events,Historical,Outdoors
ATTACH;FMTTYPE=image/jpeg:https://legacy.merrimackvalley.org/wp-content/uploads/2024/03/Document.jpeg
ORGANIZER;CN="Town of Acton":MAILTO:recreation@actonma.gov
GEO:42.4898559;-71.4279474
X-APPLE-STRUCTURED-LOCATION;VALUE=URI;X-ADDRESS=Acton Memorial Library 486 Main Street Acton MA 01720;X-APPLE-RADIUS=500;X-TITLE=486 Main Street:geo:-71.4279474,42.4898559
END:VEVENT
END:VCALENDAR