BEGIN:VCALENDAR
VERSION:2.0
PRODID:-//Merrimack Valley Massachusetts - ECPv6.15.13//NONSGML v1.0//EN
CALSCALE:GREGORIAN
METHOD:PUBLISH
X-ORIGINAL-URL:https://legacy.merrimackvalley.org
X-WR-CALDESC:Events for Merrimack Valley Massachusetts
REFRESH-INTERVAL;VALUE=DURATION:PT1H
X-Robots-Tag:noindex
X-PUBLISHED-TTL:PT1H
BEGIN:VTIMEZONE
TZID:America/New_York
BEGIN:DAYLIGHT
TZOFFSETFROM:-0500
TZOFFSETTO:-0400
TZNAME:EDT
DTSTART:20240310T070000
END:DAYLIGHT
BEGIN:STANDARD
TZOFFSETFROM:-0400
TZOFFSETTO:-0500
TZNAME:EST
DTSTART:20241103T060000
END:STANDARD
BEGIN:DAYLIGHT
TZOFFSETFROM:-0500
TZOFFSETTO:-0400
TZNAME:EDT
DTSTART:20250309T070000
END:DAYLIGHT
BEGIN:STANDARD
TZOFFSETFROM:-0400
TZOFFSETTO:-0500
TZNAME:EST
DTSTART:20251102T060000
END:STANDARD
BEGIN:DAYLIGHT
TZOFFSETFROM:-0500
TZOFFSETTO:-0400
TZNAME:EDT
DTSTART:20260308T070000
END:DAYLIGHT
BEGIN:STANDARD
TZOFFSETFROM:-0400
TZOFFSETTO:-0500
TZNAME:EST
DTSTART:20261101T060000
END:STANDARD
END:VTIMEZONE
BEGIN:VEVENT
DTSTART;TZID=America/New_York:20250202T140000
DTEND;TZID=America/New_York:20250202T160000
DTSTAMP:20260417T222128
CREATED:20241217T180051Z
LAST-MODIFIED:20241217T180415Z
UID:10061417-1738504800-1738512000@legacy.merrimackvalley.org
SUMMARY:Into the Woods
DESCRIPTION:TMS & THS Theatre Presents: Into the Woods \nMusic and Lyrics by Stephen Sondheim\, book by James Lapine. \nJanuary 30 – February 2\, 2025 at Tyngsborough High School. \nSchedule: \n\nOpening Night: Thursday\, January 30th at 7:00pm\nFriday\, January 31st at 7:00pm\nSaturday\, February 1st at 7:00pm\nSunday\, February 2nd at 7:00pm
URL:https://legacy.merrimackvalley.org/event/into-the-woods/2025-02-02/
LOCATION:50 Norris Rd\, Tyngsboro\, MA\, United States\, Norris Road 50\, Tyngsborough\, Massachusetts\, 01879\, United States
ATTACH;FMTTYPE=image/jpeg:https://legacy.merrimackvalley.org/wp-content/uploads/2024/12/464277775_941235298049546_2494717463816972369_n.jpg
GEO:42.6966447;-71.4065375
X-APPLE-STRUCTURED-LOCATION;VALUE=URI;X-ADDRESS=50 Norris Rd Tyngsboro MA United States Norris Road 50 Tyngsborough Massachusetts 01879 United States;X-APPLE-RADIUS=500;X-TITLE=Norris Road 50:geo:-71.4065375,42.6966447
END:VEVENT
BEGIN:VEVENT
DTSTART;TZID=America/New_York:20250201T190000
DTEND;TZID=America/New_York:20250201T210000
DTSTAMP:20260417T222128
CREATED:20241217T180051Z
LAST-MODIFIED:20241217T180415Z
UID:10061415-1738436400-1738443600@legacy.merrimackvalley.org
SUMMARY:Into the Woods
DESCRIPTION:TMS & THS Theatre Presents: Into the Woods \nMusic and Lyrics by Stephen Sondheim\, book by James Lapine. \nJanuary 30 – February 2\, 2025 at Tyngsborough High School. \nSchedule: \n\nOpening Night: Thursday\, January 30th at 7:00pm\nFriday\, January 31st at 7:00pm\nSaturday\, February 1st at 7:00pm\nSunday\, February 2nd at 7:00pm
URL:https://legacy.merrimackvalley.org/event/into-the-woods/2025-02-01/
LOCATION:50 Norris Rd\, Tyngsboro\, MA\, United States\, Norris Road 50\, Tyngsborough\, Massachusetts\, 01879\, United States
ATTACH;FMTTYPE=image/jpeg:https://legacy.merrimackvalley.org/wp-content/uploads/2024/12/464277775_941235298049546_2494717463816972369_n.jpg
GEO:42.6966447;-71.4065375
X-APPLE-STRUCTURED-LOCATION;VALUE=URI;X-ADDRESS=50 Norris Rd Tyngsboro MA United States Norris Road 50 Tyngsborough Massachusetts 01879 United States;X-APPLE-RADIUS=500;X-TITLE=Norris Road 50:geo:-71.4065375,42.6966447
END:VEVENT
BEGIN:VEVENT
DTSTART;TZID=America/New_York:20250131T190000
DTEND;TZID=America/New_York:20250131T210000
DTSTAMP:20260417T222128
CREATED:20241217T180051Z
LAST-MODIFIED:20241217T180415Z
UID:10061414-1738350000-1738357200@legacy.merrimackvalley.org
SUMMARY:Into the Woods
DESCRIPTION:TMS & THS Theatre Presents: Into the Woods \nMusic and Lyrics by Stephen Sondheim\, book by James Lapine. \nJanuary 30 – February 2\, 2025 at Tyngsborough High School. \nSchedule: \n\nOpening Night: Thursday\, January 30th at 7:00pm\nFriday\, January 31st at 7:00pm\nSaturday\, February 1st at 7:00pm\nSunday\, February 2nd at 7:00pm
URL:https://legacy.merrimackvalley.org/event/into-the-woods/2025-01-31/
LOCATION:50 Norris Rd\, Tyngsboro\, MA\, United States\, Norris Road 50\, Tyngsborough\, Massachusetts\, 01879\, United States
ATTACH;FMTTYPE=image/jpeg:https://legacy.merrimackvalley.org/wp-content/uploads/2024/12/464277775_941235298049546_2494717463816972369_n.jpg
GEO:42.6966447;-71.4065375
X-APPLE-STRUCTURED-LOCATION;VALUE=URI;X-ADDRESS=50 Norris Rd Tyngsboro MA United States Norris Road 50 Tyngsborough Massachusetts 01879 United States;X-APPLE-RADIUS=500;X-TITLE=Norris Road 50:geo:-71.4065375,42.6966447
END:VEVENT
BEGIN:VEVENT
DTSTART;TZID=America/New_York:20250130T190000
DTEND;TZID=America/New_York:20250130T210000
DTSTAMP:20260417T222128
CREATED:20241217T180051Z
LAST-MODIFIED:20241217T180415Z
UID:10061413-1738263600-1738270800@legacy.merrimackvalley.org
SUMMARY:Into the Woods
DESCRIPTION:TMS & THS Theatre Presents: Into the Woods \nMusic and Lyrics by Stephen Sondheim\, book by James Lapine. \nJanuary 30 – February 2\, 2025 at Tyngsborough High School. \nSchedule: \n\nOpening Night: Thursday\, January 30th at 7:00pm\nFriday\, January 31st at 7:00pm\nSaturday\, February 1st at 7:00pm\nSunday\, February 2nd at 7:00pm
URL:https://legacy.merrimackvalley.org/event/into-the-woods/2025-01-30/
LOCATION:50 Norris Rd\, Tyngsboro\, MA\, United States\, Norris Road 50\, Tyngsborough\, Massachusetts\, 01879\, United States
ATTACH;FMTTYPE=image/jpeg:https://legacy.merrimackvalley.org/wp-content/uploads/2024/12/464277775_941235298049546_2494717463816972369_n.jpg
GEO:42.6966447;-71.4065375
X-APPLE-STRUCTURED-LOCATION;VALUE=URI;X-ADDRESS=50 Norris Rd Tyngsboro MA United States Norris Road 50 Tyngsborough Massachusetts 01879 United States;X-APPLE-RADIUS=500;X-TITLE=Norris Road 50:geo:-71.4065375,42.6966447
END:VEVENT
END:VCALENDAR