BEGIN:VCALENDAR
VERSION:2.0
PRODID:-//Merrimack Valley Massachusetts - ECPv6.15.13//NONSGML v1.0//EN
CALSCALE:GREGORIAN
METHOD:PUBLISH
X-ORIGINAL-URL:https://legacy.merrimackvalley.org
X-WR-CALDESC:Events for Merrimack Valley Massachusetts
REFRESH-INTERVAL;VALUE=DURATION:PT1H
X-Robots-Tag:noindex
X-PUBLISHED-TTL:PT1H
BEGIN:VTIMEZONE
TZID:America/New_York
BEGIN:DAYLIGHT
TZOFFSETFROM:-0500
TZOFFSETTO:-0400
TZNAME:EDT
DTSTART:20220313T070000
END:DAYLIGHT
BEGIN:STANDARD
TZOFFSETFROM:-0400
TZOFFSETTO:-0500
TZNAME:EST
DTSTART:20221106T060000
END:STANDARD
BEGIN:DAYLIGHT
TZOFFSETFROM:-0500
TZOFFSETTO:-0400
TZNAME:EDT
DTSTART:20230312T070000
END:DAYLIGHT
BEGIN:STANDARD
TZOFFSETFROM:-0400
TZOFFSETTO:-0500
TZNAME:EST
DTSTART:20231105T060000
END:STANDARD
BEGIN:DAYLIGHT
TZOFFSETFROM:-0500
TZOFFSETTO:-0400
TZNAME:EDT
DTSTART:20240310T070000
END:DAYLIGHT
BEGIN:STANDARD
TZOFFSETFROM:-0400
TZOFFSETTO:-0500
TZNAME:EST
DTSTART:20241103T060000
END:STANDARD
END:VTIMEZONE
BEGIN:VEVENT
DTSTART;TZID=America/New_York:20230211T130000
DTEND;TZID=America/New_York:20230211T150000
DTSTAMP:20260420T151838
CREATED:20230208T193946Z
LAST-MODIFIED:20230208T193946Z
UID:10025835-1676120400-1676127600@legacy.merrimackvalley.org
SUMMARY:Live Ice Sculpting at 3rd Ave
DESCRIPTION:Live Ice Sculpting at 3rd Ave\nJoin us this winter for live ice sculpting on The Green. An ice sculpture will create a unique and beautiful work of art on-site.\nWe’ll have live music & fun for all! Stop in\, go shopping\, grab a bite to eat\, and watch the show!\nFREE Hot Chocolate Bar at Osteria Nino’s patio!\nTony C’s will be serving Chili\, with hot apple cider & swag!\nWegmans will have a Valentine’s Crafts for the kids\, and will raffle a total of ten (10) 18-pack Chocolate Dipped Strawberries\, which retail for $50! They will call the winners after the event fon the 11th.\nJames Joseph is offering 30% off retail and a FREE gift with purchase.\nKOHLER is raffling off a FREE Moxie Showerhead Bluetooth Speaker
URL:https://legacy.merrimackvalley.org/event/live-ice-sculpting-at-3rd-ave/
LOCATION:3rd Ave\, 3rd Avenue\, Burlington\, MA\, United States
CATEGORIES:Fairs & Festivals,Free Events,Kids & Family
ATTACH;FMTTYPE=image/jpeg:https://legacy.merrimackvalley.org/wp-content/uploads/2023/02/312638799_2404826589664323_8097682306706584037_n.jpeg
GEO:42.4884587;-71.2255341
X-APPLE-STRUCTURED-LOCATION;VALUE=URI;X-ADDRESS=3rd Ave 3rd Avenue Burlington MA United States;X-APPLE-RADIUS=500;X-TITLE=3rd Avenue:geo:-71.2255341,42.4884587
END:VEVENT
END:VCALENDAR