BEGIN:VCALENDAR
VERSION:2.0
PRODID:-//Merrimack Valley Massachusetts - ECPv6.15.13//NONSGML v1.0//EN
CALSCALE:GREGORIAN
METHOD:PUBLISH
X-WR-CALNAME:Merrimack Valley Massachusetts
X-ORIGINAL-URL:https://legacy.merrimackvalley.org
X-WR-CALDESC:Events for Merrimack Valley Massachusetts
REFRESH-INTERVAL;VALUE=DURATION:PT1H
X-Robots-Tag:noindex
X-PUBLISHED-TTL:PT1H
BEGIN:VTIMEZONE
TZID:America/New_York
BEGIN:DAYLIGHT
TZOFFSETFROM:-0500
TZOFFSETTO:-0400
TZNAME:EDT
DTSTART:20220313T070000
END:DAYLIGHT
BEGIN:STANDARD
TZOFFSETFROM:-0400
TZOFFSETTO:-0500
TZNAME:EST
DTSTART:20221106T060000
END:STANDARD
BEGIN:DAYLIGHT
TZOFFSETFROM:-0500
TZOFFSETTO:-0400
TZNAME:EDT
DTSTART:20230312T070000
END:DAYLIGHT
BEGIN:STANDARD
TZOFFSETFROM:-0400
TZOFFSETTO:-0500
TZNAME:EST
DTSTART:20231105T060000
END:STANDARD
BEGIN:DAYLIGHT
TZOFFSETFROM:-0500
TZOFFSETTO:-0400
TZNAME:EDT
DTSTART:20240310T070000
END:DAYLIGHT
BEGIN:STANDARD
TZOFFSETFROM:-0400
TZOFFSETTO:-0500
TZNAME:EST
DTSTART:20241103T060000
END:STANDARD
BEGIN:DAYLIGHT
TZOFFSETFROM:-0500
TZOFFSETTO:-0400
TZNAME:EDT
DTSTART:20250309T070000
END:DAYLIGHT
BEGIN:STANDARD
TZOFFSETFROM:-0400
TZOFFSETTO:-0500
TZNAME:EST
DTSTART:20251102T060000
END:STANDARD
END:VTIMEZONE
BEGIN:VEVENT
DTSTART;TZID=America/New_York:20240621T170000
DTEND;TZID=America/New_York:20240621T203000
DTSTAMP:20260420T111609
CREATED:20240516T170724Z
LAST-MODIFIED:20240516T170724Z
UID:10055620-1718989200-1719001800@legacy.merrimackvalley.org
SUMMARY:Untold Stories of Our Region featuring Chichi Enu
DESCRIPTION:This event will highlight stories of women\, Black\, Indigenous peoples\, and other communities traditionally overlooked in historical records. The event is a celebration of diversity\, aiming to increase cultural awareness and strengthen community bonds. \nArt Display from local high school students from 5-7 p.m.\nInteractive opera performance by artist-in-residence Chichi Enu from 7-8:30 p.m. \n“NOT REQUIRED – BUT ENCOURAGED — PLEASE PRE-REGISTER ON EVENTBRITE (NO COST) IF YOU PLAN TO ATTEND. You do not need to bring a print-out or show your eventbrite registration. https://www.eventbrite.com/e/acton-westford-pride-festival-2024-tickets-876798898107?aff=oddtdtcreator\nALL PRE-REGISTRANTS TO THIS EVENT WILL BE ENTERED TO WIN A PAIR OF TICKETS TO A CONCERT OF YOUR CHOICE FOR THE 2024 NARA SUMMER CONCERT SERIES. WINNER MUST BE PRESENT AT EVENT.\n”\nAll events are open to non-Acton residents.
URL:https://legacy.merrimackvalley.org/event/untold-stories-of-our-region-featuring-chichi-enu/
LOCATION:NARA Park\, Nara Park\, 25 Ledge Rock Way\, Acton\, MA\, 01720\, United States
CATEGORIES:Arts & Culture,Free Events,Historical,Kids & Family,Live Performances,Outdoors
ATTACH;FMTTYPE=image/jpeg:https://legacy.merrimackvalley.org/wp-content/uploads/2024/05/Facebook-ad-for-UNTOLD-STORIES-OF-OUR-REGION-Facebook-Post.jpg
ORGANIZER;CN="Town of Acton":MAILTO:recreation@actonma.gov
GEO:42.5160594;-71.4119872
X-APPLE-STRUCTURED-LOCATION;VALUE=URI;X-ADDRESS=NARA Park Nara Park 25 Ledge Rock Way Acton MA 01720 United States;X-APPLE-RADIUS=500;X-TITLE=Nara Park\, 25 Ledge Rock Way:geo:-71.4119872,42.5160594
END:VEVENT
BEGIN:VEVENT
DTSTART;TZID=America/New_York:20240615T120000
DTEND;TZID=America/New_York:20240615T150000
DTSTAMP:20260420T111609
CREATED:20231212T191119Z
LAST-MODIFIED:20231212T191119Z
UID:10046219-1718452800-1718463600@legacy.merrimackvalley.org
SUMMARY:Acton Pride Festival
DESCRIPTION:Join Acton Pride for a fun-filled afternoon at NARA’s Beach!  Beach admission will be free throughout the event.  Games and fun including music!  This is a free event open to the general public.
URL:https://legacy.merrimackvalley.org/event/acton-pride-festival/
LOCATION:NARA Park\, Nara Park\, 25 Ledge Rock Way\, Acton\, MA\, 01720\, United States
CATEGORIES:Annual & Special,Arts & Culture,Free Events,Kids & Family,Outdoors
ATTACH;FMTTYPE=image/png:https://legacy.merrimackvalley.org/wp-content/uploads/2023/12/Pride-Flyer.png
ORGANIZER;CN="Town of Acton":MAILTO:recreation@actonma.gov
GEO:42.5160594;-71.4119872
X-APPLE-STRUCTURED-LOCATION;VALUE=URI;X-ADDRESS=NARA Park Nara Park 25 Ledge Rock Way Acton MA 01720 United States;X-APPLE-RADIUS=500;X-TITLE=Nara Park\, 25 Ledge Rock Way:geo:-71.4119872,42.5160594
END:VEVENT
BEGIN:VEVENT
DTSTART;TZID=America/New_York:20240614T200000
DTEND;TZID=America/New_York:20240614T223000
DTSTAMP:20260420T111609
CREATED:20231212T191104Z
LAST-MODIFIED:20231212T191104Z
UID:10046220-1718395200-1718404200@legacy.merrimackvalley.org
SUMMARY:Acton Pride Drag Show
DESCRIPTION:Join Acton Pride for its second Drag Show. This event will feature a variety of performers. This event is geared for mature audiences. Tickets if not purchased in advance can be purchased at the gate for $15 cash or $15 plus processing fee for credit cards.
URL:https://legacy.merrimackvalley.org/event/acton-pride-drag-show/
LOCATION:NARA Park\, Nara Park\, 25 Ledge Rock Way\, Acton\, MA\, 01720\, United States
CATEGORIES:Arts & Culture,Live Performances,Outdoors
ATTACH;FMTTYPE=image/jpeg:https://legacy.merrimackvalley.org/wp-content/uploads/2023/12/Acton-Pride-Drag-Show-Night-628-x-628-px.jpg
ORGANIZER;CN="Town of Acton":MAILTO:recreation@actonma.gov
GEO:42.5160594;-71.4119872
X-APPLE-STRUCTURED-LOCATION;VALUE=URI;X-ADDRESS=NARA Park Nara Park 25 Ledge Rock Way Acton MA 01720 United States;X-APPLE-RADIUS=500;X-TITLE=Nara Park\, 25 Ledge Rock Way:geo:-71.4119872,42.5160594
END:VEVENT
BEGIN:VEVENT
DTSTART;TZID=America/New_York:20240412T140000
DTEND;TZID=America/New_York:20240412T160000
DTSTAMP:20260420T111609
CREATED:20240325T170248Z
LAST-MODIFIED:20240325T172432Z
UID:10052622-1712930400-1712937600@legacy.merrimackvalley.org
SUMMARY:Acton Center Walking Tours - Friday\, April 12th
DESCRIPTION:Please meet Amy Cole at the Acton Memorial Library parking lot at 1:50 PM.  The walk is free\, but registration is required and capped at 20 attendees for each walk.  Registration links:  \n\nSaturday\, April 6th : http://tinyurl.com/APR-6-Cole \nFriday\, April 12th: http://tinyurl.com/APR-12-Cole  \n\nPatriots’ Day is coming soon! Get in the spirit by taking a nice walk while learning about some important Acton history. Because of the popularity of these offerings last year\, extra Acton Center tours have been scheduled with tour leader Amy Cole. Since its founding in 1735\, Acton has shown courage in protecting its liberties\, as demonstrated in leading the first engagement in the fight for independence.  Walking Acton’s historic civic center\, you will learn about the people\, places and practices that shaped the town’s history and our nation’s as well. Topics will include Native American history\, the role of the church\, the importance of Captain Isaac Davis and the Acton Minutemen\, nearby historic buildings\, memorials and more. The mile walk will take a little less than two hours. 
URL:https://legacy.merrimackvalley.org/event/acton-center-walking-tours-friday-april-12th/
LOCATION:Acton Memorial Library\, 486 Main Street\, Acton\, MA\, 01720
CATEGORIES:Free Events,Historical,Outdoors
ATTACH;FMTTYPE=image/jpeg:https://legacy.merrimackvalley.org/wp-content/uploads/2024/03/Document.jpeg
ORGANIZER;CN="Town of Acton":MAILTO:recreation@actonma.gov
GEO:42.4898559;-71.4279474
X-APPLE-STRUCTURED-LOCATION;VALUE=URI;X-ADDRESS=Acton Memorial Library 486 Main Street Acton MA 01720;X-APPLE-RADIUS=500;X-TITLE=486 Main Street:geo:-71.4279474,42.4898559
END:VEVENT
BEGIN:VEVENT
DTSTART;TZID=America/New_York:20240406T140000
DTEND;TZID=America/New_York:20240406T160000
DTSTAMP:20260420T111609
CREATED:20240325T170110Z
LAST-MODIFIED:20240325T172433Z
UID:10052621-1712412000-1712419200@legacy.merrimackvalley.org
SUMMARY:Acton Center Walking Tours - Saturday\, April 6
DESCRIPTION:Please meet Amy Cole at the Acton Memorial Library parking lot at 1:50 PM.  The walk is free\, but registration is required and capped at 20 attendees for each walk.  Registration links:  \n\nSaturday\, April 6th : http://tinyurl.com/APR-6-Cole \nFriday\, April 12th: http://tinyurl.com/APR-12-Cole  \n\nPatriots’ Day is coming soon! Get in the spirit by taking a nice walk while learning about some important Acton history. Because of the popularity of these offerings last year\, extra Acton Center tours have been scheduled with tour leader Amy Cole. Since its founding in 1735\, Acton has shown courage in protecting its liberties\, as demonstrated in leading the first engagement in the fight for independence.  Walking Acton’s historic civic center\, you will learn about the people\, places and practices that shaped the town’s history and our nation’s as well. Topics will include Native American history\, the role of the church\, the importance of Captain Isaac Davis and the Acton Minutemen\, nearby historic buildings\, memorials and more. The mile walk will take a little less than two hours. 
URL:https://legacy.merrimackvalley.org/event/acton-center-walking-tours-saturday-april-6/
LOCATION:Acton Memorial Library\, 486 Main Street\, Acton\, MA\, 01720
CATEGORIES:Free Events,Historical,Outdoors
ATTACH;FMTTYPE=image/jpeg:https://legacy.merrimackvalley.org/wp-content/uploads/2024/03/Document.jpeg
ORGANIZER;CN="Town of Acton":MAILTO:recreation@actonma.gov
GEO:42.4898559;-71.4279474
X-APPLE-STRUCTURED-LOCATION;VALUE=URI;X-ADDRESS=Acton Memorial Library 486 Main Street Acton MA 01720;X-APPLE-RADIUS=500;X-TITLE=486 Main Street:geo:-71.4279474,42.4898559
END:VEVENT
BEGIN:VEVENT
DTSTART;TZID=America/New_York:20240402T190000
DTEND;TZID=America/New_York:20240402T210000
DTSTAMP:20260420T111609
CREATED:20240325T165816Z
LAST-MODIFIED:20240325T165816Z
UID:10052620-1712084400-1712091600@legacy.merrimackvalley.org
SUMMARY:Countdown to April 19th\, 1775: The Gathering Storm
DESCRIPTION:Noted historian and author J. L. Bell will be speaking on Tuesday\, April 2 at 7:00 PM in\nRoom 204\, Acton Town Hall\, 472 Main Street\, Acton\, MA. Please register for the talk at:\nhttp://tinyurl.com/APR-02-Bell\, or use the QR code above. Remote Participation: You\ncan participate in the Q&amp;A using ZOOM http://tinyurl.com/Acton250-ZOOM or watch\nlive at Acton TV http://tinyurl.com/Acton-TV. \nContext: As the year 1774 began\, Massachusetts politicians worried about how the\nroyal government in London would respond to the Boston Tea Party. The force of that\nreaction became clear in the return of troops to Boston\, the Coercive Acts\, and the\nMassachusetts Government Act. In late summer the province’s people rebelled by\nshutting down government functions in rural counties\, seizing weapons in ports\, and\nelecting their own legislature. The engine of that resistance was a little-understood\ninstitution: the colonial militia. By fall\, it was clear that the new royal governor had no\nleverage outside Boston. This talk traces the end of British power in most of\nMassachusetts even before the war began. \nJ. L. Bell has explored the end of British royal government in Massachusetts by\nfollowing the contest for artillery pieces in his acclaimed book\, The Road to Concord:\nHow Four Stolen Cannon Ignited the Revolutionary War. He also maintains the Boston\n1775 blog\, which offers daily helpings of history\, analysis\, and unabashed gossip about\nRevolutionary New England. \nWe will post a recording shortly after on the Acton 250 website. This is the fourth\nlecture in a series commissioned by the Acton 250 Committee. Please visit the Acton 250 website\nhttps://www.actonma.gov/250 for all event programming. \nGenerously supported by the Acton Lions Club.
URL:https://legacy.merrimackvalley.org/event/countdown-to-april-19th-1775-the-gathering-storm/
LOCATION:Acton Town Hall\, 472 Main Street\, Acton\, MA\, 01720\, United States
CATEGORIES:Annual & Special,Historical
ATTACH;FMTTYPE=image/jpeg:https://legacy.merrimackvalley.org/wp-content/uploads/2024/03/Document.jpeg
ORGANIZER;CN="Town of Acton":MAILTO:recreation@actonma.gov
GEO:42.4861656;-71.4336006
X-APPLE-STRUCTURED-LOCATION;VALUE=URI;X-ADDRESS=Acton Town Hall 472 Main Street Acton MA 01720 United States;X-APPLE-RADIUS=500;X-TITLE=472 Main Street:geo:-71.4336006,42.4861656
END:VEVENT
BEGIN:VEVENT
DTSTART;TZID=America/New_York:20230825T200000
DTEND;TZID=America/New_York:20230825T223000
DTSTAMP:20260420T111609
CREATED:20230327T144704Z
LAST-MODIFIED:20230327T144704Z
UID:10026050-1692993600-1693002600@legacy.merrimackvalley.org
SUMMARY:Tusk - The World's #1 Tribute to Fleetwood Mac
DESCRIPTION:TUSK – The World’s #1 Fleetwood Mac Tribute. Tusk is the number one Tribute to Fleetwood Mac in the world\, bar none. No fancy tricks\, no gimmicks\, just five musicians recreating the music of Fleetwood Mac to perfection with note for note renditions that no other Fleetwood Mac tribute on the touring scene today can come close to duplicating. Tusk covers all the great hits of Fleetwood Mac\, which has featured the talents of Mick Fleetwood\, Christine and John McVie\, Lindsey Buckingham\, Stevie Nicks and others over the years. The five seasoned\, well-respected musicians comprising Tusk have been making music together in various combinations and styles\, in original outfits and in cover bands\, for over twenty-five years. It seemed only fitting that they should come together to form the Ultimate Fleetwood Mac Tribute\, and pay homage to a group that dominated the charts during the band members’ formative years. Authentic-sounding and always respectful\, Tusk leaves no stone unturned in replicating the sounds of one of the world’s best-loved\, top-selling bands. \nThomas E. Tidman Amphitheater at NARA Park\, 25 Ledge Rock Way\, Acton\, MA 01720. Free Parking on Site. Please follow yellow event parking signage to parking area. This is an outdoor venue. In the event of weather updates\, please visit the NARA Park Facebook page. Bring your own lawn chairs or blankets\, dress for the weather. You can bring your own food and soft drinks (no alcohol permitted unless purchased on premises)\, food will be available for sale. Gates open one hour prior to showtime. We recommend using mosquito repellent. \n\n\n\n\nHome
URL:https://legacy.merrimackvalley.org/event/tusk-the-worlds-1-tribute-to-fleetwood-mac/
LOCATION:NARA Park\, Nara Park\, 25 Ledge Rock Way\, Acton\, MA\, 01720\, United States
CATEGORIES:Arts & Culture,Kids & Family,Live Performances,Outdoors
ATTACH;FMTTYPE=image/jpeg:https://legacy.merrimackvalley.org/wp-content/uploads/2023/03/Tusk-Square-ad-628-pixels.jpg
ORGANIZER;CN="Town of Acton":MAILTO:recreation@actonma.gov
GEO:42.5160594;-71.4119872
X-APPLE-STRUCTURED-LOCATION;VALUE=URI;X-ADDRESS=NARA Park Nara Park 25 Ledge Rock Way Acton MA 01720 United States;X-APPLE-RADIUS=500;X-TITLE=Nara Park\, 25 Ledge Rock Way:geo:-71.4119872,42.5160594
END:VEVENT
BEGIN:VEVENT
DTSTART;TZID=America/New_York:20230811T200000
DTEND;TZID=America/New_York:20230811T223000
DTSTAMP:20260420T111609
CREATED:20230327T140314Z
LAST-MODIFIED:20230327T140314Z
UID:10026038-1691784000-1691793000@legacy.merrimackvalley.org
SUMMARY:Hollywood Nights - A Tribute to Bob Seger
DESCRIPTION:Hollywood Nights – A Bob Seger Experience – Within the walls of HOLLYWOOD NIGHTS\, you will find a true Bob Seger experience. With a rock-solid history of giving it their all at every performance and unwavering dedication to the do-it-yourself work ethic\, the band has helped define the landscape of today’s top tribute acts. Bob Seger’s music put rock & roll back in touch with its roots\, and HOLLYWOOD NIGHTS is humbled to be on the road bringing this past experience alive once more! \nThomas E. Tidman Amphitheater at NARA Park\, 25 Ledge Rock Way\, Acton\, MA 01720. Free Parking on Site. Please follow yellow event parking signage to parking area. This is an outdoor venue. In the event of weather updates\, please visit the NARA Park Facebook page. Bring your own lawn chairs or blankets\, dress for the weather. You can bring your own food and soft drinks (no alcohol permitted unless purchased on premises)\, food will be available for sale. Gates open one hour prior to showtime. We recommend using mosquito repellent. \n\nhttps://www.hollywoodnightsband.com/
URL:https://legacy.merrimackvalley.org/event/hollywood-nights-a-tribute-to-bob-seger/
LOCATION:NARA Park\, Nara Park\, 25 Ledge Rock Way\, Acton\, MA\, 01720\, United States
CATEGORIES:Arts & Culture,Kids & Family,Live Performances,Outdoors
ATTACH;FMTTYPE=image/jpeg:https://legacy.merrimackvalley.org/wp-content/uploads/2023/03/Hollywood-Nights-Bob-Seger-Tribute-628-pixel-square.jpg
ORGANIZER;CN="Town of Acton":MAILTO:recreation@actonma.gov
GEO:42.5160594;-71.4119872
X-APPLE-STRUCTURED-LOCATION;VALUE=URI;X-ADDRESS=NARA Park Nara Park 25 Ledge Rock Way Acton MA 01720 United States;X-APPLE-RADIUS=500;X-TITLE=Nara Park\, 25 Ledge Rock Way:geo:-71.4119872,42.5160594
END:VEVENT
BEGIN:VEVENT
DTSTART;TZID=America/New_York:20230804T180000
DTEND;TZID=America/New_York:20230804T193000
DTSTAMP:20260420T111609
CREATED:20230327T133020Z
LAST-MODIFIED:20230327T133020Z
UID:10026036-1691172000-1691177400@legacy.merrimackvalley.org
SUMMARY:The Little Mermen - NYC Ultimate Disney Tribute Band
DESCRIPTION:The Little Mermen\, a Disney cover band\, was founded by singer-songwriter Alexis Babini with the goal of bringing Disney-fueled nostalgia and singalongs to a generation that grew up on Disney\, and never let it go! The Little Mermen play all the Disney hits\, from The Jungle Book to The Lion King\, and even Frozen. Alongside Alexis\, you’ll find a cast of talented musicians and Disney princesses ready to rock their heart out – and yours! \nThomas E. Tidman Amphitheater at NARA Park\, 25 Ledge Rock Way\, Acton\, MA 01720. Free Parking on Site. Please follow yellow event parking signage to parking area. This is an outdoor venue. In the event of weather updates\, please visit the NARA Park Facebook page. Bring your own lawn chairs or blankets\, dress for the weather. You can bring your own food and soft drinks (no alcohol permitted unless purchased on premises)\, food will be available for sale. Gates open one hour prior to showtime. We recommend using mosquito repellent. \n\nhttps://www.thelittlemermen.com/
URL:https://legacy.merrimackvalley.org/event/the-little-mermen-nyc-ultimate-disney-tribute-band/
LOCATION:NARA Park\, Nara Park\, 25 Ledge Rock Way\, Acton\, MA\, 01720\, United States
CATEGORIES:Arts & Culture,Kids & Family,Live Performances,Outdoors
ATTACH;FMTTYPE=image/jpeg:https://legacy.merrimackvalley.org/wp-content/uploads/2023/03/The-Little-Mermen-628-pixel-square.jpg
ORGANIZER;CN="Town of Acton":MAILTO:recreation@actonma.gov
GEO:42.5160594;-71.4119872
X-APPLE-STRUCTURED-LOCATION;VALUE=URI;X-ADDRESS=NARA Park Nara Park 25 Ledge Rock Way Acton MA 01720 United States;X-APPLE-RADIUS=500;X-TITLE=Nara Park\, 25 Ledge Rock Way:geo:-71.4119872,42.5160594
END:VEVENT
BEGIN:VEVENT
DTSTART;TZID=America/New_York:20230728T200000
DTEND;TZID=America/New_York:20230728T223000
DTSTAMP:20260420T111609
CREATED:20230327T132934Z
LAST-MODIFIED:20230327T132934Z
UID:10026035-1690574400-1690583400@legacy.merrimackvalley.org
SUMMARY:The Breakers - A Tribute to Tom Petty
DESCRIPTION:The Breakers: A Tribute to Tom Petty – The country’s premier Tom Petty & the Heartbreakers tribute band. Established to let the fans of the late great Tom Petty continue to enjoy the live experience of TP & the HB’s. No other Tom Petty tribute band comes close to capturing the SOUND and emotions of Tom’s songs quite like the Breakers. Unlike the vast amount of Tom Petty tributes who substitute visual mimicry for sound\, the Breakers encompass the true unmistakable sound and execution of Tom Petty & the Heartbreakers. \nThomas E. Tidman Amphitheater at NARA Park\, 25 Ledge Rock Way\, Acton\, MA 01720. Free Parking on Site. Please follow yellow event parking signage to parking area. This is an outdoor venue. In the event of weather updates\, please visit the NARA Park Facebook page. Bring your own lawn chairs or blankets\, dress for the weather. You can bring your own food and soft drinks (no alcohol permitted unless purchased on premises)\, food will be available for sale. Gates open one hour prior to showtime. We recommend using mosquito repellent. \n\n\n\nhttp://www.thebreakersband.com/
URL:https://legacy.merrimackvalley.org/event/the-breakers-a-tribute-to-tom-petty/
LOCATION:NARA Park\, Nara Park\, 25 Ledge Rock Way\, Acton\, MA\, 01720\, United States
CATEGORIES:Arts & Culture,Kids & Family,Live Performances,Outdoors
ATTACH;FMTTYPE=image/jpeg:https://legacy.merrimackvalley.org/wp-content/uploads/2023/03/The-Breakers-Square-628-pixels.jpg
ORGANIZER;CN="Town of Acton":MAILTO:recreation@actonma.gov
GEO:42.5160594;-71.4119872
X-APPLE-STRUCTURED-LOCATION;VALUE=URI;X-ADDRESS=NARA Park Nara Park 25 Ledge Rock Way Acton MA 01720 United States;X-APPLE-RADIUS=500;X-TITLE=Nara Park\, 25 Ledge Rock Way:geo:-71.4119872,42.5160594
END:VEVENT
BEGIN:VEVENT
DTSTART;TZID=America/New_York:20230721T200000
DTEND;TZID=America/New_York:20230721T223000
DTSTAMP:20260420T111609
CREATED:20230327T132854Z
LAST-MODIFIED:20230327T132854Z
UID:10026034-1689969600-1689978600@legacy.merrimackvalley.org
SUMMARY:Yellow Brick Road - A Tribute to Elton John
DESCRIPTION:Yellow Brick Road\, A Tribute to Elton John\, from Augusta Maine\, is a full concert tribute\, complete with an incredible light show and sound system. Every detail of an actual Elton John concert is presented in such a way that will have Elton John fans screaming for more! \nThomas E. Tidman Amphitheater at NARA Park\, 25 Ledge Rock Way\, Acton\, MA 01720. Free Parking on Site. Please follow yellow event parking signage to parking area. This is an outdoor venue. In the event of weather updates\, please visit the NARA Park Facebook page. Bring your own lawn chairs or blankets\, dress for the weather. You can bring your own food and soft drinks (no alcohol permitted unless purchased on premises)\, food will be available for sale. Gates open one hour prior to showtime. We recommend using mosquito repellent. \n\n\nhttps://www.tributetoeltonjohn.com/
URL:https://legacy.merrimackvalley.org/event/yellow-brick-road-a-tribute-to-elton-john-3/
LOCATION:NARA Park\, Nara Park\, 25 Ledge Rock Way\, Acton\, MA\, 01720\, United States
CATEGORIES:Arts & Culture,Kids & Family,Live Performances,Outdoors
ATTACH;FMTTYPE=image/jpeg:https://legacy.merrimackvalley.org/wp-content/uploads/2023/03/Elton-John-Square-in-Photoshop-for-628-pixels.jpg
ORGANIZER;CN="Town of Acton":MAILTO:recreation@actonma.gov
GEO:42.5160594;-71.4119872
X-APPLE-STRUCTURED-LOCATION;VALUE=URI;X-ADDRESS=NARA Park Nara Park 25 Ledge Rock Way Acton MA 01720 United States;X-APPLE-RADIUS=500;X-TITLE=Nara Park\, 25 Ledge Rock Way:geo:-71.4119872,42.5160594
END:VEVENT
BEGIN:VEVENT
DTSTART;TZID=America/New_York:20230609T200000
DTEND;TZID=America/New_York:20230609T223000
DTSTAMP:20260420T111609
CREATED:20230327T133037Z
LAST-MODIFIED:20230327T133037Z
UID:10026037-1686340800-1686349800@legacy.merrimackvalley.org
SUMMARY:Heartless - Tribute to Heart and Led Zeppelin
DESCRIPTION:HEARTLESS is the Ultimate New England Tribute to Ann Wilson of Heart. Heartless is a touring act for the upper East Coast and New England with a goal of playing each song as a true to live version of Heart’s performances. This band packs the house with each gig with fans who sing along with their classic Heart songs and few well known Led Zeppelin covers commonly covered by Heart throughout their decades of tour. Eight seasoned musicians dedicate their musical journey to the words of Ann Wilson. Band includes the musical talents of Kevin McEnerney\, Scott Campbell\, Jeff James\, Bob DeFeo\, Michael Stridsberg\, Holly Mugford Bermingham\, Jasmine White\, and Doug Bordeaux. Jasmine White\, lead vocal\, brings all the vocal flavors and personality of Ann Wilson alive. Jasmine delivers hit songs such as “Alone”\, “What About Love“\, “Straight On”\, “Magic Man”\, “Barracuda”\, and “Crazy on You” with ease while bringing the rough edges of her vocals to thee Led Zeppelin covers songs like “Whole Lotta Love”\, “Stairway to Heaven”\, and “Kashmir” as delivered by Ann Wilson on decades of tours. Complete in velvet coats\, original stage worn attire from Ann Wilson\, and the signature hair\, Jasmine provides an unforgettable and undeniable “Ann Wilson” performance. Each show\, Heartless carries a special message to the audience from Ann Wilson herself\, which brings focus to “Music speaks” and “bringing community together”. With the unmatched musicianship of the band members\, we are true to the live delivery of all Heart and Zeppelin songs\, and provide a true concert experience\, both by musical performance\, costumes\, and character delivery. \nThomas E. Tidman Amphitheater at NARA Park\, 25 Ledge Rock Way\, Acton\, MA 01720. Free Parking on Site. Please follow yellow event parking signage to parking area. This is an outdoor venue. In the event of weather updates\, please visit the NARA Park Facebook page. Bring your own lawn chairs or blankets\, dress for the weather. You can bring your own food and soft drinks (no alcohol permitted unless purchased on premises)\, food will be available for sale. Gates open one hour prior to showtime. We recommend using mosquito repellent. \n\nTickets: https://www.eventbrite.com/e/heartless-ultimate-tribute-to-heart-and-led-zeppelin-tickets-558209358217
URL:https://legacy.merrimackvalley.org/event/heartless-tribute-to-heart-and-led-zeppelin/
LOCATION:NARA Park\, Nara Park\, 25 Ledge Rock Way\, Acton\, MA\, 01720\, United States
CATEGORIES:Arts & Culture,Kids & Family,Live Performances,Outdoors
ATTACH;FMTTYPE=image/jpeg:https://legacy.merrimackvalley.org/wp-content/uploads/2023/03/Heartless-square-ad.jpg
ORGANIZER;CN="Town of Acton":MAILTO:recreation@actonma.gov
GEO:42.5160594;-71.4119872
X-APPLE-STRUCTURED-LOCATION;VALUE=URI;X-ADDRESS=NARA Park Nara Park 25 Ledge Rock Way Acton MA 01720 United States;X-APPLE-RADIUS=500;X-TITLE=Nara Park\, 25 Ledge Rock Way:geo:-71.4119872,42.5160594
END:VEVENT
END:VCALENDAR