BEGIN:VCALENDAR
VERSION:2.0
PRODID:-//Merrimack Valley Massachusetts - ECPv6.15.13//NONSGML v1.0//EN
CALSCALE:GREGORIAN
METHOD:PUBLISH
X-WR-CALNAME:Merrimack Valley Massachusetts
X-ORIGINAL-URL:https://legacy.merrimackvalley.org
X-WR-CALDESC:Events for Merrimack Valley Massachusetts
REFRESH-INTERVAL;VALUE=DURATION:PT1H
X-Robots-Tag:noindex
X-PUBLISHED-TTL:PT1H
BEGIN:VTIMEZONE
TZID:America/New_York
BEGIN:DAYLIGHT
TZOFFSETFROM:-0500
TZOFFSETTO:-0400
TZNAME:EDT
DTSTART:20210314T070000
END:DAYLIGHT
BEGIN:STANDARD
TZOFFSETFROM:-0400
TZOFFSETTO:-0500
TZNAME:EST
DTSTART:20211107T060000
END:STANDARD
BEGIN:DAYLIGHT
TZOFFSETFROM:-0500
TZOFFSETTO:-0400
TZNAME:EDT
DTSTART:20220313T070000
END:DAYLIGHT
BEGIN:STANDARD
TZOFFSETFROM:-0400
TZOFFSETTO:-0500
TZNAME:EST
DTSTART:20221106T060000
END:STANDARD
BEGIN:DAYLIGHT
TZOFFSETFROM:-0500
TZOFFSETTO:-0400
TZNAME:EDT
DTSTART:20230312T070000
END:DAYLIGHT
BEGIN:STANDARD
TZOFFSETFROM:-0400
TZOFFSETTO:-0500
TZNAME:EST
DTSTART:20231105T060000
END:STANDARD
BEGIN:DAYLIGHT
TZOFFSETFROM:-0500
TZOFFSETTO:-0400
TZNAME:EDT
DTSTART:20240310T070000
END:DAYLIGHT
BEGIN:STANDARD
TZOFFSETFROM:-0400
TZOFFSETTO:-0500
TZNAME:EST
DTSTART:20241103T060000
END:STANDARD
BEGIN:DAYLIGHT
TZOFFSETFROM:-0500
TZOFFSETTO:-0400
TZNAME:EDT
DTSTART:20250309T070000
END:DAYLIGHT
BEGIN:STANDARD
TZOFFSETFROM:-0400
TZOFFSETTO:-0500
TZNAME:EST
DTSTART:20251102T060000
END:STANDARD
BEGIN:DAYLIGHT
TZOFFSETFROM:-0500
TZOFFSETTO:-0400
TZNAME:EDT
DTSTART:20260308T070000
END:DAYLIGHT
BEGIN:STANDARD
TZOFFSETFROM:-0400
TZOFFSETTO:-0500
TZNAME:EST
DTSTART:20261101T060000
END:STANDARD
END:VTIMEZONE
BEGIN:VEVENT
DTSTART;TZID=America/New_York:20251025T100000
DTEND;TZID=America/New_York:20251025T120000
DTSTAMP:20260420T040523
CREATED:20250916T191849Z
LAST-MODIFIED:20250916T191849Z
UID:10069611-1761386400-1761393600@legacy.merrimackvalley.org
SUMMARY:Saint Michael School Admissions Open House
DESCRIPTION:This year\, Saint Michael School in North Andover is proudly celebrating 75 years of providing an exceptional Catholic education to generations of students and wants to invite you to celebrate with them! All prospective families are invited to their next Open House on Saturday\, October 25th\, at 10:00 a.m. RSVP online at www.SaintMichael.com/Tour or by calling the main office at 978-686-1862. Come learn about their Nursery\, Pre-K\, Kindergarten and Grade 1-8 programs and how Saint Michael School has been learning and growing for 75 years! Bring the family\, tour the school and ask questions. They can’t wait to meet you!
URL:https://legacy.merrimackvalley.org/event/saint-michael-school-admissions-open-house/
LOCATION:Saint Michael School\, Maple Avenue\, North Andover\, MA\, 01845\, United States
ATTACH;FMTTYPE=image/jpeg:https://legacy.merrimackvalley.org/wp-content/uploads/2025/09/7x5_OpenHouse_2510-scaled.jpg
ORGANIZER;CN="Saint Michael School":MAILTO:info@saintmichael.com
GEO:42.7004579;-71.1309388
X-APPLE-STRUCTURED-LOCATION;VALUE=URI;X-ADDRESS=Saint Michael School Maple Avenue North Andover MA 01845 United States;X-APPLE-RADIUS=500;X-TITLE=Maple Avenue:geo:-71.1309388,42.7004579
END:VEVENT
BEGIN:VEVENT
DTSTART;TZID=America/New_York:20230201T100000
DTEND;TZID=America/New_York:20230201T120000
DTSTAMP:20260420T040523
CREATED:20221219T195228Z
LAST-MODIFIED:20221219T195228Z
UID:10025771-1675245600-1675252800@legacy.merrimackvalley.org
SUMMARY:Saint Michael School Open House
DESCRIPTION:Come join us for our next Open House and celebrate Catholic Schools Week with us. School will be in session so you can learn what makes Saint Michael School simply exceptional!
URL:https://legacy.merrimackvalley.org/event/saint-michael-school-open-house-2/
LOCATION:97 University Ave\, Lowell\, 01854\, United States
CATEGORIES:Free Events,Kids & Family
ATTACH;FMTTYPE=image/jpeg:https://legacy.merrimackvalley.org/wp-content/uploads/2022/12/5x6-print-ad_OpenHouse_Jan23.jpg
ORGANIZER;CN="Saint Michael School":MAILTO:info@saintmichael.com
END:VEVENT
BEGIN:VEVENT
DTSTART;TZID=America/New_York:20221105T100000
DTEND;TZID=America/New_York:20221105T120000
DTSTAMP:20260420T040523
CREATED:20220915T151249Z
LAST-MODIFIED:20220915T151249Z
UID:10025704-1667642400-1667649600@legacy.merrimackvalley.org
SUMMARY:Saint Michael School Open House
DESCRIPTION:Join us to learn what makes Saint Michael School simply exceptional! Bring the family\, tour our school and ask questions. We can’t wait to meet you! \nStudents entering our Upper School (Grades 5-8) are also invited to shadow a current student. Call 978-686-1862 to register your child to be an Archangel for a Day.
URL:https://legacy.merrimackvalley.org/event/saint-michael-school-open-house/
LOCATION:97 University Ave\, Lowell\, 01854\, United States
CATEGORIES:Free Events,Kids & Family
ATTACH;FMTTYPE=image/jpeg:https://legacy.merrimackvalley.org/wp-content/uploads/2022/09/QtrPg-print-ad_OpenHouse-scaled.jpg
ORGANIZER;CN="Saint Michael School":MAILTO:info@saintmichael.com
END:VEVENT
BEGIN:VEVENT
DTSTART;TZID=America/New_York:20221012T180000
DTEND;TZID=America/New_York:20221012T193000
DTSTAMP:20260420T040523
CREATED:20220915T151213Z
LAST-MODIFIED:20220915T151213Z
UID:10025703-1665597600-1665603000@legacy.merrimackvalley.org
SUMMARY:Travel the World with STEM
DESCRIPTION:Come stamp your passport as you travel around the world learning about different inventions. Your child will get to do hands-on STEM activities at each country. Games and raffle prizes for everyone!
URL:https://legacy.merrimackvalley.org/event/travel-the-world-with-stem/
LOCATION:97 University Ave\, Lowell\, 01854\, United States
CATEGORIES:Free Events,Kids & Family
ATTACH;FMTTYPE=image/jpeg:https://legacy.merrimackvalley.org/wp-content/uploads/2022/09/5x6-print-ad_STEM.jpg
ORGANIZER;CN="Saint Michael School":MAILTO:info@saintmichael.com
END:VEVENT
END:VCALENDAR