BEGIN:VCALENDAR
VERSION:2.0
PRODID:-//Merrimack Valley Massachusetts - ECPv6.15.13//NONSGML v1.0//EN
CALSCALE:GREGORIAN
METHOD:PUBLISH
X-ORIGINAL-URL:https://legacy.merrimackvalley.org
X-WR-CALDESC:Events for Merrimack Valley Massachusetts
REFRESH-INTERVAL;VALUE=DURATION:PT1H
X-Robots-Tag:noindex
X-PUBLISHED-TTL:PT1H
BEGIN:VTIMEZONE
TZID:America/New_York
BEGIN:DAYLIGHT
TZOFFSETFROM:-0500
TZOFFSETTO:-0400
TZNAME:EDT
DTSTART:20230312T070000
END:DAYLIGHT
BEGIN:STANDARD
TZOFFSETFROM:-0400
TZOFFSETTO:-0500
TZNAME:EST
DTSTART:20231105T060000
END:STANDARD
BEGIN:DAYLIGHT
TZOFFSETFROM:-0500
TZOFFSETTO:-0400
TZNAME:EDT
DTSTART:20240310T070000
END:DAYLIGHT
BEGIN:STANDARD
TZOFFSETFROM:-0400
TZOFFSETTO:-0500
TZNAME:EST
DTSTART:20241103T060000
END:STANDARD
BEGIN:DAYLIGHT
TZOFFSETFROM:-0500
TZOFFSETTO:-0400
TZNAME:EDT
DTSTART:20250309T070000
END:DAYLIGHT
BEGIN:STANDARD
TZOFFSETFROM:-0400
TZOFFSETTO:-0500
TZNAME:EST
DTSTART:20251102T060000
END:STANDARD
END:VTIMEZONE
BEGIN:VEVENT
DTSTART;TZID=America/New_York:20240222T170000
DTEND;TZID=America/New_York:20240222T193000
DTSTAMP:20260421T095201
CREATED:20240206T162118Z
LAST-MODIFIED:20240206T162118Z
UID:10050374-1708621200-1708630200@legacy.merrimackvalley.org
SUMMARY:Lowell Kids Week: Night at the Museum—Beginnings of Two Revolutions
DESCRIPTION:All ages\nCome experience the Boott Cotton Mills Museum after hours. The looms have quieted but there’s still so much to experience in the museum. Join rangers from Minute Man NHP and Lowell NHP who will be dressed in historical clothing and comparing the beginning of the American Revolution to the beginning of the Industrial Revolution. Come learn about the differences between farm oriented life versus factory life in the city. Visit our website for more information www.nps.gov/lowe/planyourvisit/kids-week.htm.
URL:https://legacy.merrimackvalley.org/event/lowell-kids-week-night-at-the-museum-beginnings-of-two-revolutions/
LOCATION:97 University Ave\, Lowell\, 01854\, United States
CATEGORIES:Free Events,Kids & Family
ORGANIZER;CN="Lowell National Historical Park":MAILTO:phil_lupsiewicz@nps.gov
END:VEVENT
END:VCALENDAR