BEGIN:VCALENDAR
VERSION:2.0
PRODID:-//Merrimack Valley Massachusetts - ECPv6.15.13//NONSGML v1.0//EN
CALSCALE:GREGORIAN
METHOD:PUBLISH
X-ORIGINAL-URL:https://legacy.merrimackvalley.org
X-WR-CALDESC:Events for Merrimack Valley Massachusetts
REFRESH-INTERVAL;VALUE=DURATION:PT1H
X-Robots-Tag:noindex
X-PUBLISHED-TTL:PT1H
BEGIN:VTIMEZONE
TZID:America/New_York
BEGIN:DAYLIGHT
TZOFFSETFROM:-0500
TZOFFSETTO:-0400
TZNAME:EDT
DTSTART:20210314T070000
END:DAYLIGHT
BEGIN:STANDARD
TZOFFSETFROM:-0400
TZOFFSETTO:-0500
TZNAME:EST
DTSTART:20211107T060000
END:STANDARD
BEGIN:DAYLIGHT
TZOFFSETFROM:-0500
TZOFFSETTO:-0400
TZNAME:EDT
DTSTART:20220313T070000
END:DAYLIGHT
BEGIN:STANDARD
TZOFFSETFROM:-0400
TZOFFSETTO:-0500
TZNAME:EST
DTSTART:20221106T060000
END:STANDARD
BEGIN:DAYLIGHT
TZOFFSETFROM:-0500
TZOFFSETTO:-0400
TZNAME:EDT
DTSTART:20230312T070000
END:DAYLIGHT
BEGIN:STANDARD
TZOFFSETFROM:-0400
TZOFFSETTO:-0500
TZNAME:EST
DTSTART:20231105T060000
END:STANDARD
BEGIN:DAYLIGHT
TZOFFSETFROM:-0500
TZOFFSETTO:-0400
TZNAME:EDT
DTSTART:20240310T070000
END:DAYLIGHT
BEGIN:STANDARD
TZOFFSETFROM:-0400
TZOFFSETTO:-0500
TZNAME:EST
DTSTART:20241103T060000
END:STANDARD
BEGIN:DAYLIGHT
TZOFFSETFROM:-0500
TZOFFSETTO:-0400
TZNAME:EDT
DTSTART:20250309T070000
END:DAYLIGHT
BEGIN:STANDARD
TZOFFSETFROM:-0400
TZOFFSETTO:-0500
TZNAME:EST
DTSTART:20251102T060000
END:STANDARD
END:VTIMEZONE
BEGIN:VEVENT
DTSTART;TZID=America/New_York:20241207T140000
DTEND;TZID=America/New_York:20241207T153000
DTSTAMP:20260420T072336
CREATED:20241028T125204Z
LAST-MODIFIED:20241028T125905Z
UID:10060375-1733580000-1733585400@legacy.merrimackvalley.org
SUMMARY:A Holiday Celebration with the Lowell Philharmonic Orchestra
DESCRIPTION:There will be a pre-concert event for those that bought tickets starting at 1:15pm. Mill City Santa will be available for free family and individual photos. Delicious cookies will be for sale\, and hot chocolate will be available to warm you up. Shop for LPO merch and take part in our exciting raffle baskets! \nFeaturing selections from:\nAmahl & the Night Visitors\nThe Nutcracker\nOlivia\, the Witch\, and the Christmas Tree \nTICKETS FOR CHILDREN UNDER 17\nGeneral admission tickets are free for children ages 17 and under. Please use the code “Under17” to get up to four tickets per transaction. At this time\, these tickets cannot be purchased in the same transaction as general admission/senior tickets\, so they will need to be processed in a separate transaction. \n$20 for Adults – $10 for Seniors – Children 17 and under are Free.
URL:https://legacy.merrimackvalley.org/event/a-holiday-celebration-with-the-lowell-philharmonic-orchestra/
LOCATION:Fusion Lowell\, Mount Hope Street\, Lowell\, MA\, 01854\, United States
ATTACH;FMTTYPE=image/png:https://legacy.merrimackvalley.org/wp-content/uploads/2024/10/Dec-7.png
ORGANIZER;CN="Lowell Philharmonic Orchestra":MAILTO:bmcisaac@aol.com
GEO:42.6544472;-71.3307566
X-APPLE-STRUCTURED-LOCATION;VALUE=URI;X-ADDRESS=Fusion Lowell Mount Hope Street Lowell MA 01854 United States;X-APPLE-RADIUS=500;X-TITLE=Mount Hope Street:geo:-71.3307566,42.6544472
END:VEVENT
BEGIN:VEVENT
DTSTART;TZID=America/New_York:20241012T140000
DTEND;TZID=America/New_York:20241012T153000
DTSTAMP:20260420T072336
CREATED:20240923T155825Z
LAST-MODIFIED:20240923T155825Z
UID:10057853-1728741600-1728747000@legacy.merrimackvalley.org
SUMMARY:Lowell Philharmonic Orchestra presents Bohemian Rhapsodies and Hungarian Dreams
DESCRIPTION:Pricing\nGeneral Admission : $20.00\nSenior Ticket: $10.00\nRUNNING TIME\n1 hour and 10 minutes with a 10 minute intermission \nAdditional Information\nRefund/Exchange Policy\nAll sales are final.
URL:https://legacy.merrimackvalley.org/event/lowell-philharmonic-orchestra-presents-bohemian-rhapsodies-and-hungarian-dreams/
LOCATION:Fusion Lowell\, Mount Hope Street\, Lowell\, MA\, 01854\, United States
CATEGORIES:Kids & Family,Live Performances
ATTACH;FMTTYPE=image/png:https://legacy.merrimackvalley.org/wp-content/uploads/2024/09/Bohemian-Rhapsodies.png
ORGANIZER;CN="Lowell Philharmonic Orchestra":MAILTO:bmcisaac@aol.com
GEO:42.6544472;-71.3307566
X-APPLE-STRUCTURED-LOCATION;VALUE=URI;X-ADDRESS=Fusion Lowell Mount Hope Street Lowell MA 01854 United States;X-APPLE-RADIUS=500;X-TITLE=Mount Hope Street:geo:-71.3307566,42.6544472
END:VEVENT
BEGIN:VEVENT
DTSTART;TZID=America/New_York:20240518T140000
DTEND;TZID=America/New_York:20240518T160000
DTSTAMP:20260420T072336
CREATED:20240416T202059Z
LAST-MODIFIED:20240416T202131Z
UID:10054044-1716040800-1716048000@legacy.merrimackvalley.org
SUMMARY:LOWELL PHILHARMONIC ORCHESTRA PRESENTS DARING DIVAS: AMERICAN WOMEN COMPOSERS OF THE 20TH & 21ST CENTURY
DESCRIPTION:LOWELL PHILHARMONIC ORCHESTRA PRESENTS: \nDARING DIVAS: AMERICAN WOMEN COMPOSERS OF THE 20TH & 21ST CENTURY \nSaturday May 18\, @2:00pm \nFusion Church\, 125 Mt Hope Street\, Lowell MA \n  \n 
URL:https://legacy.merrimackvalley.org/event/lowell-philharmonic-orchestra-presents-daring-divas-american-women-composers-of-the-20th-21st-century/
LOCATION:97 University Ave\, Lowell\, 01854\, United States
CATEGORIES:Live Performances
ORGANIZER;CN="Lowell Philharmonic Orchestra":MAILTO:bmcisaac@aol.com
END:VEVENT
BEGIN:VEVENT
DTSTART;TZID=America/New_York:20240316T140000
DTEND;TZID=America/New_York:20240316T170000
DTSTAMP:20260420T072336
CREATED:20240227T152005Z
LAST-MODIFIED:20240227T152006Z
UID:10050778-1710597600-1710608400@legacy.merrimackvalley.org
SUMMARY:Visions Unleashed: A Family Concert
DESCRIPTION:Join us as we celebrate the harmony of local talent and timeless classics on a journey through sound. Experience the magic as our seasoned musicians blend seamlessly with the aspiring stars of tomorrow\, as local string students take the stage alongside the orchestra to perform “Visions of the Sky\,” a captivating piece that will stir the soul. \nIn addition to this delightful collaboration\, we proudly present the winner of the 2024 LPO Concerto Competition\, the exceptionally talented 16-year-old William Ge. Prepare to be captivated by Ge’s mastery as he brings to life Chopin’s Concerto No. 1 in E minor\, op. 11\, 1st movement\, with an interpretation that will leave you spellbound. \nBe one of the first to hear the newly commissioned “Lowell Symphony\,” a composition inspired by the rich tapestry of Lowell’s history. In addition to this\, the Saint-Saëns’ whimsical “Carnival of the Animals\,” promises an experience that will linger in your heart long after the final note fades away. The venue has ample parking and is handicapped accessible. \nTickets are $20/Adult; $10/Seniors; Free Admission for kids 17 and under (must be accompanied by adult) \n 
URL:https://legacy.merrimackvalley.org/event/visions-unleashed-a-family-concert/
LOCATION:97 University Ave\, Lowell\, 01854\, United States
CATEGORIES:Arts & Culture,Live Performances
ATTACH;FMTTYPE=image/png:https://legacy.merrimackvalley.org/wp-content/uploads/2024/02/Screenshot-2024-02-27-at-10.18.26 AM.png
ORGANIZER;CN="Lowell Philharmonic Orchestra":MAILTO:bmcisaac@aol.com
END:VEVENT
BEGIN:VEVENT
DTSTART;TZID=America/New_York:20230625T140000
DTEND;TZID=America/New_York:20230625T163000
DTSTAMP:20260420T072336
CREATED:20230606T202225Z
LAST-MODIFIED:20230606T202225Z
UID:10028977-1687701600-1687710600@legacy.merrimackvalley.org
SUMMARY:Lowell Philharmonic Orchestra Summer Pops at Shedd Park!
DESCRIPTION:Join us for a fun and FREE afternoon of music at the Lowell Philharmonic Orchestra’s annual Summer Pops at Shedd Park on Sunday\, June 25\, 2023\, at 2 pm. Located at Shedd Park in Lowell\, under the pavilion. Seating is limited\, but don’t worry\, bring your blanket or lawn chairs and find a cozy spot on the lawn.\nClassical and popular favorites include Strauss’ “Die Fledermaus Overture\,” John Williams” “Indiana Jones and the Kingdom of the Crystal Skull” Gershwin’s “An American in Paris Suite”. Also Copland and Sousa! Every year we salute our armed services with patriotic music led by The Star-Spangled Banner. The LPO pays tribute to Lowell born composer George Whitefield Chadwick and perform “Euterpe”.\nThe LPO will be joined by the talented student dancers from the Hellenic American Academy\, performing traditional Greek dances specially arranged for orchestra for this concert.\nA great beginning to a great summer of music in Lowell! We hope to see you there!
URL:https://legacy.merrimackvalley.org/event/lowell-philharmonic-orchestra-summer-pops-at-shedd-park/
LOCATION:Shedd Park Pavilion\, 433 Rogers Street (Rt. 38)\, Lowell\, MA\, 01852\, United States
CATEGORIES:Arts & Culture,Free Events,Kids & Family,Live Performances
ATTACH;FMTTYPE=image/jpeg:https://legacy.merrimackvalley.org/wp-content/uploads/2023/06/SheddPark2023.jpg
ORGANIZER;CN="Lowell Philharmonic Orchestra":MAILTO:bmcisaac@aol.com
GEO:42.630693;-71.288808
X-APPLE-STRUCTURED-LOCATION;VALUE=URI;X-ADDRESS=Shedd Park Pavilion 433 Rogers Street (Rt. 38) Lowell MA 01852 United States;X-APPLE-RADIUS=500;X-TITLE=433 Rogers Street (Rt. 38):geo:-71.288808,42.630693
END:VEVENT
BEGIN:VEVENT
DTSTART;TZID=America/New_York:20221203T140000
DTEND;TZID=America/New_York:20221203T160000
DTSTAMP:20260420T072336
CREATED:20221117T162547Z
LAST-MODIFIED:20221117T162547Z
UID:10025754-1670076000-1670083200@legacy.merrimackvalley.org
SUMMARY:LPO Presents Dreams of the Holidays!
DESCRIPTION:Our Holiday Concert is around the corner! State Representative Vanna Howard will be our Guest Narrator! There are rumors of a visitor in a red suit too! Join us and our Guest Conductor Riley Vogel for some holiday spirit! $20 adults\, $10 seniors and free admission for young people 17 and under. Get your tickets online at our website: https://lpodec2022.bpt.me
URL:https://legacy.merrimackvalley.org/event/lpo-presents-dreams-of-the-holidays/
LOCATION:97 University Ave\, Lowell\, 01854\, United States
CATEGORIES:Arts & Culture
ATTACH;FMTTYPE=image/jpeg:https://legacy.merrimackvalley.org/wp-content/uploads/2022/11/2022-Dreams-of-the-Holidays-FINAL.jpg
ORGANIZER;CN="Lowell Philharmonic Orchestra":MAILTO:bmcisaac@aol.com
END:VEVENT
BEGIN:VEVENT
DTSTART;TZID=America/New_York:20221022T130000
DTEND;TZID=America/New_York:20221022T163000
DTSTAMP:20260420T072336
CREATED:20220914T155427Z
LAST-MODIFIED:20220914T155427Z
UID:10025702-1666443600-1666456200@legacy.merrimackvalley.org
SUMMARY:Masquerade Social and Concert: A Fundraising Event for the Lowell Philharmonic Orchestra
DESCRIPTION:A fundraiser for the Lowell Philharmonic Orchestra which has been a part of the fabric of the City of Lowell since 1903. Beginning with mingling with the musicians during a Mocktail Hour complete with hors d’oeuvres from 1pm to 2pm. Transition from 2 to 2:30 with raffles of amazing prizes and ending with a magical concert featuring excerpts from “Phantom of the Opera\, “Wicked”\, Khachaturian’s “Masquerade Suite”\, and other favorites. Black tie optional – don’t forget to wear your gala masquerade mask!
URL:https://legacy.merrimackvalley.org/event/masquerade-social-and-concert-a-fundraising-event-for-the-lowell-philharmonic-orchestra/
LOCATION:97 University Ave\, Lowell\, 01854\, United States
CATEGORIES:Annual & Special,Arts & Culture,Live Performances
ATTACH;FMTTYPE=image/jpeg:https://legacy.merrimackvalley.org/wp-content/uploads/2022/09/LPO-2022-Masquerade-Final-Poster-PNG.jpg
ORGANIZER;CN="Lowell Philharmonic Orchestra":MAILTO:bmcisaac@aol.com
END:VEVENT
END:VCALENDAR