BEGIN:VCALENDAR
VERSION:2.0
PRODID:-//Merrimack Valley Massachusetts - ECPv6.15.13//NONSGML v1.0//EN
CALSCALE:GREGORIAN
METHOD:PUBLISH
X-ORIGINAL-URL:https://legacy.merrimackvalley.org
X-WR-CALDESC:Events for Merrimack Valley Massachusetts
REFRESH-INTERVAL;VALUE=DURATION:PT1H
X-Robots-Tag:noindex
X-PUBLISHED-TTL:PT1H
BEGIN:VTIMEZONE
TZID:America/New_York
BEGIN:DAYLIGHT
TZOFFSETFROM:-0500
TZOFFSETTO:-0400
TZNAME:EDT
DTSTART:20220313T070000
END:DAYLIGHT
BEGIN:STANDARD
TZOFFSETFROM:-0400
TZOFFSETTO:-0500
TZNAME:EST
DTSTART:20221106T060000
END:STANDARD
BEGIN:DAYLIGHT
TZOFFSETFROM:-0500
TZOFFSETTO:-0400
TZNAME:EDT
DTSTART:20230312T070000
END:DAYLIGHT
BEGIN:STANDARD
TZOFFSETFROM:-0400
TZOFFSETTO:-0500
TZNAME:EST
DTSTART:20231105T060000
END:STANDARD
BEGIN:DAYLIGHT
TZOFFSETFROM:-0500
TZOFFSETTO:-0400
TZNAME:EDT
DTSTART:20240310T070000
END:DAYLIGHT
BEGIN:STANDARD
TZOFFSETFROM:-0400
TZOFFSETTO:-0500
TZNAME:EST
DTSTART:20241103T060000
END:STANDARD
BEGIN:DAYLIGHT
TZOFFSETFROM:-0500
TZOFFSETTO:-0400
TZNAME:EDT
DTSTART:20250309T070000
END:DAYLIGHT
BEGIN:STANDARD
TZOFFSETFROM:-0400
TZOFFSETTO:-0500
TZNAME:EST
DTSTART:20251102T060000
END:STANDARD
BEGIN:DAYLIGHT
TZOFFSETFROM:-0500
TZOFFSETTO:-0400
TZNAME:EDT
DTSTART:20260308T070000
END:DAYLIGHT
BEGIN:STANDARD
TZOFFSETFROM:-0400
TZOFFSETTO:-0500
TZNAME:EST
DTSTART:20261101T060000
END:STANDARD
BEGIN:DAYLIGHT
TZOFFSETFROM:-0500
TZOFFSETTO:-0400
TZNAME:EDT
DTSTART:20270314T070000
END:DAYLIGHT
BEGIN:STANDARD
TZOFFSETFROM:-0400
TZOFFSETTO:-0500
TZNAME:EST
DTSTART:20271107T060000
END:STANDARD
END:VTIMEZONE
BEGIN:VEVENT
DTSTART;TZID=America/New_York:20260110T200000
DTEND;TZID=America/New_York:20260110T223000
DTSTAMP:20260419T094658
CREATED:20251229T195322Z
LAST-MODIFIED:20251229T195322Z
UID:10072994-1768075200-1768084200@legacy.merrimackvalley.org
SUMMARY:Whiskey Treaty Roadshow in North Andover
DESCRIPTION:Whiskey Treaty Roadshow\, comprised of four Massachusetts singer-songwriters\, uses a mixture of styles including Americana\, Roots\, Rock & Roll\, and Folk to create boot stomping jams\, sing-a-long anthems\, and a larger than life command of the stage. For seven and a half years\, the band has thrilled regional and national audience with its electric live shows\, earning them slots at acclaimed festivals including Green River Fest\, Fresh Grash the Kate Wolf Memorial Music Festival\, and more.
URL:https://legacy.merrimackvalley.org/event/whiskey-treaty-roadshow-in-north-andover/
LOCATION:Crossroads Music Series\, Crossroads Music Series\, 190 Academy Rd\, North Andover\, MA\, 01845\, United States
CATEGORIES:Live Performances
ATTACH;FMTTYPE=image/jpeg:https://legacy.merrimackvalley.org/wp-content/uploads/2025/12/506647544_1152446816690620_7126335739798810252_n.jpg
ORGANIZER;CN="Crossroads Music Series":MAILTO:dave@bulldog-communications.com
GEO:42.6842827;-71.1121018
X-APPLE-STRUCTURED-LOCATION;VALUE=URI;X-ADDRESS=Crossroads Music Series Crossroads Music Series 190 Academy Rd North Andover MA 01845 United States;X-APPLE-RADIUS=500;X-TITLE=Crossroads Music Series\, 190 Academy Rd:geo:-71.1121018,42.6842827
END:VEVENT
BEGIN:VEVENT
DTSTART;TZID=America/New_York:20251108T200000
DTEND;TZID=America/New_York:20251108T223000
DTSTAMP:20260419T094658
CREATED:20251009T153412Z
LAST-MODIFIED:20251009T153412Z
UID:10070208-1762632000-1762641000@legacy.merrimackvalley.org
SUMMARY:The Debo Ray Experience
DESCRIPTION:Grammy nominated vocalist extraordinaire\, Debo Ray\, and her all-star band perform original music from her debut album as well as re-imagined covers as only Debo can. Possessing an incredible vocal range and versatility\, she seamlessly captures the soulful richness of R&B\, drawing inspiration from various genres to create a unique and captivating sound. A charismatic performer and storyteller\, she connects deeply with her audience\, leaving them nourished with the depth of her artistic impression.\nDebo Ray’s current self-titled album is a bold\, genre-blending statement of identity and empowerment — a ten-track journey through love\, loss and resilience\, delivered with vocal firepower and lyrical depth. \n“Debo Ray’s self-titled debut is a genre-defying triumph of powerhouse vocals.”\nWe Write About Music \n“What can’t Debo sing?”\nJon Garelik\, Boston Globe
URL:https://legacy.merrimackvalley.org/event/the-debo-ray-experience/
LOCATION:Crossroads Music Series\, Crossroads Music Series\, 190 Academy Rd\, North Andover\, MA\, 01845\, United States
CATEGORIES:Live Performances
ATTACH;FMTTYPE=image/jpeg:https://legacy.merrimackvalley.org/wp-content/uploads/2025/10/Debo-Ray-x-Holy-Smoke-_25-15-scaled.jpg
ORGANIZER;CN="Crossroads Music Series":MAILTO:dave@bulldog-communications.com
GEO:42.6842827;-71.1121018
X-APPLE-STRUCTURED-LOCATION;VALUE=URI;X-ADDRESS=Crossroads Music Series Crossroads Music Series 190 Academy Rd North Andover MA 01845 United States;X-APPLE-RADIUS=500;X-TITLE=Crossroads Music Series\, 190 Academy Rd:geo:-71.1121018,42.6842827
END:VEVENT
BEGIN:VEVENT
DTSTART;TZID=America/New_York:20251004T200000
DTEND;TZID=America/New_York:20251004T223000
DTSTAMP:20260419T094658
CREATED:20250912T195340Z
LAST-MODIFIED:20250912T195340Z
UID:10069556-1759608000-1759617000@legacy.merrimackvalley.org
SUMMARY:Brennen Leigh in concert
DESCRIPTION:Brennen Leigh is an American songwriter\, guitar player\, mandolin player and singer whose to-the-point storytelling style has elevated her to international cult icon. Her songs have been recorded by Lee Ann Womack\, Rodney Crowell\, Sunny Sweeney\, Charley Crockett\, and many others. As renowned for her musicianship as for her writing\, it’s easy to see how Leigh caught the ear of greats like Guy Clark\, who colorfully endorsed her flatpicking: According to western swing hero\, Ray Benson\, “Brennen will carry the torch for REAL roots American music for her generation\, and she’s the best one to do it.” \n“A story-telling poet\, landscape painter\, passionate observer of the human condition and a cultural preservationist.” – Rodney Crowell\n“An adventurous artist\, wholly and authentically herself.” – No Depression
URL:https://legacy.merrimackvalley.org/event/brennen-leigh-in-concert/
LOCATION:Crossroads Music Series\, Crossroads Music Series\, 190 Academy Rd\, North Andover\, MA\, 01845\, United States
CATEGORIES:Live Performances
ATTACH;FMTTYPE=image/jpeg:https://legacy.merrimackvalley.org/wp-content/uploads/2025/09/Lead-photo-credit-Curtis-Clogston-scaled.jpeg
ORGANIZER;CN="Crossroads Music Series":MAILTO:dave@bulldog-communications.com
GEO:42.6842827;-71.1121018
X-APPLE-STRUCTURED-LOCATION;VALUE=URI;X-ADDRESS=Crossroads Music Series Crossroads Music Series 190 Academy Rd North Andover MA 01845 United States;X-APPLE-RADIUS=500;X-TITLE=Crossroads Music Series\, 190 Academy Rd:geo:-71.1121018,42.6842827
END:VEVENT
BEGIN:VEVENT
DTSTART;TZID=America/New_York:20250906T200000
DTEND;TZID=America/New_York:20250906T223000
DTSTAMP:20260419T094658
CREATED:20250822T220315Z
LAST-MODIFIED:20250822T220315Z
UID:10069117-1757188800-1757197800@legacy.merrimackvalley.org
SUMMARY:Jax Hollow in concert
DESCRIPTION:Nashville’s Jax Hollow (originally from Western Mass) emerges as a rare triple-threat. She’s a nuanced and hard-hitting songwriter\, a powerhouse vocalist\, and a world class guitarist.\nJax’s exceptional songwriting skills have earned her notable recognation\, including a first-place win in the prestigious ISC Songwriting Competition. A graduate of Berklee College of Music\, Jax has shared the spotlight with legendary rock icons like Billy Gibbon and Sammy Hagar. Her music effortlessly blends blues\, rock and Americana\, showcasing her ability to connect with listeners through heartfelt\, soulful lyrics and soaring vocals — while her jaw-dropping guitar solos demonstrate a mastery of the craft. \n“Hendrixian…with shades of Jimmy Page and Eddie Van Halen.”\nGuitar World\n“I wanted to be the one that discovered Jax Hollow!”\nMelissa Etheridge
URL:https://legacy.merrimackvalley.org/event/jax-hollow-in-concert/
LOCATION:Crossroads Music Series\, Crossroads Music Series\, 190 Academy Rd\, North Andover\, MA\, 01845\, United States
CATEGORIES:Arts & Culture,Live Performances
ATTACH;FMTTYPE=image/jpeg:https://legacy.merrimackvalley.org/wp-content/uploads/2025/08/JAX-HEADSHOTS-1.jpg-scaled.jpeg
ORGANIZER;CN="Crossroads Music Series":MAILTO:dave@bulldog-communications.com
GEO:42.6842827;-71.1121018
X-APPLE-STRUCTURED-LOCATION;VALUE=URI;X-ADDRESS=Crossroads Music Series Crossroads Music Series 190 Academy Rd North Andover MA 01845 United States;X-APPLE-RADIUS=500;X-TITLE=Crossroads Music Series\, 190 Academy Rd:geo:-71.1121018,42.6842827
END:VEVENT
BEGIN:VEVENT
DTSTART;TZID=America/New_York:20250419T200000
DTEND;TZID=America/New_York:20250419T223000
DTSTAMP:20260419T094658
CREATED:20250320T201133Z
LAST-MODIFIED:20250320T201133Z
UID:10062788-1745092800-1745101800@legacy.merrimackvalley.org
SUMMARY:Jim Lauderdale & the Game Changers in concert
DESCRIPTION:For a man who recently put out his 37th album\, Jim Lauderdale still has the glimmer in his eye of the young man who first made his way to Nashville back in 1979. Actively writing and recording music for the past four-plus decades\, Mr. Americana—as Lauderdale has grown to be known around town—has fine-tuned his brand of country music\, taking influences from his upbringing in the Carolinas\, the bluegrass and string music of surrounding Appalachia\, the folk and Grateful Dead catalog of the 60s and beyond\, and the twanging\, honky tonk of the town he’s long called home and distilling them into a sound distinctively his own.  \n“He’s a man of great style\, an exceptional songwriter and tremendous singer.” Elvis Costello \n“He’s my favorite part of Americana music.” Keith Secor\, Old Crow Medicine Show
URL:https://legacy.merrimackvalley.org/event/jim-lauderdale-the-game-changers-in-concert/
LOCATION:Crossroads Music Series\, Crossroads Music Series\, 190 Academy Rd\, North Andover\, MA\, 01845\, United States
CATEGORIES:Arts & Culture
ATTACH;FMTTYPE=image/jpeg:https://legacy.merrimackvalley.org/wp-content/uploads/2025/03/JimlauderdaleBand15121.jpg
ORGANIZER;CN="Crossroads Music Series":MAILTO:dave@bulldog-communications.com
GEO:42.6842827;-71.1121018
X-APPLE-STRUCTURED-LOCATION;VALUE=URI;X-ADDRESS=Crossroads Music Series Crossroads Music Series 190 Academy Rd North Andover MA 01845 United States;X-APPLE-RADIUS=500;X-TITLE=Crossroads Music Series\, 190 Academy Rd:geo:-71.1121018,42.6842827
END:VEVENT
BEGIN:VEVENT
DTSTART;TZID=America/New_York:20250118T200000
DTEND;TZID=America/New_York:20250118T223000
DTSTAMP:20260419T094658
CREATED:20250110T194359Z
LAST-MODIFIED:20250110T194359Z
UID:10062295-1737230400-1737239400@legacy.merrimackvalley.org
SUMMARY:Mark Erelli in concert
DESCRIPTION:Mark Erelli turns adversity into finely embroidered rock songs that burn with urgency on his 2023 album Lay Your Darkness Down. Following full-bodied rock forebears Tom Petty\, George Harrison\, and Roy Orbison\, Erelli’s songwriting explores the unknown glories of this planet and love’s transformational power. \nOver his two-decade long career\, the singer-songwriter-sideman-producer-writer has proven himself equally at home in a multitude of roles: producing albums for artists like Grammy winner\, Lori McKenna; serving as a sideman guitarist for artists like Paula Cole\, Marc Cohn\, and John Ritter; writing and producing his own material (his “By Degrees was nominated for Song of the Year at the Americana Honors and Award); and most recently becoming an advocate for low-vision artists and working with venues to make their spaces more accessible. \n“Erelli’s’s delicious catharsis leaves us all with a catchy chorus that will be much easier to call to mind when we need it most. That is the beauty of songwriting done well.”\nFolk Alley
URL:https://legacy.merrimackvalley.org/event/mark-erelli-in-concert/
LOCATION:Crossroads Music Series\, Crossroads Music Series\, 190 Academy Rd\, North Andover\, MA\, 01845\, United States
CATEGORIES:Live Performances
ATTACH;FMTTYPE=image/jpeg:https://legacy.merrimackvalley.org/wp-content/uploads/2025/01/Mark-Erelli-Profile-photo-cred-Sam-Kassirer-scaled.jpg
ORGANIZER;CN="Crossroads Music Series":MAILTO:dave@bulldog-communications.com
GEO:42.6842827;-71.1121018
X-APPLE-STRUCTURED-LOCATION;VALUE=URI;X-ADDRESS=Crossroads Music Series Crossroads Music Series 190 Academy Rd North Andover MA 01845 United States;X-APPLE-RADIUS=500;X-TITLE=Crossroads Music Series\, 190 Academy Rd:geo:-71.1121018,42.6842827
END:VEVENT
BEGIN:VEVENT
DTSTART;TZID=America/New_York:20241214T200000
DTEND;TZID=America/New_York:20241214T223000
DTSTAMP:20260419T094658
CREATED:20241120T151742Z
LAST-MODIFIED:20241203T174827Z
UID:10060978-1734206400-1734215400@legacy.merrimackvalley.org
SUMMARY:Ali McGuirk Band in North Andover
DESCRIPTION:Blending classic soul power with a folk songwriter lyricism\, New England’s Ali McGuirk has the rare ability to silence a room with just a few words of a song. With a voice that is raw and sultry and a style rooted in improvisation\, her sets are a hypnotic and intimate journey.\nOn her Signature Sounds Recordings debut ’Til It’s Gone\, McGuirk delivers a sublime set of songs that pairs her trademark soul sound with rootsy turns and raw rock ‘n’ roll detours. The album landed on the Boston Globe’s Top 50 Albums list for 2022.\n“With all the hooks of Lake Street Dive but more earthy tenderness and smart introspection…” –Boston Herald\n“The result on Til It’s Gone provides a wealth of sonic enjoyment.” – PopMatters
URL:https://legacy.merrimackvalley.org/event/ali-mcguirk-band-in-north-andover/
LOCATION:Crossroads Music Series\, Crossroads Music Series\, 190 Academy Rd\, North Andover\, MA\, 01845\, United States
CATEGORIES:Live Performances
ATTACH;FMTTYPE=image/jpeg:https://legacy.merrimackvalley.org/wp-content/uploads/2024/11/sam-williams-34-e1732116354457.jpg
ORGANIZER;CN="Crossroads Music Series":MAILTO:dave@bulldog-communications.com
GEO:42.6842827;-71.1121018
X-APPLE-STRUCTURED-LOCATION;VALUE=URI;X-ADDRESS=Crossroads Music Series Crossroads Music Series 190 Academy Rd North Andover MA 01845 United States;X-APPLE-RADIUS=500;X-TITLE=Crossroads Music Series\, 190 Academy Rd:geo:-71.1121018,42.6842827
END:VEVENT
BEGIN:VEVENT
DTSTART;TZID=America/New_York:20230610T200000
DTEND;TZID=America/New_York:20230610T223000
DTSTAMP:20260419T094658
CREATED:20230519T131246Z
LAST-MODIFIED:20230519T131246Z
UID:10027521-1686427200-1686436200@legacy.merrimackvalley.org
SUMMARY:Kim Richey in concert
DESCRIPTION:Returning to Crossroads in North Andover\, two-time Grammy-nominated singer-songwriter\, Kim Richey\, “writes some of the most beguiling melodies and freshest chord changes of her generation.” (Washington Post) Richey’s hits include Those Words We Said\, Come Around\, for Trisha Yearwood\, Believe Me Baby (I Lied)\, and for Radney Foster\, Nobody Wins. \n“Part of what draws them to the dusky honey of her crystalline alto is the way she writes: to and from the soul\, never flinching from the conflicts and crushing moments\, yet always finding dignity and resilience.”\n					Holly Gleason
URL:https://legacy.merrimackvalley.org/event/kim-richey-in-concert/
LOCATION:190 Academy Rd. North Andover MA 01845\, 190 Academy Rd\, North Andover\, MA\, 01845\, United States
CATEGORIES:Live Performances
ATTACH;FMTTYPE=image/jpeg:https://legacy.merrimackvalley.org/wp-content/uploads/2023/05/Kim-Richey-2-scaled.jpg
ORGANIZER;CN="Crossroads Music Series":MAILTO:dave@bulldog-communications.com
GEO:42.6842173;-71.1122259
X-APPLE-STRUCTURED-LOCATION;VALUE=URI;X-ADDRESS=190 Academy Rd. North Andover MA 01845 190 Academy Rd North Andover MA 01845 United States;X-APPLE-RADIUS=500;X-TITLE=190 Academy Rd:geo:-71.1122259,42.6842173
END:VEVENT
END:VCALENDAR