BEGIN:VCALENDAR
VERSION:2.0
PRODID:-//Merrimack Valley Massachusetts - ECPv6.15.13//NONSGML v1.0//EN
CALSCALE:GREGORIAN
METHOD:PUBLISH
X-ORIGINAL-URL:https://legacy.merrimackvalley.org
X-WR-CALDESC:Events for Merrimack Valley Massachusetts
REFRESH-INTERVAL;VALUE=DURATION:PT1H
X-Robots-Tag:noindex
X-PUBLISHED-TTL:PT1H
BEGIN:VTIMEZONE
TZID:America/New_York
BEGIN:DAYLIGHT
TZOFFSETFROM:-0500
TZOFFSETTO:-0400
TZNAME:EDT
DTSTART:20230312T070000
END:DAYLIGHT
BEGIN:STANDARD
TZOFFSETFROM:-0400
TZOFFSETTO:-0500
TZNAME:EST
DTSTART:20231105T060000
END:STANDARD
BEGIN:DAYLIGHT
TZOFFSETFROM:-0500
TZOFFSETTO:-0400
TZNAME:EDT
DTSTART:20240310T070000
END:DAYLIGHT
BEGIN:STANDARD
TZOFFSETFROM:-0400
TZOFFSETTO:-0500
TZNAME:EST
DTSTART:20241103T060000
END:STANDARD
BEGIN:DAYLIGHT
TZOFFSETFROM:-0500
TZOFFSETTO:-0400
TZNAME:EDT
DTSTART:20250309T070000
END:DAYLIGHT
BEGIN:STANDARD
TZOFFSETFROM:-0400
TZOFFSETTO:-0500
TZNAME:EST
DTSTART:20251102T060000
END:STANDARD
END:VTIMEZONE
BEGIN:VEVENT
DTSTART;TZID=America/New_York:20241215T140000
DTEND;TZID=America/New_York:20241215T150000
DTSTAMP:20260423T033545
CREATED:20241206T144549Z
LAST-MODIFIED:20241206T144549Z
UID:10061381-1734271200-1734274800@legacy.merrimackvalley.org
SUMMARY:Santi and Perch: Countdown to Christmas
DESCRIPTION:Looking for some holiday fun for the whole family? Then look no further than Santi and Perch: Countdown to Christmas! This original holiday musical follows the story of two North Pole elves on a mission to rewrite Santa’s naughty and nice list. \nPERFORMANCE DATES: \nDecember 13th & 14th at 7pm and December 15th at 2pm in the auditorium. \nThe show runs at approximately 90 minutes with one 15 minute intermission. \nPRODUCTION INFORMATION: \nPresented by The Playground \nBook by Eloise Hoffman \nOriginal Music by Lauren Cochran\, Donna DeWitt and Kaitlin Self-Aris \nGeneral admission tickets $15.00\, $10.00 for Students and Seniors.
URL:https://legacy.merrimackvalley.org/event/santi-and-perch-countdown-to-christmas-3/
LOCATION:Chelmsford Center for the Arts\, Chelmsford Center for the Arts\, 1A North Rd\, Chelmsford\, MA\, 01824\, United States
CATEGORIES:Kids & Family
ATTACH;FMTTYPE=image/jpeg:https://legacy.merrimackvalley.org/wp-content/uploads/2024/12/Screenshot-2024-12-06-091619-1.jpg
ORGANIZER;CN="Chelmsford Center for the Arts":MAILTO:CCA@chelmsfordma.gov
GEO:42.5976849;-71.3520404
X-APPLE-STRUCTURED-LOCATION;VALUE=URI;X-ADDRESS=Chelmsford Center for the Arts Chelmsford Center for the Arts 1A North Rd Chelmsford MA 01824 United States;X-APPLE-RADIUS=500;X-TITLE=Chelmsford Center for the Arts\, 1A North Rd:geo:-71.3520404,42.5976849
END:VEVENT
BEGIN:VEVENT
DTSTART;TZID=America/New_York:20241214T190000
DTEND;TZID=America/New_York:20241214T200000
DTSTAMP:20260423T033545
CREATED:20241206T141815Z
LAST-MODIFIED:20241206T141815Z
UID:10061380-1734202800-1734206400@legacy.merrimackvalley.org
SUMMARY:Santi and Perch: Countdown to Christmas
DESCRIPTION:Looking for some holiday fun for the whole family? Then look no further than Santi and Perch: Countdown to Christmas! This original holiday musical follows the story of two North Pole elves on a mission to rewrite Santa’s naughty and nice list. \nPERFORMANCE DATES: \nDecember 13th & 14th at 7pm and December 15th at 2pm in the auditorium. \nThe show runs at approximately 90 minutes with one 15 minute intermission. \nPRODUCTION INFORMATION: \nPresented by The Playground \nBook by Eloise Hoffman \nOriginal Music by Lauren Cochran\, Donna DeWitt and Kaitlin Self-Aris \nGeneral admission tickets $15.00\, $10.00 for Students and Seniors.
URL:https://legacy.merrimackvalley.org/event/santi-and-perch-countdown-to-christmas-2/2024-12-14/
LOCATION:Chelmsford Center for the Arts\, Chelmsford Center for the Arts\, 1A North Rd\, Chelmsford\, MA\, 01824\, United States
CATEGORIES:Kids & Family
ATTACH;FMTTYPE=image/jpeg:https://legacy.merrimackvalley.org/wp-content/uploads/2024/12/Screenshot-2024-12-06-091619.jpg
ORGANIZER;CN="Chelmsford Center for the Arts":MAILTO:CCA@chelmsfordma.gov
GEO:42.5976849;-71.3520404
X-APPLE-STRUCTURED-LOCATION;VALUE=URI;X-ADDRESS=Chelmsford Center for the Arts Chelmsford Center for the Arts 1A North Rd Chelmsford MA 01824 United States;X-APPLE-RADIUS=500;X-TITLE=Chelmsford Center for the Arts\, 1A North Rd:geo:-71.3520404,42.5976849
END:VEVENT
BEGIN:VEVENT
DTSTART;TZID=America/New_York:20241213T190000
DTEND;TZID=America/New_York:20241213T200000
DTSTAMP:20260423T033545
CREATED:20241206T141815Z
LAST-MODIFIED:20241206T141815Z
UID:10061379-1734116400-1734120000@legacy.merrimackvalley.org
SUMMARY:Santi and Perch: Countdown to Christmas
DESCRIPTION:Looking for some holiday fun for the whole family? Then look no further than Santi and Perch: Countdown to Christmas! This original holiday musical follows the story of two North Pole elves on a mission to rewrite Santa’s naughty and nice list. \nPERFORMANCE DATES: \nDecember 13th & 14th at 7pm and December 15th at 2pm in the auditorium. \nThe show runs at approximately 90 minutes with one 15 minute intermission. \nPRODUCTION INFORMATION: \nPresented by The Playground \nBook by Eloise Hoffman \nOriginal Music by Lauren Cochran\, Donna DeWitt and Kaitlin Self-Aris \nGeneral admission tickets $15.00\, $10.00 for Students and Seniors.
URL:https://legacy.merrimackvalley.org/event/santi-and-perch-countdown-to-christmas-2/2024-12-13/
LOCATION:Chelmsford Center for the Arts\, Chelmsford Center for the Arts\, 1A North Rd\, Chelmsford\, MA\, 01824\, United States
CATEGORIES:Kids & Family
ATTACH;FMTTYPE=image/jpeg:https://legacy.merrimackvalley.org/wp-content/uploads/2024/12/Screenshot-2024-12-06-091619.jpg
ORGANIZER;CN="Chelmsford Center for the Arts":MAILTO:CCA@chelmsfordma.gov
GEO:42.5976849;-71.3520404
X-APPLE-STRUCTURED-LOCATION;VALUE=URI;X-ADDRESS=Chelmsford Center for the Arts Chelmsford Center for the Arts 1A North Rd Chelmsford MA 01824 United States;X-APPLE-RADIUS=500;X-TITLE=Chelmsford Center for the Arts\, 1A North Rd:geo:-71.3520404,42.5976849
END:VEVENT
BEGIN:VEVENT
DTSTART;TZID=America/New_York:20241206T190000
DTEND;TZID=America/New_York:20241206T200000
DTSTAMP:20260423T033545
CREATED:20241122T145113Z
LAST-MODIFIED:20241122T145113Z
UID:10061357-1733511600-1733515200@legacy.merrimackvalley.org
SUMMARY:Chelmsford Community Jazz Band Holiday Concert
DESCRIPTION:Enjoy some holiday favorites along with some swinging big band jazz arrangements under the direction of Art Bakopolus. The band is comprised mostly of Chelmsford Residents and is a can’t miss concert for you and the whole family. For only $20.00 /10.00 you are sure to have a wonderful time and will hear some great music! See you there!
URL:https://legacy.merrimackvalley.org/event/chelmsford-community-jazz-band-holiday-concert/
LOCATION:Chelmsford Center for the Arts\, Chelmsford Center for the Arts\, 1A North Rd\, Chelmsford\, MA\, 01824\, United States
CATEGORIES:Live Performances
ATTACH;FMTTYPE=image/jpeg:https://legacy.merrimackvalley.org/wp-content/uploads/2024/11/Holiday-Jazz.jpeg
ORGANIZER;CN="Chelmsford Center for the Arts":MAILTO:CCA@chelmsfordma.gov
GEO:42.5976849;-71.3520404
X-APPLE-STRUCTURED-LOCATION;VALUE=URI;X-ADDRESS=Chelmsford Center for the Arts Chelmsford Center for the Arts 1A North Rd Chelmsford MA 01824 United States;X-APPLE-RADIUS=500;X-TITLE=Chelmsford Center for the Arts\, 1A North Rd:geo:-71.3520404,42.5976849
END:VEVENT
BEGIN:VEVENT
DTSTART;TZID=America/New_York:20241006T130000
DTEND;TZID=America/New_York:20241006T143000
DTSTAMP:20260423T033545
CREATED:20240930T134746Z
LAST-MODIFIED:20240930T134746Z
UID:10057925-1728219600-1728225000@legacy.merrimackvalley.org
SUMMARY:She Grooves Concert!
DESCRIPTION:An expression of female empowerment and representation\, SheGrooves is a collective of students and faculty from the Berklee College of Music. \n​This band of talented women musicians is spearheaded by Kaye Kelly and Andrea “Ani” Johnson\, who are both professors at Berklee. \n​As a whole\, SheGrooves have a never-ending dedication to uplifting women through the power of their music: a blend of pop\, rock jazz\, and r&b. \n​Come join us at the CCA for an exciting\, beautiful afternoon! \nStarts at 1pm in the Auditorium.
URL:https://legacy.merrimackvalley.org/event/she-grooves-concert/
LOCATION:Chelmsford Center for the Arts\, Chelmsford Center for the Arts\, 1A North Rd\, Chelmsford\, MA\, 01824\, United States
CATEGORIES:Featured,Live Performances
ATTACH;FMTTYPE=image/png:https://legacy.merrimackvalley.org/wp-content/uploads/2024/09/She-Grooves.png
ORGANIZER;CN="Chelmsford Center for the Arts":MAILTO:CCA@chelmsfordma.gov
GEO:42.5976849;-71.3520404
X-APPLE-STRUCTURED-LOCATION;VALUE=URI;X-ADDRESS=Chelmsford Center for the Arts Chelmsford Center for the Arts 1A North Rd Chelmsford MA 01824 United States;X-APPLE-RADIUS=500;X-TITLE=Chelmsford Center for the Arts\, 1A North Rd:geo:-71.3520404,42.5976849
END:VEVENT
BEGIN:VEVENT
DTSTART;TZID=America/New_York:20241005T193000
DTEND;TZID=America/New_York:20241005T220000
DTSTAMP:20260423T033545
CREATED:20240930T133544Z
LAST-MODIFIED:20240930T133544Z
UID:10057923-1728156600-1728165600@legacy.merrimackvalley.org
SUMMARY:Ranting Parents Comedy Tour
DESCRIPTION:Get ready for a hilarious evening with Dave Rattigan and his fellow comedians at the Chelmsford Center for the Arts! \nParents\, this one’s for you! Enjoy a night of laughter as fellow parents share their comedic take on the ups and downs of raising kids. \nFull bar and snacks are available! \n 
URL:https://legacy.merrimackvalley.org/event/ranting-parents-comedy-tour/
LOCATION:Chelmsford Center for the Arts\, Chelmsford Center for the Arts\, 1A North Rd\, Chelmsford\, MA\, 01824\, United States
CATEGORIES:Live Performances
ATTACH;FMTTYPE=image/jpeg:https://legacy.merrimackvalley.org/wp-content/uploads/2024/09/Ranting-Parents-Comedy-Tour-Flyer-OCTOBER-2024-1.jpg
ORGANIZER;CN="Chelmsford Center for the Arts":MAILTO:CCA@chelmsfordma.gov
GEO:42.5976849;-71.3520404
X-APPLE-STRUCTURED-LOCATION;VALUE=URI;X-ADDRESS=Chelmsford Center for the Arts Chelmsford Center for the Arts 1A North Rd Chelmsford MA 01824 United States;X-APPLE-RADIUS=500;X-TITLE=Chelmsford Center for the Arts\, 1A North Rd:geo:-71.3520404,42.5976849
END:VEVENT
END:VCALENDAR