BEGIN:VCALENDAR
VERSION:2.0
PRODID:-//Merrimack Valley Massachusetts - ECPv6.15.13//NONSGML v1.0//EN
CALSCALE:GREGORIAN
METHOD:PUBLISH
X-ORIGINAL-URL:https://legacy.merrimackvalley.org
X-WR-CALDESC:Events for Merrimack Valley Massachusetts
REFRESH-INTERVAL;VALUE=DURATION:PT1H
X-Robots-Tag:noindex
X-PUBLISHED-TTL:PT1H
BEGIN:VTIMEZONE
TZID:America/New_York
BEGIN:DAYLIGHT
TZOFFSETFROM:-0500
TZOFFSETTO:-0400
TZNAME:EDT
DTSTART:20240310T070000
END:DAYLIGHT
BEGIN:STANDARD
TZOFFSETFROM:-0400
TZOFFSETTO:-0500
TZNAME:EST
DTSTART:20241103T060000
END:STANDARD
BEGIN:DAYLIGHT
TZOFFSETFROM:-0500
TZOFFSETTO:-0400
TZNAME:EDT
DTSTART:20250309T070000
END:DAYLIGHT
BEGIN:STANDARD
TZOFFSETFROM:-0400
TZOFFSETTO:-0500
TZNAME:EST
DTSTART:20251102T060000
END:STANDARD
BEGIN:DAYLIGHT
TZOFFSETFROM:-0500
TZOFFSETTO:-0400
TZNAME:EDT
DTSTART:20260308T070000
END:DAYLIGHT
BEGIN:STANDARD
TZOFFSETFROM:-0400
TZOFFSETTO:-0500
TZNAME:EST
DTSTART:20261101T060000
END:STANDARD
END:VTIMEZONE
BEGIN:VEVENT
DTSTART;TZID=America/New_York:20251213T140000
DTEND;TZID=America/New_York:20251213T180000
DTSTAMP:20260421T050556
CREATED:20251204T195120Z
LAST-MODIFIED:20251204T195120Z
UID:10072069-1765634400-1765648800@legacy.merrimackvalley.org
SUMMARY:Army-Navy Football Luncheon
DESCRIPTION:The Ahern Family Charitable Foundation will hold its 22nd Annual Army-Navy Football Luncheon fundraiser on Saturday\, December 13th\, 2025 at the Scoreboard Sports Bar & Grill in Woburn. The annual fundraiser benefits Massachusetts children of fallen and deployed troops this holiday season through Operation Santa-Massachusetts\, a program created in partnership with the Military Friends Foundation. Tickets are available now at ahernfoundation.org.
URL:https://legacy.merrimackvalley.org/event/army-navy-football-luncheon/
LOCATION:Scoreboard Sports Bar and Grill\, 15 Middlesex Canal Park Dr\, Woburn\, MA\, 01801\, United States
ATTACH;FMTTYPE=image/jpeg:https://legacy.merrimackvalley.org/wp-content/uploads/2025/12/Army-Navy-2025-Logo.jpg
END:VEVENT
END:VCALENDAR