BEGIN:VCALENDAR
VERSION:2.0
PRODID:-//Merrimack Valley Massachusetts - ECPv6.15.13//NONSGML v1.0//EN
CALSCALE:GREGORIAN
METHOD:PUBLISH
X-WR-CALNAME:Merrimack Valley Massachusetts
X-ORIGINAL-URL:https://legacy.merrimackvalley.org
X-WR-CALDESC:Events for Merrimack Valley Massachusetts
REFRESH-INTERVAL;VALUE=DURATION:PT1H
X-Robots-Tag:noindex
X-PUBLISHED-TTL:PT1H
BEGIN:VTIMEZONE
TZID:America/New_York
BEGIN:DAYLIGHT
TZOFFSETFROM:-0500
TZOFFSETTO:-0400
TZNAME:EDT
DTSTART:20210314T070000
END:DAYLIGHT
BEGIN:STANDARD
TZOFFSETFROM:-0400
TZOFFSETTO:-0500
TZNAME:EST
DTSTART:20211107T060000
END:STANDARD
BEGIN:DAYLIGHT
TZOFFSETFROM:-0500
TZOFFSETTO:-0400
TZNAME:EDT
DTSTART:20220313T070000
END:DAYLIGHT
BEGIN:STANDARD
TZOFFSETFROM:-0400
TZOFFSETTO:-0500
TZNAME:EST
DTSTART:20221106T060000
END:STANDARD
BEGIN:DAYLIGHT
TZOFFSETFROM:-0500
TZOFFSETTO:-0400
TZNAME:EDT
DTSTART:20230312T070000
END:DAYLIGHT
BEGIN:STANDARD
TZOFFSETFROM:-0400
TZOFFSETTO:-0500
TZNAME:EST
DTSTART:20231105T060000
END:STANDARD
BEGIN:DAYLIGHT
TZOFFSETFROM:-0500
TZOFFSETTO:-0400
TZNAME:EDT
DTSTART:20240310T070000
END:DAYLIGHT
BEGIN:STANDARD
TZOFFSETFROM:-0400
TZOFFSETTO:-0500
TZNAME:EST
DTSTART:20241103T060000
END:STANDARD
BEGIN:DAYLIGHT
TZOFFSETFROM:-0500
TZOFFSETTO:-0400
TZNAME:EDT
DTSTART:20250309T070000
END:DAYLIGHT
BEGIN:STANDARD
TZOFFSETFROM:-0400
TZOFFSETTO:-0500
TZNAME:EST
DTSTART:20251102T060000
END:STANDARD
BEGIN:DAYLIGHT
TZOFFSETFROM:-0500
TZOFFSETTO:-0400
TZNAME:EDT
DTSTART:20260308T070000
END:DAYLIGHT
BEGIN:STANDARD
TZOFFSETFROM:-0400
TZOFFSETTO:-0500
TZNAME:EST
DTSTART:20261101T060000
END:STANDARD
END:VTIMEZONE
BEGIN:VEVENT
DTSTART;TZID=America/New_York:20250329T160000
DTEND;TZID=America/New_York:20250329T180000
DTSTAMP:20260420T140511
CREATED:20250218T143235Z
LAST-MODIFIED:20250218T143235Z
UID:10062715-1743264000-1743271200@legacy.merrimackvalley.org
SUMMARY:Addison Gallery Spring Opening Reception
DESCRIPTION:Join us in celebrating the new exhibitions: June Leaf: Shooting from the Heart; Playing to Our Strengths: Highlights from the Permanent Collection; On and Off Stage: Performance and Persona; and Dynamic Duos. Enjoy great company\, light refreshments\, and the best of American art! Free and open to the public.
URL:https://legacy.merrimackvalley.org/event/addison-gallery-spring-opening-reception/
LOCATION:Addison Gallery of American Art\, Chapel Avenue\, Andover\, Massachusetts\, 01810\, United States
CATEGORIES:Arts & Culture,Exhibits,Free Events
ATTACH;FMTTYPE=image/jpeg:https://legacy.merrimackvalley.org/wp-content/uploads/2025/02/S25-images.jpg
ORGANIZER;CN="Addison Gallery of American Art":MAILTO:addison@andover.edu
GEO:42.6490098;-71.1334767
X-APPLE-STRUCTURED-LOCATION;VALUE=URI;X-ADDRESS=Addison Gallery of American Art Chapel Avenue Andover Massachusetts 01810 United States;X-APPLE-RADIUS=500;X-TITLE=Chapel Avenue:geo:-71.1334767,42.6490098
END:VEVENT
BEGIN:VEVENT
DTSTART;TZID=America/New_York:20240922T130000
DTEND;TZID=America/New_York:20240922T141500
DTSTAMP:20260420T140511
CREATED:20240904T185149Z
LAST-MODIFIED:20240904T185149Z
UID:10057437-1727010000-1727014500@legacy.merrimackvalley.org
SUMMARY:In Conversation: Kay WalkingStick and Wendy Nālani E. Ikemoto
DESCRIPTION:Join artist Kay WalkingStick and exhibition curator Wendy Nālani E. Ikemoto\, Vice President and Chief Curator of the New-York Historical Society\, for an engaging\, informal conversation about the themes presented in Kay WalkingStick / Hudson River School. The exhibition\, organized by New-York Historical Society\, places landscape paintings by WalkingStick in conversation with 19th-century Hudson River School paintings\, celebrating a shared reverence for nature while engaging crucial questions about land dispossession and its reclamation by Indigenous peoples and nations. This program is free but space is limited and registration is required. Event will be held in Kemper Auditorium\, adjacent to the Addison. \nImage: Kay WalkingStick\, Wampanoag Coast\, Variation II\, 2018. Oil on panel in two parts. Collection of Agnes Hsu-Tang\, Ph.D.\, and Oscar Tang. © Kay WalkingStick
URL:https://legacy.merrimackvalley.org/event/in-conversation-kay-walkingstick-and-wendy-nalani-e-ikemoto/
LOCATION:Addison Gallery of American Art\, Chapel Avenue\, Andover\, Massachusetts\, 01810\, United States
CATEGORIES:Arts & Culture,Lecture
ATTACH;FMTTYPE=image/jpeg:https://legacy.merrimackvalley.org/wp-content/uploads/2024/09/8-Wampanoag-Coast-Variation-II-by-WalkingStick-scaled.jpg
ORGANIZER;CN="Addison Gallery of American Art":MAILTO:addison@andover.edu
GEO:42.6490098;-71.1334767
X-APPLE-STRUCTURED-LOCATION;VALUE=URI;X-ADDRESS=Addison Gallery of American Art Chapel Avenue Andover Massachusetts 01810 United States;X-APPLE-RADIUS=500;X-TITLE=Chapel Avenue:geo:-71.1334767,42.6490098
END:VEVENT
BEGIN:VEVENT
DTSTART;TZID=America/New_York:20240921T160000
DTEND;TZID=America/New_York:20240921T180000
DTSTAMP:20260420T140511
CREATED:20240822T180413Z
LAST-MODIFIED:20240822T180413Z
UID:10057178-1726934400-1726941600@legacy.merrimackvalley.org
SUMMARY:Addison Gallery Opening Reception
DESCRIPTION:Join us in celebrating the new exhibitions: enjoy great company\, light refreshments\, and the best of American art! Free and open to the public.
URL:https://legacy.merrimackvalley.org/event/addison-gallery-opening-reception/
LOCATION:Addison Gallery of American Art\, Chapel Avenue\, Andover\, Massachusetts\, 01810\, United States
CATEGORIES:Arts & Culture,Exhibits,Free Events
ATTACH;FMTTYPE=image/jpeg:https://legacy.merrimackvalley.org/wp-content/uploads/2024/08/3.-Jack_Youngerman-scaled.jpg
ORGANIZER;CN="Addison Gallery of American Art":MAILTO:addison@andover.edu
GEO:42.6490098;-71.1334767
X-APPLE-STRUCTURED-LOCATION;VALUE=URI;X-ADDRESS=Addison Gallery of American Art Chapel Avenue Andover Massachusetts 01810 United States;X-APPLE-RADIUS=500;X-TITLE=Chapel Avenue:geo:-71.1334767,42.6490098
END:VEVENT
BEGIN:VEVENT
DTSTART;TZID=America/New_York:20221215T140000
DTEND;TZID=America/New_York:20221215T150000
DTSTAMP:20260420T140511
CREATED:20220902T151241Z
LAST-MODIFIED:20220902T151241Z
UID:10024374-1671112800-1671116400@legacy.merrimackvalley.org
SUMMARY:Virtual Gallery Talk: Rosamond Purcell: Nature Stands Aside
DESCRIPTION:Curator Gordon Wilkins will lead visitors on a virtual tour through the exhibition\, highlighting the themes and works presented. This free event is organized with Andover’s Memorial Hall Library; register online or call 978.623.8430.
URL:https://legacy.merrimackvalley.org/event/virtual-gallery-talk-rosamond-purcell-nature-stands-aside/
LOCATION:97 University Ave\, Lowell\, 01854\, United States
CATEGORIES:Arts & Culture,Free Events
ATTACH;FMTTYPE=image/jpeg:https://legacy.merrimackvalley.org/wp-content/uploads/2022/09/155-sm.jpg
ORGANIZER;CN="Addison Gallery of American Art":MAILTO:addison@andover.edu
END:VEVENT
BEGIN:VEVENT
DTSTART;TZID=America/New_York:20221117T140000
DTEND;TZID=America/New_York:20221117T150000
DTSTAMP:20260420T140511
CREATED:20220902T151217Z
LAST-MODIFIED:20220902T151217Z
UID:10024373-1668693600-1668697200@legacy.merrimackvalley.org
SUMMARY:Gallery Tour: Rosamond Purcell: Nature Stands Aside
DESCRIPTION:Join Curator Gordon Wilkins for a walk-through and discussion of the exhibition. This event\, organized with Andover’s Memorial Hall Library\, is free\, but space is limited; register online or call 978.623.8430.
URL:https://legacy.merrimackvalley.org/event/gallery-tour-rosamond-purcell-nature-stands-aside-2/
LOCATION:97 University Ave\, Lowell\, 01854\, United States
CATEGORIES:Arts & Culture,Free Events
ATTACH;FMTTYPE=image/jpeg:https://legacy.merrimackvalley.org/wp-content/uploads/2022/09/PL107_1.2022.171-sm.jpg
ORGANIZER;CN="Addison Gallery of American Art":MAILTO:addison@andover.edu
END:VEVENT
BEGIN:VEVENT
DTSTART;TZID=America/New_York:20221106T140000
DTEND;TZID=America/New_York:20221106T153000
DTSTAMP:20260420T140511
CREATED:20220902T150641Z
LAST-MODIFIED:20220902T150641Z
UID:10024371-1667743200-1667748600@legacy.merrimackvalley.org
SUMMARY:Art Workshop
DESCRIPTION:Explore Rosamond Purcell: Nature Stands Aside and experiment with objects and ideas that connect with themes of seeing the world through the dual lenses of art and science. Julie Bernson\, Associate Director of Learning at The Trustees of Reservations and former Addison Curator of Education\, will lead the program. All ages are welcome\, but children under 12 must be accompanied by an adult. Space is limited; registration is required.
URL:https://legacy.merrimackvalley.org/event/art-workshop/
LOCATION:97 University Ave\, Lowell\, 01854\, United States
CATEGORIES:Arts & Culture,Free Events,Kids & Family
ATTACH;FMTTYPE=image/jpeg:https://legacy.merrimackvalley.org/wp-content/uploads/2022/09/PL132_1.2022.185-sm.jpg
ORGANIZER;CN="Addison Gallery of American Art":MAILTO:addison@andover.edu
END:VEVENT
BEGIN:VEVENT
DTSTART;TZID=America/New_York:20221022T180000
DTEND;TZID=America/New_York:20221022T193000
DTSTAMP:20260420T140511
CREATED:20220902T144412Z
LAST-MODIFIED:20220902T144412Z
UID:10024368-1666461600-1666467000@legacy.merrimackvalley.org
SUMMARY:Harry Benson: Four Stories Reception
DESCRIPTION:Join us and the artist in celebrating this exhibition of four powerful photo stories from the 1960s.
URL:https://legacy.merrimackvalley.org/event/harry-benson-four-stories-reception/
LOCATION:97 University Ave\, Lowell\, 01854\, United States
CATEGORIES:Arts & Culture,Free Events
ATTACH;FMTTYPE=image/jpeg:https://legacy.merrimackvalley.org/wp-content/uploads/2022/09/2020.1.jpg
ORGANIZER;CN="Addison Gallery of American Art":MAILTO:addison@andover.edu
END:VEVENT
BEGIN:VEVENT
DTSTART;TZID=America/New_York:20221022T170000
DTEND;TZID=America/New_York:20221022T180000
DTSTAMP:20260420T140511
CREATED:20220902T144334Z
LAST-MODIFIED:20220902T144334Z
UID:10024251-1666458000-1666461600@legacy.merrimackvalley.org
SUMMARY:Q&A with Harry Benson
DESCRIPTION:In conjunction with Harry Benson: Four Stories\, Benson will answer questions about the exhibition and discuss his six decades of work as a photojournalist. A reception will follow. Space is limited; registration is required.
URL:https://legacy.merrimackvalley.org/event/qa-with-harry-benson/
LOCATION:97 University Ave\, Lowell\, 01854\, United States
CATEGORIES:Arts & Culture,Free Events
ATTACH;FMTTYPE=image/jpeg:https://legacy.merrimackvalley.org/wp-content/uploads/2022/09/2015.12-sm.jpg
ORGANIZER;CN="Addison Gallery of American Art":MAILTO:addison@andover.edu
END:VEVENT
BEGIN:VEVENT
DTSTART;TZID=America/New_York:20220917T140000
DTEND;TZID=America/New_York:20220917T150000
DTSTAMP:20260420T140511
CREATED:20220902T144258Z
LAST-MODIFIED:20220902T144258Z
UID:10024250-1663423200-1663426800@legacy.merrimackvalley.org
SUMMARY:Gallery Tour: Rosamond Purcell: Nature Stands Aside
DESCRIPTION:Curator Gordon Wilkins will bring participants through the exhibition and discuss Purcell’s work. This event is offered as part of Essex National Heritage Area’s Trails & Sails program. Registration is required.
URL:https://legacy.merrimackvalley.org/event/gallery-tour-rosamond-purcell-nature-stands-aside/
LOCATION:97 University Ave\, Lowell\, 01854\, United States
CATEGORIES:Arts & Culture,Free Events
ATTACH;FMTTYPE=image/jpeg:https://legacy.merrimackvalley.org/wp-content/uploads/2022/09/PL156_1.2022.206-sm.jpg
ORGANIZER;CN="Addison Gallery of American Art":MAILTO:addison@andover.edu
END:VEVENT
BEGIN:VEVENT
DTSTART;TZID=America/New_York:20220916T180000
DTEND;TZID=America/New_York:20220916T200000
DTSTAMP:20260420T140511
CREATED:20220902T144208Z
LAST-MODIFIED:20220902T144208Z
UID:10024133-1663351200-1663358400@legacy.merrimackvalley.org
SUMMARY:Opening Reception for Rosamond Purcell: Nature Stands Aside
DESCRIPTION:Join us for a festive evening to celebrate the opening of this significant retrospective exhibition (read more at https://addison.andover.edu/Exhibitions/Purcell/Pages/default.aspx).
URL:https://legacy.merrimackvalley.org/event/opening-reception-for-rosamond-purcell-nature-stands-aside/
LOCATION:97 University Ave\, Lowell\, 01854\, United States
CATEGORIES:Arts & Culture,Free Events
ATTACH;FMTTYPE=image/jpeg:https://legacy.merrimackvalley.org/wp-content/uploads/2022/09/PL141_1.2022.202-sm.jpg
ORGANIZER;CN="Addison Gallery of American Art":MAILTO:addison@andover.edu
END:VEVENT
END:VCALENDAR