BEGIN:VCALENDAR
VERSION:2.0
PRODID:-//Merrimack Valley Massachusetts - ECPv6.15.13//NONSGML v1.0//EN
CALSCALE:GREGORIAN
METHOD:PUBLISH
X-ORIGINAL-URL:https://legacy.merrimackvalley.org
X-WR-CALDESC:Events for Merrimack Valley Massachusetts
REFRESH-INTERVAL;VALUE=DURATION:PT1H
X-Robots-Tag:noindex
X-PUBLISHED-TTL:PT1H
BEGIN:VTIMEZONE
TZID:America/New_York
BEGIN:DAYLIGHT
TZOFFSETFROM:-0500
TZOFFSETTO:-0400
TZNAME:EDT
DTSTART:20240310T070000
END:DAYLIGHT
BEGIN:STANDARD
TZOFFSETFROM:-0400
TZOFFSETTO:-0500
TZNAME:EST
DTSTART:20241103T060000
END:STANDARD
BEGIN:DAYLIGHT
TZOFFSETFROM:-0500
TZOFFSETTO:-0400
TZNAME:EDT
DTSTART:20250309T070000
END:DAYLIGHT
BEGIN:STANDARD
TZOFFSETFROM:-0400
TZOFFSETTO:-0500
TZNAME:EST
DTSTART:20251102T060000
END:STANDARD
BEGIN:DAYLIGHT
TZOFFSETFROM:-0500
TZOFFSETTO:-0400
TZNAME:EDT
DTSTART:20260308T070000
END:DAYLIGHT
BEGIN:STANDARD
TZOFFSETFROM:-0400
TZOFFSETTO:-0500
TZNAME:EST
DTSTART:20261101T060000
END:STANDARD
END:VTIMEZONE
BEGIN:VEVENT
DTSTART;TZID=America/New_York:20250906T150000
DTEND;TZID=America/New_York:20250906T170000
DTSTAMP:20260421T181318
CREATED:20250815T134710Z
LAST-MODIFIED:20250815T134710Z
UID:10068960-1757170800-1757178000@legacy.merrimackvalley.org
SUMMARY:ORANGE AND BLUE | September 3-28\, 2025| Reception on Saturday September 6\, 3 - 5 pm | Loading Dock Gallery
DESCRIPTION:This September\, the Loading Dock Gallery presents Blue and Orange. This is a dynamic member-driven exhibition celebrating the bold interplay of color and contrast. Artists interpret the theme through a wide range of mediums—painting\, sculpture\, photography\, fiber arts\, and more\, all exploring the emotional and symbolic power of two of art’s most evocative hues. \nWhether representing sun and sky\, fire and water\, or warmth and coolness\, blue and orange serve as both inspiration and challenge. Their juxtaposition invites harmony and tension\, sparking fresh creativity and vibrant expression in every piece. \nBlue and Orange offers viewers a rich and varied visual experience\, highlighting the diversity and talent of the gallery’s member artists while inviting personal reflection on color\, emotion\, and design. \nThe Loading Dock Gallery show\, Blue and Orange\, will be on display September 3rd – September 28th at the Loading Dock Gallery\, 122 Western Avenue\, Lowell\, MA. Opening Reception on September 6 from 3-5 pm. More at www.theloadingdockgallery.com. \nLoading Dock Gallery is part of Loading Dock Arts\, Inc.\, a 501c3.
URL:https://legacy.merrimackvalley.org/event/orange-and-blue-september-3-28-2025-reception-on-saturday-september-6-3-5-pm-loading-dock-gallery/
LOCATION:Loading Dock Gallery\, 122 Western Avenue\, Lowell\, MA\, United States
CATEGORIES:Arts & Culture,Exhibits,Free Events
ATTACH;FMTTYPE=image/jpeg:https://legacy.merrimackvalley.org/wp-content/uploads/2025/08/IMG_0503-scaled.jpg
GEO:42.6398431;-71.3192968
X-APPLE-STRUCTURED-LOCATION;VALUE=URI;X-ADDRESS=Loading Dock Gallery 122 Western Avenue Lowell MA United States;X-APPLE-RADIUS=500;X-TITLE=122 Western Avenue:geo:-71.3192968,42.6398431
END:VEVENT
END:VCALENDAR