BEGIN:VCALENDAR
VERSION:2.0
PRODID:-//Merrimack Valley Massachusetts - ECPv6.15.13//NONSGML v1.0//EN
CALSCALE:GREGORIAN
METHOD:PUBLISH
X-WR-CALNAME:Merrimack Valley Massachusetts
X-ORIGINAL-URL:https://legacy.merrimackvalley.org
X-WR-CALDESC:Events for Merrimack Valley Massachusetts
REFRESH-INTERVAL;VALUE=DURATION:PT1H
X-Robots-Tag:noindex
X-PUBLISHED-TTL:PT1H
BEGIN:VTIMEZONE
TZID:America/New_York
BEGIN:DAYLIGHT
TZOFFSETFROM:-0500
TZOFFSETTO:-0400
TZNAME:EDT
DTSTART:20240310T070000
END:DAYLIGHT
BEGIN:STANDARD
TZOFFSETFROM:-0400
TZOFFSETTO:-0500
TZNAME:EST
DTSTART:20241103T060000
END:STANDARD
BEGIN:DAYLIGHT
TZOFFSETFROM:-0500
TZOFFSETTO:-0400
TZNAME:EDT
DTSTART:20250309T070000
END:DAYLIGHT
BEGIN:STANDARD
TZOFFSETFROM:-0400
TZOFFSETTO:-0500
TZNAME:EST
DTSTART:20251102T060000
END:STANDARD
BEGIN:DAYLIGHT
TZOFFSETFROM:-0500
TZOFFSETTO:-0400
TZNAME:EDT
DTSTART:20260308T070000
END:DAYLIGHT
BEGIN:STANDARD
TZOFFSETFROM:-0400
TZOFFSETTO:-0500
TZNAME:EST
DTSTART:20261101T060000
END:STANDARD
END:VTIMEZONE
BEGIN:VEVENT
DTSTART;TZID=America/New_York:20250510T120000
DTEND;TZID=America/New_York:20250510T170000
DTSTAMP:20260422T003330
CREATED:20250502T143728Z
LAST-MODIFIED:20250502T143728Z
UID:10064630-1746878400-1746896400@legacy.merrimackvalley.org
SUMMARY:Spring Busker Festival
DESCRIPTION:Enjoy free live entertainment in downtown Lowell during the Spring Busker Festival! Organized by the City of Lowell through the Office of Cultural Affairs and Special Events\, this festival brings together musicians\, dancers\, aerialists\, market vendors\, food trucks and more for a day full of exciting entertainment.
URL:https://legacy.merrimackvalley.org/event/spring-busker-festival/
LOCATION:Downtown Lowell\, Various Locations\, Lowell\, MA\, 01852\, United States
CATEGORIES:Arts & Culture,Fairs & Festivals,Free Events,Kids & Family,Live Performances,Outdoors
ATTACH;FMTTYPE=image/png:https://legacy.merrimackvalley.org/wp-content/uploads/2025/05/BuskerFestival_Facebook-scaled.png
ORGANIZER;CN="City of Lowell%2C Office of Cultural Affairs and Special Events":MAILTO:case@lowellma.gov
GEO:42.6413742;-71.310695
X-APPLE-STRUCTURED-LOCATION;VALUE=URI;X-ADDRESS=Downtown Lowell Various Locations Lowell MA 01852 United States;X-APPLE-RADIUS=500;X-TITLE=Various Locations:geo:-71.310695,42.6413742
END:VEVENT
END:VCALENDAR