BEGIN:VCALENDAR
VERSION:2.0
PRODID:-//Merrimack Valley Massachusetts - ECPv6.15.13//NONSGML v1.0//EN
CALSCALE:GREGORIAN
METHOD:PUBLISH
X-WR-CALNAME:Merrimack Valley Massachusetts
X-ORIGINAL-URL:https://legacy.merrimackvalley.org
X-WR-CALDESC:Events for Merrimack Valley Massachusetts
REFRESH-INTERVAL;VALUE=DURATION:PT1H
X-Robots-Tag:noindex
X-PUBLISHED-TTL:PT1H
BEGIN:VTIMEZONE
TZID:America/New_York
BEGIN:DAYLIGHT
TZOFFSETFROM:-0500
TZOFFSETTO:-0400
TZNAME:EDT
DTSTART:20240310T070000
END:DAYLIGHT
BEGIN:STANDARD
TZOFFSETFROM:-0400
TZOFFSETTO:-0500
TZNAME:EST
DTSTART:20241103T060000
END:STANDARD
BEGIN:DAYLIGHT
TZOFFSETFROM:-0500
TZOFFSETTO:-0400
TZNAME:EDT
DTSTART:20250309T070000
END:DAYLIGHT
BEGIN:STANDARD
TZOFFSETFROM:-0400
TZOFFSETTO:-0500
TZNAME:EST
DTSTART:20251102T060000
END:STANDARD
BEGIN:DAYLIGHT
TZOFFSETFROM:-0500
TZOFFSETTO:-0400
TZNAME:EDT
DTSTART:20260308T070000
END:DAYLIGHT
BEGIN:STANDARD
TZOFFSETFROM:-0400
TZOFFSETTO:-0500
TZNAME:EST
DTSTART:20261101T060000
END:STANDARD
END:VTIMEZONE
BEGIN:VEVENT
DTSTART;TZID=America/New_York:20250802T150000
DTEND;TZID=America/New_York:20250802T170000
DTSTAMP:20260421T180119
CREATED:20250711T150439Z
LAST-MODIFIED:20250711T150439Z
UID:10066259-1754146800-1754154000@legacy.merrimackvalley.org
SUMMARY:UNCOMMON CONNECTIONS | July 30 – August 31\, 2025| Reception on Saturday August 3\, 3 - 5 pm | Loading Dock Gallery
DESCRIPTION:Show: Uncommon Connections\nShow dates: July 30 – August 31\, 2025\nOpening Reception: August 2 from 3-5 pm \nThis show brings together the creative voices of three senior artists—each representing a distinct medium: painting\, woodworking\, and sculpture. With a lifetime of experiences and shared passion for the arts\, these men offer a rich\, multidimensional exhibition. Their connection goes beyond the canvas or workshop—they are long-time collaborators and curators at the Loading Dock Gallery. Through their individual works and collective vision\, this show celebrates not only their diverse artistic journeys but also the enduring power of community and creativity. \nBruce Wood’s work is imaginative\, whimsical\, creative and provocative\, drawing the viewer into a world of skewed reality and thought. He uses found and recycled items to create unique sculptures. \nNeal Emmer’s work displays simple subject matter with forceful detail. He finds content while taking walks\, driving\, or finding things in thrift stores\, at home and in his back yard. He develops a theme and draws or paints the scenarios using pencil on paper or acrylic paint on canvas. \nBob Jones’ passion for woodworking started at a young age. His work is driven by a desire to marry functionality with artistry\, creating useful and beautiful objects. \nThe Loading Dock Gallery show\, Uncommon Connections\, will be on display July 30 to August 31\, 2025 at the Loading Dock Gallery\, 122 Western Avenue\, Lowell\, MA. Opening Reception on August 2 from 3-5 pm. More at www.theloadingdockgallery.com. \nLoading Dock Gallery is part of Loading Dock Arts\, Inc.\, a 501c3.
URL:https://legacy.merrimackvalley.org/event/uncommon-connections-july-30-august-31-2025-reception-on-saturday-august-3-3-5-pm-loading-dock-gallery/
LOCATION:The Loading Dock Gallery\, The Loading Dock Gallery\, 122 Western Ave\, Lowell\, MA\, United States
CATEGORIES:Arts & Culture
ATTACH;FMTTYPE=image/jpeg:https://legacy.merrimackvalley.org/wp-content/uploads/2025/07/Draft1.jpg
GEO:42.639957;-71.3193867
X-APPLE-STRUCTURED-LOCATION;VALUE=URI;X-ADDRESS=The Loading Dock Gallery The Loading Dock Gallery 122 Western Ave Lowell MA United States;X-APPLE-RADIUS=500;X-TITLE=The Loading Dock Gallery\, 122 Western Ave:geo:-71.3193867,42.639957
END:VEVENT
BEGIN:VEVENT
DTSTART;TZID=America/New_York:20250816T133000
DTEND;TZID=America/New_York:20250816T150000
DTSTAMP:20260421T180119
CREATED:20250813T165957Z
LAST-MODIFIED:20250813T165957Z
UID:10068953-1755351000-1755356400@legacy.merrimackvalley.org
SUMMARY:Shawsheen Village West Historic Walking Tour
DESCRIPTION:Enjoy a unique view of William Wood’s planned community known as Shawsheen. This walk highlights the area west of Route 28 when it was known as Frye Village and then illustrates the changes including “brick Shawsheen”\, the neighborhood built for American Woolen Company’s upper management. \nDuration: 1 1/2 hours\nTerrain: Easy sidewalks\nRegistration is required\nCost: Pay what you like\, starting at $12.50\nLimited to 4-12\nLocation: The meet-up location for each tour will be emailed the day before the event.
URL:https://legacy.merrimackvalley.org/event/shawsheen-village-west-historic-walking-tour/
LOCATION:Andover Center for History and Culture\, 97 Main Street\, Andover\, MA\, 01810\, United States
CATEGORIES:Historical
ATTACH;FMTTYPE=image/png:https://legacy.merrimackvalley.org/wp-content/uploads/2025/08/Shawsheen-West.png
ORGANIZER;CN="Andover Center for History and Culture":MAILTO:info@andoverhistoryandculture.org
GEO:42.653486;-71.1389732
X-APPLE-STRUCTURED-LOCATION;VALUE=URI;X-ADDRESS=Andover Center for History and Culture 97 Main Street Andover MA 01810 United States;X-APPLE-RADIUS=500;X-TITLE=97 Main Street:geo:-71.1389732,42.653486
END:VEVENT
BEGIN:VEVENT
DTSTART;TZID=America/New_York:20250817T103000
DTEND;TZID=America/New_York:20250817T120000
DTSTAMP:20260421T180119
CREATED:20250813T165923Z
LAST-MODIFIED:20250813T165923Z
UID:10068954-1755426600-1755432000@legacy.merrimackvalley.org
SUMMARY:Journey Down Elm Street Historic Walking Tour
DESCRIPTION:Join us for an interesting journey down old Elm Street. See varied architectural styles and learn about the history of the Elm House Tavern\, the Wonderland Theater\, Free Christian Church and other iconic locations including Abbot’s Tavern where George Washington made a brief but infamous stop. \nDuration: 1 1/2 hours\nTerrain: Easy sidewalks\nRegistration is required\nCost: Pay what you like\, starting at $12.50\nLimited to 4-12\nLocation: The meet-up location for each tour will be emailed the day before the event. \n#Andoverhistoryandculture #Andoverhistory #walkingtours
URL:https://legacy.merrimackvalley.org/event/journey-down-elm-street-historic-walking-tour/
LOCATION:Andover Center for History and Culture\, 97 Main Street\, Andover\, MA\, 01810\, United States
CATEGORIES:Historical
ATTACH;FMTTYPE=image/png:https://legacy.merrimackvalley.org/wp-content/uploads/2025/08/Elm-Street.png
ORGANIZER;CN="Andover Center for History and Culture":MAILTO:info@andoverhistoryandculture.org
GEO:42.653486;-71.1389732
X-APPLE-STRUCTURED-LOCATION;VALUE=URI;X-ADDRESS=Andover Center for History and Culture 97 Main Street Andover MA 01810 United States;X-APPLE-RADIUS=500;X-TITLE=97 Main Street:geo:-71.1389732,42.653486
END:VEVENT
END:VCALENDAR