BEGIN:VCALENDAR
VERSION:2.0
PRODID:-//Merrimack Valley Massachusetts - ECPv6.15.13//NONSGML v1.0//EN
CALSCALE:GREGORIAN
METHOD:PUBLISH
X-WR-CALNAME:Merrimack Valley Massachusetts
X-ORIGINAL-URL:https://legacy.merrimackvalley.org
X-WR-CALDESC:Events for Merrimack Valley Massachusetts
REFRESH-INTERVAL;VALUE=DURATION:PT1H
X-Robots-Tag:noindex
X-PUBLISHED-TTL:PT1H
BEGIN:VTIMEZONE
TZID:America/New_York
BEGIN:DAYLIGHT
TZOFFSETFROM:-0500
TZOFFSETTO:-0400
TZNAME:EDT
DTSTART:20250309T070000
END:DAYLIGHT
BEGIN:STANDARD
TZOFFSETFROM:-0400
TZOFFSETTO:-0500
TZNAME:EST
DTSTART:20251102T060000
END:STANDARD
BEGIN:DAYLIGHT
TZOFFSETFROM:-0500
TZOFFSETTO:-0400
TZNAME:EDT
DTSTART:20260308T070000
END:DAYLIGHT
BEGIN:STANDARD
TZOFFSETFROM:-0400
TZOFFSETTO:-0500
TZNAME:EST
DTSTART:20261101T060000
END:STANDARD
BEGIN:DAYLIGHT
TZOFFSETFROM:-0500
TZOFFSETTO:-0400
TZNAME:EDT
DTSTART:20270314T070000
END:DAYLIGHT
BEGIN:STANDARD
TZOFFSETFROM:-0400
TZOFFSETTO:-0500
TZNAME:EST
DTSTART:20271107T060000
END:STANDARD
END:VTIMEZONE
BEGIN:VEVENT
DTSTART;TZID=America/New_York:20260207T150000
DTEND;TZID=America/New_York:20260207T170000
DTSTAMP:20260420T212801
CREATED:20251229T202720Z
LAST-MODIFIED:20251229T202720Z
UID:10072995-1770476400-1770483600@legacy.merrimackvalley.org
SUMMARY:HEARTS AND FLOWERS | February 4 – March 1\, 2026| Loading Dock Gallery
DESCRIPTION:This February\, The Loading Dock Gallery invites the community to celebrate creativity\, beauty\, and connection with Hearts and Flowers\, a vibrant mixed-media exhibition featuring work by Loading Dock Gallery artists and additional Western Avenue artists.\nFilled with color\, emotion\, and the warmth of artistic expression\, Hearts and Flowers showcases a juried collection of paintings\, textiles\, photographs\, sculpture\, and handcrafted art. Whether inspired by love\, nature\, or the quiet joy of winter\, each piece offers a unique interpretation of the themes at the heart of the exhibition.\nVisitors are invited to explore three rooms of artwork that highlight the depth and diversity of our local creative community. This show offers the perfect opportunity to support local artists while discovering meaningful gifts—just in time for Valentine’s Day.\nHearts and Flowers will be open weekdays 12–5:30 PM and weekends 10 AM–3:30 PM\, February 4 through March 1. Join us for the opening reception on Saturday\, February 7\, from 3–5 PM\, coinciding with Western Avenue Studios’ Open Studios.\nLoading Dock Gallery is part of Loading Dock Arts\, Inc.\, a 501(c)(3). For more information\, visit www.theloadingdockgallery.com.
URL:https://legacy.merrimackvalley.org/event/hearts-and-flowers-february-4-march-1-2026-loading-dock-gallery/
LOCATION:Loading Dock Gallery\, 122 Western Avenue\, Lowell\, MA\, United States
CATEGORIES:Arts & Culture,Exhibits,Free Events
ATTACH;FMTTYPE=image/jpeg:https://legacy.merrimackvalley.org/wp-content/uploads/2025/12/IMG_1326-copy-scaled.jpeg
GEO:42.6398431;-71.3192968
X-APPLE-STRUCTURED-LOCATION;VALUE=URI;X-ADDRESS=Loading Dock Gallery 122 Western Avenue Lowell MA United States;X-APPLE-RADIUS=500;X-TITLE=122 Western Avenue:geo:-71.3192968,42.6398431
END:VEVENT
END:VCALENDAR