BEGIN:VCALENDAR
VERSION:2.0
PRODID:-//Merrimack Valley Massachusetts - ECPv6.15.13//NONSGML v1.0//EN
CALSCALE:GREGORIAN
METHOD:PUBLISH
X-WR-CALNAME:Merrimack Valley Massachusetts
X-ORIGINAL-URL:https://legacy.merrimackvalley.org
X-WR-CALDESC:Events for Merrimack Valley Massachusetts
REFRESH-INTERVAL;VALUE=DURATION:PT1H
X-Robots-Tag:noindex
X-PUBLISHED-TTL:PT1H
BEGIN:VTIMEZONE
TZID:America/New_York
BEGIN:DAYLIGHT
TZOFFSETFROM:-0500
TZOFFSETTO:-0400
TZNAME:EDT
DTSTART:20240310T070000
END:DAYLIGHT
BEGIN:STANDARD
TZOFFSETFROM:-0400
TZOFFSETTO:-0500
TZNAME:EST
DTSTART:20241103T060000
END:STANDARD
BEGIN:DAYLIGHT
TZOFFSETFROM:-0500
TZOFFSETTO:-0400
TZNAME:EDT
DTSTART:20250309T070000
END:DAYLIGHT
BEGIN:STANDARD
TZOFFSETFROM:-0400
TZOFFSETTO:-0500
TZNAME:EST
DTSTART:20251102T060000
END:STANDARD
BEGIN:DAYLIGHT
TZOFFSETFROM:-0500
TZOFFSETTO:-0400
TZNAME:EDT
DTSTART:20260308T070000
END:DAYLIGHT
BEGIN:STANDARD
TZOFFSETFROM:-0400
TZOFFSETTO:-0500
TZNAME:EST
DTSTART:20261101T060000
END:STANDARD
END:VTIMEZONE
BEGIN:VEVENT
DTSTART;TZID=America/New_York:20250913T130000
DTEND;TZID=America/New_York:20250913T160000
DTSTAMP:20260421T180055
CREATED:20250822T181835Z
LAST-MODIFIED:20250822T181835Z
UID:10069116-1757768400-1757779200@legacy.merrimackvalley.org
SUMMARY:Mill City Grows "Harvest Day at the Farm" Family Event
DESCRIPTION:Celebrate the harvest season with Mill City Grows as we approach the first day of fall! Free admission\, free on-site parking! \nCheck out our great lineup of activities for the whole family!\n– Farm tours ALL DAY of our beautiful 4-acre farm site\n– MCG Mobile Farmers Market selling fresh\, local produce\n– Free food for kids from the Lowell Public Schools “Fuel Up” Food Truck\n– Pollard Memorial Library Book Mobile\n– Sweet Bar Ice Cream Truck selling delicious treats and beverages\n– Mill City Grows Touch-a-Tractor \nPLUS Meet & Greet with our community partners!\n– Lowell Parks & Conservation Trust\n– Mass Audubon\n– Lowell Kinetic Sculpture Race – see a Kinetic Sculpture Race Machine up close!\n– City of Lowell Events & Information\n– Lowell Sustainability Council\n– Regenerative Roots \nFree parking on-site right outside the entrance to the farm!
URL:https://legacy.merrimackvalley.org/event/mill-city-grows-harvest-day-at-the-farm-family-event/
LOCATION:Mill City Grows Big Urban Farm\, 1001 Pawtucket Boulevard\, Lowell\, 01854\, United States
CATEGORIES:Fairs & Festivals
ATTACH;FMTTYPE=image/jpeg:https://legacy.merrimackvalley.org/wp-content/uploads/2025/08/2025-FB-Event-Harvest-Day.jpg
ORGANIZER;CN="Mill City Grows":MAILTO:info@millcitygrows.org
GEO:42.641515;-71.3722827
X-APPLE-STRUCTURED-LOCATION;VALUE=URI;X-ADDRESS=Mill City Grows Big Urban Farm 1001 Pawtucket Boulevard Lowell 01854 United States;X-APPLE-RADIUS=500;X-TITLE=1001 Pawtucket Boulevard:geo:-71.3722827,42.641515
END:VEVENT
BEGIN:VEVENT
DTSTART;TZID=America/New_York:20250927T100000
DTEND;TZID=America/New_York:20250927T170000
DTSTAMP:20260421T180055
CREATED:20250929T143918Z
LAST-MODIFIED:20250929T143918Z
UID:10069847-1758967200-1758992400@legacy.merrimackvalley.org
SUMMARY:National Alpaca Farm Days
DESCRIPTION:Join us for National Alpaca Farm Days this weekend at Harvard Alpaca Ranch! Celebrate our 9th anniversary with extra tours\, baby alpacas\, and fiber demonstrations. Enjoy live music and delicious food while supporting our farm. Don’t miss out on exclusive rewards for our loyal customers! Sign up now for a tour slot (www.harvardalpacaranch.com) and help us keep our alpacas healthy and happy!
URL:https://legacy.merrimackvalley.org/event/national-alpaca-farm-days-3/2025-09-27/
LOCATION:Harvard Alpaca Ranch\, 58 Old Mill Road\, Harvard\, MA\, 01451\, United States
CATEGORIES:Agricultural,Fairs & Festivals
ATTACH;FMTTYPE=image/jpeg:https://legacy.merrimackvalley.org/wp-content/uploads/2025/09/PXL_20250527_181153557.PORTRAIT2-1-scaled.jpg
ORGANIZER;CN="Harvard Alpaca Ranch":MAILTO:harvardalpacas@gmail.com
GEO:42.536035;-71.5868837
X-APPLE-STRUCTURED-LOCATION;VALUE=URI;X-ADDRESS=Harvard Alpaca Ranch 58 Old Mill Road Harvard MA 01451 United States;X-APPLE-RADIUS=500;X-TITLE=58 Old Mill Road:geo:-71.5868837,42.536035
END:VEVENT
BEGIN:VEVENT
DTSTART;TZID=America/New_York:20250928T100000
DTEND;TZID=America/New_York:20250928T170000
DTSTAMP:20260421T180055
CREATED:20250929T143918Z
LAST-MODIFIED:20250929T143918Z
UID:10069848-1759053600-1759078800@legacy.merrimackvalley.org
SUMMARY:National Alpaca Farm Days
DESCRIPTION:Join us for National Alpaca Farm Days this weekend at Harvard Alpaca Ranch! Celebrate our 9th anniversary with extra tours\, baby alpacas\, and fiber demonstrations. Enjoy live music and delicious food while supporting our farm. Don’t miss out on exclusive rewards for our loyal customers! Sign up now for a tour slot (www.harvardalpacaranch.com) and help us keep our alpacas healthy and happy!
URL:https://legacy.merrimackvalley.org/event/national-alpaca-farm-days-3/2025-09-28/
LOCATION:Harvard Alpaca Ranch\, 58 Old Mill Road\, Harvard\, MA\, 01451\, United States
CATEGORIES:Agricultural,Fairs & Festivals
ATTACH;FMTTYPE=image/jpeg:https://legacy.merrimackvalley.org/wp-content/uploads/2025/09/PXL_20250527_181153557.PORTRAIT2-1-scaled.jpg
ORGANIZER;CN="Harvard Alpaca Ranch":MAILTO:harvardalpacas@gmail.com
GEO:42.536035;-71.5868837
X-APPLE-STRUCTURED-LOCATION;VALUE=URI;X-ADDRESS=Harvard Alpaca Ranch 58 Old Mill Road Harvard MA 01451 United States;X-APPLE-RADIUS=500;X-TITLE=58 Old Mill Road:geo:-71.5868837,42.536035
END:VEVENT
END:VCALENDAR