BEGIN:VCALENDAR
VERSION:2.0
PRODID:-//Merrimack Valley Massachusetts - ECPv6.15.13//NONSGML v1.0//EN
CALSCALE:GREGORIAN
METHOD:PUBLISH
X-ORIGINAL-URL:https://legacy.merrimackvalley.org
X-WR-CALDESC:Events for Merrimack Valley Massachusetts
REFRESH-INTERVAL;VALUE=DURATION:PT1H
X-Robots-Tag:noindex
X-PUBLISHED-TTL:PT1H
BEGIN:VTIMEZONE
TZID:America/New_York
BEGIN:DAYLIGHT
TZOFFSETFROM:-0500
TZOFFSETTO:-0400
TZNAME:EDT
DTSTART:20230312T070000
END:DAYLIGHT
BEGIN:STANDARD
TZOFFSETFROM:-0400
TZOFFSETTO:-0500
TZNAME:EST
DTSTART:20231105T060000
END:STANDARD
BEGIN:DAYLIGHT
TZOFFSETFROM:-0500
TZOFFSETTO:-0400
TZNAME:EDT
DTSTART:20240310T070000
END:DAYLIGHT
BEGIN:STANDARD
TZOFFSETFROM:-0400
TZOFFSETTO:-0500
TZNAME:EST
DTSTART:20241103T060000
END:STANDARD
BEGIN:DAYLIGHT
TZOFFSETFROM:-0500
TZOFFSETTO:-0400
TZNAME:EDT
DTSTART:20250309T070000
END:DAYLIGHT
BEGIN:STANDARD
TZOFFSETFROM:-0400
TZOFFSETTO:-0500
TZNAME:EST
DTSTART:20251102T060000
END:STANDARD
END:VTIMEZONE
BEGIN:VEVENT
DTSTART;TZID=America/New_York:20240928T100000
DTEND;TZID=America/New_York:20240928T150000
DTSTAMP:20260424T172535
CREATED:20240927T122314Z
LAST-MODIFIED:20240927T122314Z
UID:10057921-1727517600-1727535600@legacy.merrimackvalley.org
SUMMARY:Free Community Health Fair
DESCRIPTION:Celebrate the Public Health Museum’s 30th Anniversary with a weekend of activities. On Saturday\, September 28th\, visit the museum at 365 East Street\, Tewksbury\, MA from 10AM-3PM for free health screenings\, flu shots\, mini-talks about Rabies\, HIV/AIDS\, Art as Healing\, and more. The museum will be open for tours and we’ll have groups such as MSNO\, MHOA\, MEHA\, UMass Lowell\, Billerica Tewksbury Animal Control\, and the Merrimack Valley Reserve Corps.\nVisit our website for more information at publichealthmuseum.org
URL:https://legacy.merrimackvalley.org/event/free-community-health-fair/
LOCATION:Public Health Museum\, East Street\, Tewksbury\, MA\, 01876\, United States
CATEGORIES:Fairs & Festivals,Free Events,Kids & Family
ATTACH;FMTTYPE=image/png:https://legacy.merrimackvalley.org/wp-content/uploads/2024/09/30th-Anniversary-Flyer-002.png
ORGANIZER;CN="Public Health Museum":MAILTO:info@publichealthmuseum.org
GEO:42.611262;-71.2188593
X-APPLE-STRUCTURED-LOCATION;VALUE=URI;X-ADDRESS=Public Health Museum East Street Tewksbury MA 01876 United States;X-APPLE-RADIUS=500;X-TITLE=East Street:geo:-71.2188593,42.611262
END:VEVENT
END:VCALENDAR