BEGIN:VCALENDAR
VERSION:2.0
PRODID:-//Merrimack Valley Massachusetts - ECPv6.15.13//NONSGML v1.0//EN
CALSCALE:GREGORIAN
METHOD:PUBLISH
X-ORIGINAL-URL:https://legacy.merrimackvalley.org
X-WR-CALDESC:Events for Merrimack Valley Massachusetts
REFRESH-INTERVAL;VALUE=DURATION:PT1H
X-Robots-Tag:noindex
X-PUBLISHED-TTL:PT1H
BEGIN:VTIMEZONE
TZID:America/New_York
BEGIN:DAYLIGHT
TZOFFSETFROM:-0500
TZOFFSETTO:-0400
TZNAME:EDT
DTSTART:20250309T070000
END:DAYLIGHT
BEGIN:STANDARD
TZOFFSETFROM:-0400
TZOFFSETTO:-0500
TZNAME:EST
DTSTART:20251102T060000
END:STANDARD
BEGIN:DAYLIGHT
TZOFFSETFROM:-0500
TZOFFSETTO:-0400
TZNAME:EDT
DTSTART:20260308T070000
END:DAYLIGHT
BEGIN:STANDARD
TZOFFSETFROM:-0400
TZOFFSETTO:-0500
TZNAME:EST
DTSTART:20261101T060000
END:STANDARD
BEGIN:DAYLIGHT
TZOFFSETFROM:-0500
TZOFFSETTO:-0400
TZNAME:EDT
DTSTART:20270314T070000
END:DAYLIGHT
BEGIN:STANDARD
TZOFFSETFROM:-0400
TZOFFSETTO:-0500
TZNAME:EST
DTSTART:20271107T060000
END:STANDARD
END:VTIMEZONE
BEGIN:VEVENT
DTSTART;TZID=America/New_York:20260730T080000
DTEND;TZID=America/New_York:20260730T170000
DTSTAMP:20260420T033813
CREATED:20251204T205734Z
LAST-MODIFIED:20251204T205734Z
UID:10072306-1785398400-1785430800@legacy.merrimackvalley.org
SUMMARY:Winter Lights at The Loading Dock Gallery
DESCRIPTION:December is a festive time at The Loading Dock Gallery and we invite you to partake in the celebration of the seasons. Winter Lights has become an annual tradition of holiday shoppers as a source of unique\, handcrafted\, giftable art and holiday decorations presented by more than 30 local artists. Shop Local and Shop Small and find that unique and extraordinary gift that will make this holiday memorable.
URL:https://legacy.merrimackvalley.org/event/winter-lights-at-the-loading-dock-gallery/2026-07-30/
LOCATION:Loading Dock Gallery\, 122 Western Avenue\, Lowell\, MA\, United States
CATEGORIES:Arts & Culture
ATTACH;FMTTYPE=image/png:https://legacy.merrimackvalley.org/wp-content/uploads/2025/12/thumbnail_WinterLights25.png
GEO:42.6398431;-71.3192968
X-APPLE-STRUCTURED-LOCATION;VALUE=URI;X-ADDRESS=Loading Dock Gallery 122 Western Avenue Lowell MA United States;X-APPLE-RADIUS=500;X-TITLE=122 Western Avenue:geo:-71.3192968,42.6398431
END:VEVENT
BEGIN:VEVENT
DTSTART;TZID=America/New_York:20260730T090000
DTEND;TZID=America/New_York:20260730T163000
DTSTAMP:20260420T033813
CREATED:20251113T140328Z
LAST-MODIFIED:20251113T140328Z
UID:10071146-1785402000-1785429000@legacy.merrimackvalley.org
SUMMARY:December Vacation Week at Discovery Museum at Discovery Museum
DESCRIPTION:Join us for a week of winter fun! Stop by the PlayLab where you can build with our collection of LEGO® bricks\, add your wish for the new year to our Winter Wishes Tree\, or settle in with a good book. Head out to Discovery Treehouse to Move Like an Animal and enjoy the sights and sounds of winter around Discovery Woods. \nSunday\, December 21 & Tuesday\, December 23 through* Tuesday\, December 30 9:00am to 4:30pm | *Museum Closed December 22\, 24 & 25
URL:https://legacy.merrimackvalley.org/event/december-vacation-week-at-discovery-museum-at-discovery-museum/2026-07-30/
LOCATION:Discovery Museum\, Discovery Museum\, 177 Main St\, Acton\, MA\, 01720\, United States
CATEGORIES:Annual & Special
ATTACH;FMTTYPE=image/jpeg:https://legacy.merrimackvalley.org/wp-content/uploads/2025/11/Noon-Years-Eve-2017-1.jpg
ORGANIZER;CN="Discovery Museum":MAILTO:fun@discoveryacton.org
GEO:42.464745;-71.4560492
X-APPLE-STRUCTURED-LOCATION;VALUE=URI;X-ADDRESS=Discovery Museum Discovery Museum 177 Main St Acton MA 01720 United States;X-APPLE-RADIUS=500;X-TITLE=Discovery Museum\, 177 Main St:geo:-71.4560492,42.464745
END:VEVENT
BEGIN:VEVENT
DTSTART;TZID=America/New_York:20260730T090000
DTEND;TZID=America/New_York:20260730T163000
DTSTAMP:20260420T033813
CREATED:20251113T140508Z
LAST-MODIFIED:20251113T140508Z
UID:10071519-1785402000-1785429000@legacy.merrimackvalley.org
SUMMARY:December Vacation Week at Discovery Museum at Discovery Museum
DESCRIPTION:Join us for a week of winter fun! Stop by the PlayLab where you can build with our collection of LEGO® bricks\, add your wish for the new year to our Winter Wishes Tree\, or settle in with a good book. Head out to Discovery Treehouse to Move Like an Animal and enjoy the sights and sounds of winter around Discovery Woods. \nSunday\, December 21 & Tuesday\, December 23 through* Tuesday\, December 30 9:00am to 4:30pm | *Museum Closed December 22\, 24 & 25
URL:https://legacy.merrimackvalley.org/event/december-vacation-week-at-discovery-museum-at-discovery-museum-2/2026-07-30/
LOCATION:Discovery Museum\, Discovery Museum\, 177 Main St\, Acton\, MA\, 01720\, United States
CATEGORIES:Kids & Family
ATTACH;FMTTYPE=image/jpeg:https://legacy.merrimackvalley.org/wp-content/uploads/2025/11/Winter-wishes-trees-scaled.jpg
ORGANIZER;CN="Discovery Museum":MAILTO:fun@discoveryacton.org
GEO:42.464745;-71.4560492
X-APPLE-STRUCTURED-LOCATION;VALUE=URI;X-ADDRESS=Discovery Museum Discovery Museum 177 Main St Acton MA 01720 United States;X-APPLE-RADIUS=500;X-TITLE=Discovery Museum\, 177 Main St:geo:-71.4560492,42.464745
END:VEVENT
END:VCALENDAR