BEGIN:VCALENDAR
VERSION:2.0
PRODID:-//Merrimack Valley Massachusetts - ECPv6.15.13//NONSGML v1.0//EN
CALSCALE:GREGORIAN
METHOD:PUBLISH
X-WR-CALNAME:Merrimack Valley Massachusetts
X-ORIGINAL-URL:https://legacy.merrimackvalley.org
X-WR-CALDESC:Events for Merrimack Valley Massachusetts
REFRESH-INTERVAL;VALUE=DURATION:PT1H
X-Robots-Tag:noindex
X-PUBLISHED-TTL:PT1H
BEGIN:VTIMEZONE
TZID:America/New_York
BEGIN:DAYLIGHT
TZOFFSETFROM:-0500
TZOFFSETTO:-0400
TZNAME:EDT
DTSTART:20240310T070000
END:DAYLIGHT
BEGIN:STANDARD
TZOFFSETFROM:-0400
TZOFFSETTO:-0500
TZNAME:EST
DTSTART:20241103T060000
END:STANDARD
BEGIN:DAYLIGHT
TZOFFSETFROM:-0500
TZOFFSETTO:-0400
TZNAME:EDT
DTSTART:20250309T070000
END:DAYLIGHT
BEGIN:STANDARD
TZOFFSETFROM:-0400
TZOFFSETTO:-0500
TZNAME:EST
DTSTART:20251102T060000
END:STANDARD
BEGIN:DAYLIGHT
TZOFFSETFROM:-0500
TZOFFSETTO:-0400
TZNAME:EDT
DTSTART:20260308T070000
END:DAYLIGHT
BEGIN:STANDARD
TZOFFSETFROM:-0400
TZOFFSETTO:-0500
TZNAME:EST
DTSTART:20261101T060000
END:STANDARD
BEGIN:DAYLIGHT
TZOFFSETFROM:-0500
TZOFFSETTO:-0400
TZNAME:EDT
DTSTART:20270314T070000
END:DAYLIGHT
BEGIN:STANDARD
TZOFFSETFROM:-0400
TZOFFSETTO:-0500
TZNAME:EST
DTSTART:20271107T060000
END:STANDARD
END:VTIMEZONE
BEGIN:VEVENT
DTSTART;TZID=America/New_York:20250906T093000
DTEND;TZID=America/New_York:20260704T160000
DTSTAMP:20260419T225537
CREATED:20250805T190652Z
LAST-MODIFIED:20250805T190652Z
UID:10068714-1757151000-1783180800@legacy.merrimackvalley.org
SUMMARY:The American Revolution: A story of the War in 28 Paintings
DESCRIPTION:1776 was more than a turning point; it marked the birth of a new world order. A bold line was drawn as ordinary people made extraordinary decisions\, declaring independence from the most powerful empire on earth. Driven by youthful fire\, they believed in the promise of liberty more than they feared the cost of pursuing it.\nHistoric Beverly proudly presents The American Revolution: A story of the War in 28 Paintings\, a once-in-a-lifetime exhibition of artworks commissioned to illustrate Senator Henry Cabot Lodge Sr.’s landmark book.\nThese paintings are featured in Ken Burns’ upcoming documentary The American Revolution. The exhibit will be on display at the Cabot House from September 6\, 2025 to July 4\, 2026. Tickets are free and open to the public.
URL:https://legacy.merrimackvalley.org/event/the-american-revolution-a-story-of-the-war-in-28-paintings/
LOCATION:Cabot House\, 117 Cabot Street\, Beverly\, 01915\, United States
CATEGORIES:Arts & Culture,Exhibits,Free Events,Historical
ATTACH;FMTTYPE=image/jpeg:https://legacy.merrimackvalley.org/wp-content/uploads/2025/08/HB-Revolution_logo_4C.jpg
GEO:42.5458881;-70.879902
X-APPLE-STRUCTURED-LOCATION;VALUE=URI;X-ADDRESS=Cabot House 117 Cabot Street Beverly 01915 United States;X-APPLE-RADIUS=500;X-TITLE=117 Cabot Street:geo:-70.879902,42.5458881
END:VEVENT
BEGIN:VEVENT
DTSTART;TZID=America/New_York:20260413T080000
DTEND;TZID=America/New_York:20260413T170000
DTSTAMP:20260419T225537
CREATED:20251204T205734Z
LAST-MODIFIED:20251204T205734Z
UID:10072198-1776067200-1776099600@legacy.merrimackvalley.org
SUMMARY:Winter Lights at The Loading Dock Gallery
DESCRIPTION:December is a festive time at The Loading Dock Gallery and we invite you to partake in the celebration of the seasons. Winter Lights has become an annual tradition of holiday shoppers as a source of unique\, handcrafted\, giftable art and holiday decorations presented by more than 30 local artists. Shop Local and Shop Small and find that unique and extraordinary gift that will make this holiday memorable.
URL:https://legacy.merrimackvalley.org/event/winter-lights-at-the-loading-dock-gallery/2026-04-13/
LOCATION:Loading Dock Gallery\, 122 Western Avenue\, Lowell\, MA\, United States
CATEGORIES:Arts & Culture
ATTACH;FMTTYPE=image/png:https://legacy.merrimackvalley.org/wp-content/uploads/2025/12/thumbnail_WinterLights25.png
GEO:42.6398431;-71.3192968
X-APPLE-STRUCTURED-LOCATION;VALUE=URI;X-ADDRESS=Loading Dock Gallery 122 Western Avenue Lowell MA United States;X-APPLE-RADIUS=500;X-TITLE=122 Western Avenue:geo:-71.3192968,42.6398431
END:VEVENT
BEGIN:VEVENT
DTSTART;TZID=America/New_York:20260413T090000
DTEND;TZID=America/New_York:20260413T163000
DTSTAMP:20260419T225537
CREATED:20251113T140328Z
LAST-MODIFIED:20251113T140328Z
UID:10071038-1776070800-1776097800@legacy.merrimackvalley.org
SUMMARY:December Vacation Week at Discovery Museum at Discovery Museum
DESCRIPTION:Join us for a week of winter fun! Stop by the PlayLab where you can build with our collection of LEGO® bricks\, add your wish for the new year to our Winter Wishes Tree\, or settle in with a good book. Head out to Discovery Treehouse to Move Like an Animal and enjoy the sights and sounds of winter around Discovery Woods. \nSunday\, December 21 & Tuesday\, December 23 through* Tuesday\, December 30 9:00am to 4:30pm | *Museum Closed December 22\, 24 & 25
URL:https://legacy.merrimackvalley.org/event/december-vacation-week-at-discovery-museum-at-discovery-museum/2026-04-13/
LOCATION:Discovery Museum\, Discovery Museum\, 177 Main St\, Acton\, MA\, 01720\, United States
CATEGORIES:Annual & Special
ATTACH;FMTTYPE=image/jpeg:https://legacy.merrimackvalley.org/wp-content/uploads/2025/11/Noon-Years-Eve-2017-1.jpg
ORGANIZER;CN="Discovery Museum":MAILTO:fun@discoveryacton.org
GEO:42.464745;-71.4560492
X-APPLE-STRUCTURED-LOCATION;VALUE=URI;X-ADDRESS=Discovery Museum Discovery Museum 177 Main St Acton MA 01720 United States;X-APPLE-RADIUS=500;X-TITLE=Discovery Museum\, 177 Main St:geo:-71.4560492,42.464745
END:VEVENT
BEGIN:VEVENT
DTSTART;TZID=America/New_York:20260413T090000
DTEND;TZID=America/New_York:20260413T163000
DTSTAMP:20260419T225537
CREATED:20251113T140508Z
LAST-MODIFIED:20251113T140508Z
UID:10071411-1776070800-1776097800@legacy.merrimackvalley.org
SUMMARY:December Vacation Week at Discovery Museum at Discovery Museum
DESCRIPTION:Join us for a week of winter fun! Stop by the PlayLab where you can build with our collection of LEGO® bricks\, add your wish for the new year to our Winter Wishes Tree\, or settle in with a good book. Head out to Discovery Treehouse to Move Like an Animal and enjoy the sights and sounds of winter around Discovery Woods. \nSunday\, December 21 & Tuesday\, December 23 through* Tuesday\, December 30 9:00am to 4:30pm | *Museum Closed December 22\, 24 & 25
URL:https://legacy.merrimackvalley.org/event/december-vacation-week-at-discovery-museum-at-discovery-museum-2/2026-04-13/
LOCATION:Discovery Museum\, Discovery Museum\, 177 Main St\, Acton\, MA\, 01720\, United States
CATEGORIES:Kids & Family
ATTACH;FMTTYPE=image/jpeg:https://legacy.merrimackvalley.org/wp-content/uploads/2025/11/Winter-wishes-trees-scaled.jpg
ORGANIZER;CN="Discovery Museum":MAILTO:fun@discoveryacton.org
GEO:42.464745;-71.4560492
X-APPLE-STRUCTURED-LOCATION;VALUE=URI;X-ADDRESS=Discovery Museum Discovery Museum 177 Main St Acton MA 01720 United States;X-APPLE-RADIUS=500;X-TITLE=Discovery Museum\, 177 Main St:geo:-71.4560492,42.464745
END:VEVENT
BEGIN:VEVENT
DTSTART;TZID=America/New_York:20260413T093000
DTEND;TZID=America/New_York:20260415T180000
DTSTAMP:20260419T225537
CREATED:20251201T152458Z
LAST-MODIFIED:20251201T152458Z
UID:10072017-1776072600-1776276000@legacy.merrimackvalley.org
SUMMARY:International Conference on Public Health and Health Care System
DESCRIPTION:PAGES conferences are excited to invite you to the upcoming International Conference on Public Health and Health Care System\, scheduled to take place from April 13-15\, 2026 in the city of finance Paris\, France. \nThis event will bring together leading experts for keynote addresses\, dynamic panel discussions\, and engaging workshops that aim to poster collaboration and inspire innovative ideas. Topics will span a range of critical areas\, including disease prevention\, health promotion\, epidemiology\, environmental health\, and global health policy. \nOverall\, the International Conference on Public Health and Health Care Research and Development promises to be an important forum for advancing our understanding of Public Health and Health Care and exploring innovative solutions to global health challenges. \nWe eagerly anticipate your participation in this exciting and inspiring event in Paris\, France. \nSincerely\,\nJyothsna P | Conference Secretary\nPublic Health-2026
URL:https://legacy.merrimackvalley.org/event/international-conference-on-public-health-and-health-care-system/
LOCATION:Paris\, France\, Paris\, France\, Paris\, Select a State:\, 75003\, France
CATEGORIES:Annual & Special
ATTACH;FMTTYPE=image/jpeg:https://legacy.merrimackvalley.org/wp-content/uploads/2025/11/PUBLIC-HEALTH-2026-Logo-Pages-1.jpg
ORGANIZER;CN="PANGEA GLOBAL EVENTS":MAILTO:publichealth@pagesconferences.org
GEO:48.8575475;2.3513765
X-APPLE-STRUCTURED-LOCATION;VALUE=URI;X-ADDRESS=Paris France Paris France Paris Select a State: 75003 France;X-APPLE-RADIUS=500;X-TITLE=Paris\, France:geo:2.3513765,48.8575475
END:VEVENT
END:VCALENDAR